- Раздел: Животные
- Дата съёмки: 17.02.2011 15:47
- Дата загрузки фото: 17.02.2011 20:46
- Оригинальная фотография: 665 x 900 (364 Кб)
- Технические характеристики:
- Фотоаппарат: Canon EOS 7D
- Выдержка: 1/640
- Гиперфокальное расстояние: inf m
- Диафрагма: 6,3
- Светочувствительность: 3200
- Фокусное расстояние: 300,0 mm (35 mm equivalent: 2400,0 mm)
- Полный EXIF
- Adobe
- ColorTransform: YCbCr
- Composite
- Aperture: 6,3
- CircleOfConfusion: 0,003 mm
- DOF: inf (0,00 m - inf)
- FOV: 0,0 deg
- FocalLength35efl: 300,0 mm (35 mm equivalent: 2400,0 mm)
- GPSLatitude: 32 deg 18' 42,00" N
- GPSLongitude: 34 deg 56' 1,00" E
- GPSPosition: 32 deg 18' 42,00" N, 34 deg 56' 1,00" E
- HyperfocalDistance: inf m
- ScaleFactor35efl: 8,8
- ShutterSpeed: 1/640
- ExifIFD
- ApertureValue: 6,3
- ColorSpace: sRGB
- CreateDate: 2011:02:17 15:47:29
- CustomRendered: Normal
- DateTimeOriginal: 2011:02:17 15:47:29
- ExifImageHeight: 900
- ExifImageWidth: 665
- ExposureCompensation: 0
- ExposureMode: Manual
- ExposureProgram: Manual
- ExposureTime: 1/640
- FNumber: 6,3
- Flash: Off, Did not fire
- FocalLength: 300,0 mm
- ISO: 3200
- LensInfo: 70-300mm f/?
- LensModel: 70-300mm
- MaxApertureValue: 5,4
- MeteringMode: Multi-segment
- OwnerName: Michael Ortenberg
- SceneCaptureType: Standard
- SensitivityType: Unknown
- SerialNumber: 1781018879
- ShutterSpeedValue: 1/640
- SubjectDistance: 5,04 m
- WhiteBalance: Auto
- GPS
- GPSAltitudeRef: Above Sea Level
- GPSLatitude: 32 deg 18' 42,00"
- GPSLatitudeRef: North
- GPSLongitude: 34 deg 56' 1,00"
- GPSLongitudeRef: East
- GPSVersionID: 2.2.0.0
- ICC-header
- ICC-meas
- ICC-view
- IFD0
- Artist: Michael Ortenberg
- Copyright: Michael Ortenberg
- Make: Canon
- Model: Canon EOS 7D
- ModifyDate: 2011:02:17 17:44:13
- Orientation: Horizontal (normal)
- IFD1
- IPTC
- By-line: Michael Ortenberg
- CopyrightNotice: Michael Ortenberg
- System
- XMP-aux
- ApproximateFocusDistance: 5,04
- Firmware: 1.2.3
- FlashCompensation: 0
- ImageNumber: 0
- Lens: 70-300mm
- LensID: 156
- XMP-crs
- AlreadyApplied: True
- BlueHue: 0
- BlueSaturation: 0
- Brightness: +50
- ChromaticAberrationB: 0
- ChromaticAberrationR: 0
- Clarity: +13
- ColorNoiseReduction: 29
- ColorNoiseReductionDetail: 57
- Contrast: +72
- ConvertToGrayscale: False
- CropAngle: 0
- CropBottom: 0.777188
- CropConstrainToWarp: 0
- CropHeight: 2301
- CropLeft: 0.413794
- CropRight: 0.741822
- CropTop: 0.111406
- CropUnit: pixels
- CropWidth: 1700
- Defringe: 0
- Exposure: +0.32
- FillLight: 0
- GrainAmount: 0
- GreenHue: 0
- GreenSaturation: 0
- HasCrop: True
- HasSettings: True
- HighlightRecovery: 0
- HueAdjustmentAqua: 0
- HueAdjustmentBlue: 0
- HueAdjustmentGreen: 0
- HueAdjustmentMagenta: 0
- HueAdjustmentOrange: 0
- HueAdjustmentPurple: 0
- HueAdjustmentRed: 0
- HueAdjustmentYellow: 0
- LensManualDistortionAmount: 0
- LensProfileChromaticAberrationScale: 100
- LensProfileDistortionScale: 100
- LensProfileEnable: 1
- LensProfileFilename: Canon (TAMRON SP 70-300mm F4-5.6 Di VC USD A005E) - RAW.lcp
- LensProfileSetup: Custom
- LensProfileVignettingScale: 100
- LuminanceAdjustmentAqua: 0
- LuminanceAdjustmentBlue: 0
- LuminanceAdjustmentGreen: 0
- LuminanceAdjustmentMagenta: 0
- LuminanceAdjustmentOrange: 0
- LuminanceAdjustmentPurple: 0
- LuminanceAdjustmentRed: 0
- LuminanceAdjustmentYellow: 0
- LuminanceNoiseReductionContrast: 8
- LuminanceNoiseReductionDetail: 53
- LuminanceSmoothing: 30
- PaintCorrectionActive: true
- PaintCorrectionAmount: 1.000000
- PaintCorrectionBrightness: -0.171000
- PaintCorrectionClarity: 0.707000
- PaintCorrectionContrast: 0.634000
- PaintCorrectionExposure: 0.512000
- PaintCorrectionHue: 0.000000
- PaintCorrectionMaskCenterWeight: 0.068529
- PaintCorrectionMaskFlow: 0.823000
- PaintCorrectionMaskRadius: 0.025865
- PaintCorrectionMaskValue: 0.726000
- PaintCorrectionMaskWhat: Mask/Paint
- PaintCorrectionSaturation: 0.000000
- PaintCorrectionSharpness: 0.585000
- PaintCorrectionWhat: Correction
- ParametricDarks: +7
- ParametricHighlightSplit: 75
- ParametricHighlights: 0
- ParametricLights: 0
- ParametricMidtoneSplit: 50
- ParametricShadowSplit: 25
- ParametricShadows: -7
- PerspectiveHorizontal: 0
- PerspectiveRotate: 0.0
- PerspectiveScale: 100
- PerspectiveVertical: 0
- PostCropVignetteAmount: 0
- ProcessVersion: 5.7
- RedHue: 0
- RedSaturation: 0
- Saturation: +8
- SaturationAdjustmentAqua: 0
- SaturationAdjustmentBlue: 0
- SaturationAdjustmentGreen: 0
- SaturationAdjustmentMagenta: 0
- SaturationAdjustmentOrange: 0
- SaturationAdjustmentPurple: 0
- SaturationAdjustmentRed: 0
- SaturationAdjustmentYellow: 0
- ShadowTint: 0
- Shadows: 5
- SharpenDetail: 45
- SharpenEdgeMasking: 0
- SharpenRadius: +1.0
- Sharpness: 45
- SplitToningBalance: 0
- SplitToningHighlightHue: 0
- SplitToningHighlightSaturation: 0
- SplitToningShadowHue: 0
- SplitToningShadowSaturation: 0
- Temperature: 5000
- Tint: +33
- ToneCurve: 0, 0, 32, 22, 64, 56, 128, 128, 192, 196, 255, 255
- ToneCurveName: Medium Contrast
- Version: 6.3
- Vibrance: +8
- VignetteAmount: 0
- WhiteBalance: As Shot
- XMP-dc
- Creator: Michael Ortenberg
- Format: image/jpeg
- Rights: Michael Ortenberg
- XMP-exif
- DateTimeOriginal: 2011:02:17 15:47:29.46+02:00
- FlashFired: False
- FlashFunction: False
- FlashMode: Off
- FlashRedEyeMode: False
- FlashReturn: No return detection
- XMP-tiff
- ImageHeight: 2301
- ImageWidth: 1700
- XMP-x
- XMP-xmp
- CreateDate: 2011:02:17 15:47:29.46+02:00
- ModifyDate: 2011:02:17 17:44:13+02:00
- XMP-xmpMM