- Раздел: Путешествия
- Дата съёмки: 19.01.2009 14:35
- Дата загрузки фото: 19.02.2011 11:15
- Оригинальная фотография: 1600 x 1085 (266 Кб)
- Технические характеристики:
- Фотоаппарат: Pentax K200D
- Выдержка: 1/100
- Светочувствительность: 100
- Фокусное расстояние: 45,0 mm (35 mm equivalent: 45,0 mm)
- Полный EXIF
- Adobe
- ColorTransform: YCbCr
- Composite
- CircleOfConfusion: 0,020 mm
- FOV: 43,0 deg
- FocalLength35efl: 45,0 mm (35 mm equivalent: 45,0 mm)
- ScaleFactor35efl: 1,5
- ShutterSpeed: 1/100
- ExifIFD
- Contrast: Normal
- CreateDate: 2009:01:19 14:35:34
- CustomRendered: Normal
- DateTimeOriginal: 2009:01:19 14:35:34
- ExposureCompensation: 0
- ExposureMode: Manual
- ExposureProgram: Manual
- ExposureTime: 1/100
- Flash: Off, Did not fire
- FocalLength: 45,0 mm
- FocalLengthIn35mmFormat: 67 mm
- ISO: 100
- MeteringMode: Spot
- Saturation: Normal
- SceneCaptureType: Standard
- SensingMethod: One-chip color area
- Sharpness: Soft
- ShutterSpeedValue: 1/100
- SubjectDistanceRange: Distant
- WhiteBalance: Auto
- ICC-header
- ICC-meas
- ICC-view
- IFD0
- Artist: Balashevich Viachaslau
- Copyright: Copyrighted
- Make: PENTAX Corporation
- Model: PENTAX K200D
- ModifyDate: 2010:10:14 21:22:48
- Software: K200D Ver 1.00
- IFD1
- IPTC
- By-line: Balashevich Viachaslau
- CopyrightNotice: Copyrighted
- System
- XMP-aux
- Lens: K,M Lens
- LensID: 1 0
- XMP-crs
- AlreadyApplied: True
- BlueHue: 0
- BlueSaturation: 0
- Brightness: +50
- CameraProfile: Embedded
- ChromaticAberrationB: 0
- ChromaticAberrationR: 0
- Clarity: +34
- ColorNoiseReduction: 25
- Contrast: +95
- ConvertToGrayscale: True
- CropAngle: 0.974389
- CropBottom: 0.99636
- CropHeight: 1085
- CropLeft: 0.021144
- CropRight: 0.966387
- CropTop: 0.003323
- CropUnit: pixels
- CropWidth: 1600
- Defringe: 0
- Exposure: 0.00
- FillLight: 0
- GrayMixerAqua: -11
- GrayMixerBlue: +39
- GrayMixerGreen: -43
- GrayMixerMagenta: +5
- GrayMixerOrange: -7
- GrayMixerPurple: +9
- GrayMixerRed: -7
- GrayMixerYellow: -50
- GreenHue: 0
- GreenSaturation: 0
- HasCrop: True
- HasSettings: True
- HighlightRecovery: 0
- LuminanceSmoothing: 0
- ParametricDarks: -20
- ParametricHighlightSplit: 75
- ParametricHighlights: +100
- ParametricLights: 0
- ParametricMidtoneSplit: 50
- ParametricShadowSplit: 25
- ParametricShadows: +41
- PostCropVignetteAmount: 0
- RedHue: 0
- RedSaturation: 0
- ShadowTint: 0
- Shadows: 0
- SharpenDetail: 25
- SharpenEdgeMasking: 0
- SharpenRadius: +1.0
- Sharpness: 25
- SplitToningBalance: 0
- SplitToningHighlightHue: 0
- SplitToningHighlightSaturation: 0
- SplitToningShadowHue: 0
- SplitToningShadowSaturation: 0
- Temperature: 6659
- Tint: +94
- ToneCurve: 0, 0, 32, 22, 64, 56, 128, 128, 192, 196, 255, 255
- ToneCurveName: Medium Contrast
- Version: 5.4
- VignetteAmount: 0
- WhiteBalance: Custom
- XMP-dc
- Creator: Balashevich Viachaslau
- Rights: Copyrighted
- XMP-exif
- DateTimeDigitized: 2009:01:19 14:35:34+02:00
- DateTimeOriginal: 2009:01:19 14:35:34+02:00
- ExifImageHeight: 1085
- ExifImageWidth: 1600
- FlashFired: False
- FlashFunction: False
- FlashMode: Off
- FlashRedEyeMode: False
- FlashReturn: No return detection
- XMP-iptcCore
- CreatorCity: Miensk
- CreatorCountry: Niezaliezhnaja Respublika Mroja
- CreatorWorkEmail: fotomail@tut.by
- XMP-tiff
- ImageHeight: 1085
- ImageWidth: 1600
- XMP-xmp
- CreateDate: 2009:01:19 14:35:34+02:00
- ModifyDate: 2010:10:14 21:22:48+03:00
- XMP-xmpRights
- Marked: True
- UsageTerms: for private use only
- Просмотров: 280
- Рейтинг: голосов еще нет
- Отзывов: отключены