- Раздел: Животные
- Дата съёмки: 19.02.2011 10:13
- Дата загрузки фото: 19.02.2011 22:57
- Оригинальная фотография: 1478 x 1000 (311 Кб)
- Технические характеристики:
- Фотоаппарат: Canon EOS 7D
- Выдержка: 1/1250
- Гиперфокальное расстояние: inf m
- Диафрагма: 7,1
- Светочувствительность: 320
- Фокусное расстояние: 300,0 mm (35 mm equivalent: 1500,0 mm)
- Полный EXIF
- Adobe
- ColorTransform: YCbCr
- Composite
- Aperture: 7,1
- CircleOfConfusion: 0,005 mm
- DOF: inf (0,00 m - inf)
- FOV: 1,0 deg
- FocalLength35efl: 300,0 mm (35 mm equivalent: 1500,0 mm)
- HyperfocalDistance: inf m
- ScaleFactor35efl: 5,5
- ShutterSpeed: 1/1250
- ExifIFD
- ColorSpace: sRGB
- DateTimeOriginal: 2011:02:19 10:13:11
- ExifImageHeight: 1000
- ExifImageWidth: 1478
- ExposureTime: 1/1250
- FNumber: 7,1
- FocalLength: 300,0 mm
- ISO: 320
- ICC-header
- ICC-meas
- ICC-view
- IFD0
- Artist: Michael Ortenberg
- BitsPerSample: 16 16 16
- Copyright: Michael Ortenberg
- ImageHeight: 1925
- ImageWidth: 2846
- Model: Canon EOS 7D
- ModifyDate: 2011:02:19 18:43:57
- Orientation: Horizontal (normal)
- PhotometricInterpretation: RGB
- PlanarConfiguration: Chunky
- SamplesPerPixel: 3
- IFD1
- IPTC
- By-line: Michael Ortenberg
- CopyrightNotice: Michael Ortenberg
- System
- XMP-aux
- ApproximateFocusDistance: 4294967295
- Firmware: 1.2.3
- FlashCompensation: 0
- ImageNumber: 0
- Lens: 70-300mm
- LensID: 156
- LensInfo: 70-300mm f/?
- OwnerName: Michael Ortenberg
- SerialNumber: 1781018879
- XMP-crs
- AlreadyApplied: True
- BlueHue: 0
- BlueSaturation: 0
- Brightness: +50
- ChromaticAberrationB: 0
- ChromaticAberrationR: 0
- Clarity: +8
- ColorNoiseReduction: 29
- ColorNoiseReductionDetail: 54
- Contrast: +76
- ConvertToGrayscale: False
- CropAngle: 0
- CropBottom: 0.700266
- CropConstrainToWarp: 0
- CropHeight: 1925
- CropLeft: 0.079576
- CropRight: 0.628647
- CropTop: 0.143236
- CropUnit: pixels
- CropWidth: 2846
- Defringe: 0
- Exposure: -1.33
- FillLight: 3
- GrainAmount: 0
- GreenHue: 0
- GreenSaturation: 0
- HasCrop: True
- HasSettings: True
- HighlightRecovery: 5
- HueAdjustmentAqua: 0
- HueAdjustmentBlue: 0
- HueAdjustmentGreen: 0
- HueAdjustmentMagenta: 0
- HueAdjustmentOrange: 0
- HueAdjustmentPurple: 0
- HueAdjustmentRed: 0
- HueAdjustmentYellow: 0
- LensManualDistortionAmount: 0
- LensProfileChromaticAberrationScale: 100
- LensProfileDistortionScale: 100
- LensProfileEnable: 1
- LensProfileFilename: Canon (TAMRON SP 70-300mm F4-5.6 Di VC USD A005E) - RAW.lcp
- LensProfileSetup: Custom
- LensProfileVignettingScale: 100
- LuminanceAdjustmentAqua: +7
- LuminanceAdjustmentBlue: +9
- LuminanceAdjustmentGreen: 0
- LuminanceAdjustmentMagenta: 0
- LuminanceAdjustmentOrange: 0
- LuminanceAdjustmentPurple: 0
- LuminanceAdjustmentRed: 0
- LuminanceAdjustmentYellow: 0
- LuminanceNoiseReductionContrast: 6
- LuminanceNoiseReductionDetail: 51
- LuminanceSmoothing: 14
- ParametricDarks: +52
- ParametricHighlightSplit: 75
- ParametricHighlights: -33
- ParametricLights: -62
- ParametricMidtoneSplit: 50
- ParametricShadowSplit: 25
- ParametricShadows: -49
- PerspectiveHorizontal: 0
- PerspectiveRotate: 0.0
- PerspectiveScale: 100
- PerspectiveVertical: 0
- PostCropVignetteAmount: 0
- ProcessVersion: 5.7
- RedHue: 0
- RedSaturation: 0
- Saturation: +3
- SaturationAdjustmentAqua: 0
- SaturationAdjustmentBlue: 0
- SaturationAdjustmentGreen: 0
- SaturationAdjustmentMagenta: 0
- SaturationAdjustmentOrange: 0
- SaturationAdjustmentPurple: 0
- SaturationAdjustmentRed: 0
- SaturationAdjustmentYellow: 0
- ShadowTint: 0
- Shadows: 5
- SharpenDetail: 45
- SharpenEdgeMasking: 0
- SharpenRadius: +1.0
- Sharpness: 45
- SplitToningBalance: 0
- SplitToningHighlightHue: 0
- SplitToningHighlightSaturation: 0
- SplitToningShadowHue: 0
- SplitToningShadowSaturation: 0
- Temperature: 6000
- Tint: +28
- ToneCurve: 0, 0, 32, 22, 64, 56, 128, 128, 192, 196, 255, 255
- ToneCurveName: Medium Contrast
- Version: 6.3
- Vibrance: +6
- VignetteAmount: 0
- WhiteBalance: As Shot
- XMP-dc
- Creator: Michael Ortenberg
- Format: image/jpeg
- Rights: Michael Ortenberg
- XMP-exif
- ApertureValue: 7,1
- CustomRendered: Normal
- DateTimeDigitized: 2011:02:19 10:13:11.84+02:00
- DateTimeOriginal: 2011:02:19 10:13:11.84+02:00
- ExposureCompensation: 0
- ExposureMode: Manual
- ExposureProgram: Manual
- FlashFired: False
- FlashFunction: False
- FlashMode: Off
- FlashRedEyeMode: False
- FlashReturn: No return detection
- MaxApertureValue: 5,4
- MeteringMode: Multi-segment
- SceneCaptureType: Standard
- ShutterSpeedValue: 1/1250
- SubjectDistance: 4294967295 m
- WhiteBalance: Auto
- XMP-pmtm
- BlackClip: 0.000000
- ColorSaturation: 50.0
- ColorTemperature: 0.0
- Gamma: 1.2
- HighlightsSmoothing: 17.0
- Luminosity: 0.0
- Method: Details Enhancer
- Microcontrast: 0.0
- Microsmoothing: 12.4
- SaturationHighlights: 0.0
- SaturationShadows: 0.0
- ShadowsClipping: 76.0
- ShadowsSmoothing: 11.0
- Smoothing: 1.6
- SmoothingMode: Slider
- Strength: 76.0
- Version: 4.0
- WhiteClip: 0.030900
- XMP-tiff
- BitsPerSample: 16, 16, 16
- Make: Canon
- XMP-xmp
- CreateDate: 2011:02:19 10:13:11.84+02:00
- ModifyDate: 2011:02:19 18:43:57+02:00
- XMP-xmpMM
- Просмотров: 287
- Рейтинг: голосов еще нет
- Отзывов: 0