Уважаемые друзья и участники проекта iXBT.photo! К сожалению, 1 марта 2026 года проект iXBT.photo прекратит свою работу и будет закрыт. Мы высоко ценим ваше участие и тот вклад, который вы внесли в развитие нашего сообщества. Пожалуйста, не забудьте сохранить ваши фотографии до этой даты.
С уважением, команда iXBT.com
| Ввысь.jpg |
Ввысь.jpg
- Раздел: Город
- Дата съёмки: 16.02.2011 17:38
- Дата загрузки фото: 28.02.2011 00:20
- Оригинальная фотография: 1286 x 1000 (927 Кб)
- Технические характеристики:
- Фотоаппарат: FujiFilm FinePix S200EXR
- Выдержка: 1/30
- Гиперфокальное расстояние: inf m
- Диафрагма: 2,8
- Светочувствительность: 200
- Фокусное расстояние: 7,0 mm (35 mm equivalent: 91,0 mm)
- Полный EXIF
- Adobe
- ColorTransform: YCbCr
- Composite
- Aperture: 2,8
- CircleOfConfusion: 0,002 mm
- FOV: 22,0 deg
- FocalLength35efl: 7,0 mm (35 mm equivalent: 91,0 mm)
- HyperfocalDistance: inf m
- ScaleFactor35efl: 13,3
- ShutterSpeed: 1/30
- ExifIFD
- ApertureValue: 2,8
- BrightnessValue: 2,24
- ColorSpace: sRGB
- CreateDate: 2011:02:16 17:38:54
- CustomRendered: Normal
- DateTimeOriginal: 2011:02:16 17:38:54
- ExifImageHeight: 1000
- ExifImageWidth: 1286
- ExposureCompensation: 0
- ExposureMode: Auto
- ExposureProgram: Program AE
- ExposureTime: 1/30
- FNumber: 2,8
- Flash: Off, Did not fire
- FocalLength: 7,1 mm
- ISO: 200
- LightSource: Unknown
- MaxApertureValue: 2,8
- MeteringMode: Spot
- SceneCaptureType: Standard
- SceneType: Directly photographed
- SensingMethod: One-chip color area
- Sharpness: Normal
- ShutterSpeedValue: 1/30
- SubjectDistanceRange: Unknown
- WhiteBalance: Manual
- ICC-header
- ICC-meas
- ICC-view
- IFD0
- Make: FUJIFILM
- Model: FinePix S200EXR
- ModifyDate: 2011:02:28 00:19:47
- Orientation: Horizontal (normal)
- IFD1
- IPTC
- System
- XMP-crs
- AlreadyApplied: True
- BlueHue: 0
- BlueSaturation: 0
- Brightness: +47
- CameraProfile: Embedded
- ChromaticAberrationB: 0
- ChromaticAberrationR: 0
- Clarity: +53
- ColorNoiseReduction: 25
- Contrast: +47
- ConvertToGrayscale: False
- Defringe: 0
- Exposure: -0.89
- FillLight: 55
- GreenHue: 0
- GreenSaturation: 0
- HasCrop: False
- HasSettings: True
- HighlightRecovery: 93
- HueAdjustmentAqua: -48
- HueAdjustmentBlue: 0
- HueAdjustmentGreen: +34
- HueAdjustmentMagenta: +29
- HueAdjustmentOrange: +36
- HueAdjustmentPurple: 0
- HueAdjustmentRed: +27
- HueAdjustmentYellow: -46
- IncrementalTemperature: +36
- IncrementalTint: -29
- LuminanceAdjustmentAqua: 0
- LuminanceAdjustmentBlue: 0
- LuminanceAdjustmentGreen: +72
- LuminanceAdjustmentMagenta: 0
- LuminanceAdjustmentOrange: 0
- LuminanceAdjustmentPurple: 0
- LuminanceAdjustmentRed: 0
- LuminanceAdjustmentYellow: 0
- LuminanceSmoothing: 14
- ParametricDarks: -35
- ParametricHighlightSplit: 67
- ParametricHighlights: -21
- ParametricLights: -71
- ParametricMidtoneSplit: 45
- ParametricShadowSplit: 31
- ParametricShadows: +100
- PostCropVignetteAmount: 0
- RedHue: 0
- RedSaturation: 0
- Saturation: 0
- SaturationAdjustmentAqua: 0
- SaturationAdjustmentBlue: 0
- SaturationAdjustmentGreen: +79
- SaturationAdjustmentMagenta: 0
- SaturationAdjustmentOrange: 0
- SaturationAdjustmentPurple: 0
- SaturationAdjustmentRed: 0
- SaturationAdjustmentYellow: 0
- ShadowTint: 0
- Shadows: 45
- SharpenDetail: 50
- SharpenEdgeMasking: 0
- SharpenRadius: +0.5
- Sharpness: 12
- SplitToningBalance: 0
- SplitToningHighlightHue: 0
- SplitToningHighlightSaturation: 0
- SplitToningShadowHue: 0
- SplitToningShadowSaturation: 0
- ToneCurve: 0, 0, 32, 22, 64, 56, 128, 128, 192, 196, 255, 255
- ToneCurveName: Medium Contrast
- Version: 5.5
- Vibrance: +14
- VignetteAmount: -100
- VignetteMidpoint: 13
- WhiteBalance: Custom
- XMP-dc
- XMP-exif
- DateTimeDigitized: 2011:02:16 17:38:54+03:00
- DateTimeOriginal: 2011:02:16 17:38:54+03:00
- FlashFired: False
- FlashFunction: False
- FlashMode: Off
- FlashRedEyeMode: False
- FlashReturn: No return detection
- XMP-tiff
- ImageHeight: 3000
- ImageWidth: 4000
- XMP-x
- XMP-xmp
- CreateDate: 2011:02:28 00:19:47+03:00
- ModifyDate: 2011:02:28 00:19:47+03:00
- XMP-xmpMM
Получить код для блога
| Вставка фотографии в текущем разрешении |
Вставка миниатюры |
HTML (для вставки в блог):
BBCode (для вставки в форум):
Ссылка на фото:
Ссылка на миниатюру:
- Послать ссылку другу
| Комментарии к фотографии |