- Раздел: Другое, разное
- Дата съёмки: 27.02.2011 11:41
- Дата загрузки фото: 28.02.2011 18:40
- Оригинальная фотография: 2848 x 2136 (915 Кб)
- Технические характеристики:
- Фотоаппарат: FujiFilm FinePix S6500fd
- Выдержка: 1/350
- Гиперфокальное расстояние: inf m
- Диафрагма: 6,4
- Светочувствительность: 100
- Фокусное расстояние: 9,0 mm (35 mm equivalent: 18,0 mm)
- Экспокоррекция: +0,67
- Полный EXIF
- Adobe
- ColorTransform: YCbCr
- Composite
- Aperture: 6,4
- CircleOfConfusion: 0,012 mm
- FOV: 90,0 deg
- FocalLength35efl: 9,0 mm (35 mm equivalent: 18,0 mm)
- HyperfocalDistance: inf m
- ScaleFactor35efl: 2,5
- ShutterSpeed: 1/350
- ExifIFD
- ApertureValue: 6,4
- BrightnessValue: 10,14
- CreateDate: 2011:02:27 11:41:05
- CustomRendered: Normal
- DateTimeOriginal: 2011:02:27 11:41:05
- ExposureCompensation: +0,67
- ExposureMode: Auto
- ExposureProgram: Aperture-priority AE
- ExposureTime: 1/350
- FNumber: 6,4
- Flash: Off, Did not fire
- FocalLength: 9,3 mm
- ISO: 100
- LightSource: Unknown
- MaxApertureValue: 2,8
- MeteringMode: Multi-segment
- SceneCaptureType: Standard
- SceneType: Directly photographed
- SensingMethod: One-chip color area
- Sharpness: Hard
- ShutterSpeedValue: 1/350
- SubjectDistanceRange: Unknown
- WhiteBalance: Auto
- ICC-header
- IFD0
- Make: FUJIFILM
- Model: FinePix S6500fd
- ModifyDate: 2011:02:28 15:21:26
- Software: Digital Camera FinePix S6500fd Ver1.00
- System
- XMP-crs
- AlreadyApplied: True
- BlueHue: 0
- BlueSaturation: 0
- Brightness: -9
- CameraProfile: ACR 4.4
- ChromaticAberrationB: 0
- ChromaticAberrationR: 0
- Clarity: +33
- ColorNoiseReduction: 25
- Contrast: +56
- ConvertToGrayscale: False
- Defringe: 0
- Exposure: 0.00
- FillLight: 0
- GreenHue: 0
- GreenSaturation: 0
- HasCrop: False
- HasSettings: True
- HighlightRecovery: 14
- HueAdjustmentAqua: 0
- HueAdjustmentBlue: 0
- HueAdjustmentGreen: 0
- HueAdjustmentMagenta: 0
- HueAdjustmentOrange: 0
- HueAdjustmentPurple: 0
- HueAdjustmentRed: 0
- HueAdjustmentYellow: 0
- LuminanceAdjustmentAqua: 0
- LuminanceAdjustmentBlue: 0
- LuminanceAdjustmentGreen: 0
- LuminanceAdjustmentMagenta: 0
- LuminanceAdjustmentOrange: 0
- LuminanceAdjustmentPurple: 0
- LuminanceAdjustmentRed: 0
- LuminanceAdjustmentYellow: 0
- LuminanceSmoothing: 0
- ParametricDarks: 0
- ParametricHighlightSplit: 75
- ParametricHighlights: 0
- ParametricLights: 0
- ParametricMidtoneSplit: 50
- ParametricShadowSplit: 25
- ParametricShadows: 0
- PostCropVignetteAmount: 0
- RawFileName: DSCF0935.RAF
- RedHue: 0
- RedSaturation: 0
- Saturation: +30
- SaturationAdjustmentAqua: 0
- SaturationAdjustmentBlue: 0
- SaturationAdjustmentGreen: 0
- SaturationAdjustmentMagenta: 0
- SaturationAdjustmentOrange: 0
- SaturationAdjustmentPurple: 0
- SaturationAdjustmentRed: 0
- SaturationAdjustmentYellow: 0
- ShadowTint: 0
- Shadows: 18
- SharpenDetail: 25
- SharpenEdgeMasking: 0
- SharpenRadius: +1.0
- Sharpness: 25
- SplitToningBalance: 0
- SplitToningHighlightHue: 0
- SplitToningHighlightSaturation: 0
- SplitToningShadowHue: 0
- SplitToningShadowSaturation: 0
- Temperature: 4450
- Tint: -10
- ToneCurve: 0, 0, 32, 22, 64, 56, 128, 128, 192, 196, 255, 255
- ToneCurveName: Medium Contrast
- Version: 5.0
- Vibrance: +20
- VignetteAmount: 0
- WhiteBalance: Custom
- XMP-exif
- DateTimeDigitized: 2011:02:27 11:41:05+02:00
- DateTimeOriginal: 2011:02:27 11:41:05+02:00
- ExifImageHeight: 2136
- ExifImageWidth: 2848
- FlashFired: False
- FlashFunction: False
- FlashMode: Off
- FlashRedEyeMode: False
- FlashReturn: No return detection
- XMP-tiff
- ImageHeight: 2136
- ImageWidth: 2848
- XMP-xmp
- CreateDate: 2011:02:27 11:41:05+02:00
- CreatorTool: Digital Camera FinePix S6500fd Ver1.00
- ModifyDate: 2011:02:28 15:21:26+02:00
- Просмотров: 282
- Рейтинг: голосов еще нет
- Отзывов: 0