- Раздел: Семья, личное
- Дата съёмки: 13.05.2010 16:20
- Дата загрузки фото: 28.02.2011 21:57
- Оригинальная фотография: 2448 x 3264 (9,3 Мб)
- Технические характеристики:
- Фотоаппарат: Olympus u9010,S9010
- Выдержка: 1/500
- Гиперфокальное расстояние: inf m
- Диафрагма: 8,3
- Светочувствительность: 64
- Фокусное расстояние: 5,0 mm (35 mm equivalent: 25,0 mm)
- Полный EXIF
- Adobe
- ColorTransform: YCbCr
- Composite
- Aperture: 8,3
- CircleOfConfusion: 0,005 mm
- FOV: 71,0 deg
- FocalLength35efl: 5,0 mm (35 mm equivalent: 25,0 mm)
- HyperfocalDistance: inf m
- ScaleFactor35efl: 5,6
- ShutterSpeed: 1/500
- ExifIFD
- ApertureValue: 8,3
- Contrast: Normal
- CreateDate: 2010:05:13 16:20:19
- CustomRendered: Normal
- DateTimeOriginal: 2010:05:13 16:20:19
- DigitalZoomRatio: 0
- ExposureCompensation: 0
- ExposureMode: Auto
- ExposureProgram: Program AE
- ExposureTime: 1/500
- FNumber: 8,3
- Flash: Auto, Did not fire
- FocalLength: 5,0 mm
- FocalLengthIn35mmFormat: 28 mm
- GainControl: None
- ISO: 64
- LightSource: Unknown
- MaxApertureValue: 3,2
- MeteringMode: Multi-segment
- Saturation: Normal
- SceneCaptureType: Standard
- SceneType: Directly photographed
- SensitivityType: Unknown
- Sharpness: Normal
- ShutterSpeedValue: 1/500
- WhiteBalance: Auto
- ICC-header
- ICC-meas
- ICC-view
- IFD0
- ImageDescription: OLYMPUS DIGITAL CAMERA
- Make: OLYMPUS IMAGING CORP.
- Model: u9010,S9010
- ModifyDate: 2011:02:28 21:53:54
- Software: Version 1.0
- IFD1
- IPTC
- Caption-Abstract: OLYMPUS DIGITAL CAMERA
- System
- XMP-crs
- AlreadyApplied: True
- BlueHue: 0
- BlueSaturation: 0
- Brightness: -10
- CameraProfile: Embedded
- ChromaticAberrationB: 0
- ChromaticAberrationR: 0
- Clarity: +100
- ColorNoiseReduction: 27
- ColorNoiseReductionDetail: 100
- Contrast: +12
- ConvertToGrayscale: False
- Defringe: 0
- Exposure: -0.56
- FillLight: 77
- GrainAmount: 0
- GreenHue: 0
- GreenSaturation: 0
- HasCrop: False
- HasSettings: True
- HighlightRecovery: 54
- HueAdjustmentAqua: 0
- HueAdjustmentBlue: 0
- HueAdjustmentGreen: 0
- HueAdjustmentMagenta: 0
- HueAdjustmentOrange: 0
- HueAdjustmentPurple: 0
- HueAdjustmentRed: 0
- HueAdjustmentYellow: 0
- IncrementalTemperature: +20
- IncrementalTint: -12
- LensManualDistortionAmount: 0
- LensProfileEnable: 0
- LensProfileSetup: LensDefaults
- LuminanceAdjustmentAqua: 0
- LuminanceAdjustmentBlue: 0
- LuminanceAdjustmentGreen: 0
- LuminanceAdjustmentMagenta: 0
- LuminanceAdjustmentOrange: 0
- LuminanceAdjustmentPurple: 0
- LuminanceAdjustmentRed: 0
- LuminanceAdjustmentYellow: 0
- LuminanceNoiseReductionContrast: 100
- LuminanceNoiseReductionDetail: 100
- LuminanceSmoothing: 11
- ParametricDarks: +3
- ParametricHighlightSplit: 75
- ParametricHighlights: +40
- ParametricLights: -37
- ParametricMidtoneSplit: 50
- ParametricShadowSplit: 25
- ParametricShadows: +27
- PerspectiveHorizontal: 0
- PerspectiveRotate: 0.0
- PerspectiveScale: 100
- PerspectiveVertical: 0
- PostCropVignetteAmount: 0
- ProcessVersion: 5.7
- RedHue: 0
- RedSaturation: 0
- Saturation: +91
- SaturationAdjustmentAqua: 0
- SaturationAdjustmentBlue: 0
- SaturationAdjustmentGreen: 0
- SaturationAdjustmentMagenta: 0
- SaturationAdjustmentOrange: 0
- SaturationAdjustmentPurple: 0
- SaturationAdjustmentRed: 0
- SaturationAdjustmentYellow: 0
- ShadowTint: 0
- Shadows: 4
- SharpenDetail: 100
- SharpenEdgeMasking: 0
- SharpenRadius: +2.6
- Sharpness: 103
- SplitToningBalance: 0
- SplitToningHighlightHue: 0
- SplitToningHighlightSaturation: 0
- SplitToningShadowHue: 0
- SplitToningShadowSaturation: 0
- ToneCurve: 0, 0, 255, 255
- ToneCurveName: Linear
- Version: 6.3
- Vibrance: +3
- VignetteAmount: 0
- WhiteBalance: Custom
- XMP-dc
- Description: OLYMPUS DIGITAL CAMERA
- XMP-exif
- DateTimeDigitized: 2010:05:13 16:20:19+04:00
- DateTimeOriginal: 2010:05:13 16:20:19+04:00
- ExifImageHeight: 3264
- ExifImageWidth: 2448
- FlashFired: False
- FlashFunction: False
- FlashMode: Auto
- FlashRedEyeMode: False
- FlashReturn: No return detection
- XMP-tiff
- ImageHeight: 3264
- ImageWidth: 2448
- XMP-xmp
- CreateDate: 2010:05:13 16:20:19+04:00
- ModifyDate: 2011:02:28 21:53:54+03:00