Уважаемые друзья и участники проекта iXBT.photo! К сожалению, 1 марта 2026 года проект iXBT.photo прекратит свою работу и будет закрыт. Мы высоко ценим ваше участие и тот вклад, который вы внесли в развитие нашего сообщества. Пожалуйста, не забудьте сохранить ваши фотографии до этой даты.
С уважением, команда iXBT.com
| IMG_9131-2.jpg |
IMG_9131-2.jpg
- Раздел: Портрет
- Дата съёмки: 06.02.2011 15:38
- Дата загрузки фото: 03.03.2011 17:23
- Оригинальная фотография: 1365 x 2048 (227 Кб)
- Технические характеристики:
- Фотоаппарат: Canon EOS 5D Mark II
- Выдержка: 1/200
- Гиперфокальное расстояние: inf m
- Диафрагма: 5,0
- Светочувствительность: 400
- Фокусное расстояние: 46,0 mm (35 mm equivalent: 46,0 mm)
- Полный EXIF
- Composite
- Aperture: 5,0
- CircleOfConfusion: 0,029 mm
- DOF: inf (0,00 m - inf)
- FOV: 42,0 deg
- FocalLength35efl: 46,0 mm (35 mm equivalent: 46,0 mm)
- HyperfocalDistance: inf m
- ScaleFactor35efl: 1,0
- ShutterSpeed: 1/200
- ExifIFD
- ApertureValue: 5,0
- CreateDate: 2011:02:06 15:38:15
- CustomRendered: Normal
- DateTimeOriginal: 2011:02:06 15:38:15
- ExposureCompensation: 0
- ExposureMode: Manual
- ExposureProgram: Manual
- ExposureTime: 1/200
- FNumber: 5,0
- Flash: Off, Did not fire
- FocalLength: 46,0 mm
- ISO: 400
- LensInfo: 24-70mm f/?
- LensModel: EF24-70mm f/2.8L USM
- MaxApertureValue: 2,8
- MeteringMode: Partial
- SceneCaptureType: Standard
- SensitivityType: Unknown
- SerialNumber: 1921203953
- ShutterSpeedValue: 1/200
- SubjectDistance: 2,25 m
- WhiteBalance: Auto
- ICC-header
- ICC-meas
- ICC-view
- IFD0
- Make: Canon
- Model: Canon EOS 5D Mark II
- ModifyDate: 2011:02:14 23:49:40
- IFD1
- System
- XMP-aux
- ApproximateFocusDistance: 2,25
- Firmware: 2.0.7
- FlashCompensation: 0
- ImageNumber: 0
- Lens: EF24-70mm f/2.8L USM
- LensID: 230
- XMP-crs
- AlreadyApplied: True
- BlueHue: +11
- BlueSaturation: -21
- Brightness: +64
- ChromaticAberrationB: 0
- ChromaticAberrationR: 0
- Clarity: +42
- ColorNoiseReduction: 25
- ColorNoiseReductionDetail: 50
- Contrast: +32
- ConvertToGrayscale: True
- CropAngle: 1.57504
- CropBottom: 1
- CropConstrainToWarp: 0
- CropHeight: 3597
- CropLeft: 0.028608
- CropRight: 0.971392
- CropTop: 0
- CropUnit: pixels
- CropWidth: 5396
- Defringe: 0
- Exposure: +0.34
- FillLight: 0
- GrainAmount: 0
- GrayMixerAqua: +2
- GrayMixerBlue: +19
- GrayMixerGreen: 0
- GrayMixerMagenta: +30
- GrayMixerOrange: +8
- GrayMixerPurple: +25
- GrayMixerRed: +34
- GrayMixerYellow: -12
- GreenHue: +16
- GreenSaturation: +51
- HasCrop: True
- HasSettings: True
- HighlightRecovery: 0
- LensManualDistortionAmount: 0
- LensProfileEnable: 0
- LensProfileSetup: LensDefaults
- LuminanceSmoothing: 0
- ParametricDarks: 0
- ParametricHighlightSplit: 75
- ParametricHighlights: 0
- ParametricLights: -2
- ParametricMidtoneSplit: 50
- ParametricShadowSplit: 25
- ParametricShadows: 0
- PerspectiveHorizontal: 0
- PerspectiveRotate: 0.0
- PerspectiveScale: 100
- PerspectiveVertical: 0
- PostCropVignetteAmount: 0
- ProcessVersion: 5.7
- RedHue: +23
- RedSaturation: +10
- ShadowTint: +4
- Shadows: 10
- SharpenDetail: 25
- SharpenEdgeMasking: 0
- SharpenRadius: +1.0
- Sharpness: 25
- SplitToningBalance: 0
- SplitToningHighlightHue: 0
- SplitToningHighlightSaturation: 0
- SplitToningShadowHue: 0
- SplitToningShadowSaturation: 0
- Temperature: 3450
- Tint: -5
- ToneCurve: 0, 0, 255, 255
- ToneCurveName: Linear
- Version: 6.2
- VignetteAmount: -100
- VignetteMidpoint: 40
- WhiteBalance: As Shot
- XMP-exif
- DateTimeDigitized: 2011:02:06 15:38:15.12+03:00
- DateTimeOriginal: 2011:02:06 15:38:15.12+03:00
- ExifImageHeight: 5396
- ExifImageWidth: 3597
- FlashFired: False
- FlashFunction: False
- FlashMode: Off
- FlashRedEyeMode: False
- FlashReturn: No return detection
- XMP-tiff
- ImageHeight: 5396
- ImageWidth: 3597
- XMP-xmp
- CreateDate: 2011:02:06 15:38:15.12+03:00
- ModifyDate: 2011:02:14 23:49:40+03:00
- Просмотров: 1008
- Рейтинг: голосов еще нет
- Отзывов: 0
Получить код для блога
| Вставка фотографии в текущем разрешении |
Вставка миниатюры |
HTML (для вставки в блог):
BBCode (для вставки в форум):
Ссылка на фото:
Ссылка на миниатюру:
- Послать ссылку другу
| Комментарии к фотографии |