- Раздел: Город
- Дата съёмки: 03.03.2011 18:58
- Дата загрузки фото: 03.03.2011 22:57
- Оригинальная фотография: 4272 x 2848 (5,9 Мб)
- Технические характеристики:
- Фотоаппарат: Canon EOS 450D
- Выдержка: 1,3
- Гиперфокальное расстояние: inf m
- Диафрагма: 13,0
- Светочувствительность: 400
- Фокусное расстояние: 50,0 mm (35 mm equivalent: 50,0 mm)
- Полный EXIF
- Adobe
- ColorTransform: YCbCr
- Composite
- Aperture: 13,0
- CircleOfConfusion: 0,019 mm
- FOV: 39,0 deg
- FocalLength35efl: 50,0 mm (35 mm equivalent: 50,0 mm)
- HyperfocalDistance: inf m
- LightValue: 5,4
- ScaleFactor35efl: 1,6
- ShutterSpeed: 1,3
- ExifIFD
- ApertureValue: 13,0
- ColorSpace: Uncalibrated
- CreateDate: 2011:03:03 18:58:53
- CustomRendered: Normal
- DateTimeOriginal: 2011:03:03 18:58:53
- ExifImageHeight: 2848
- ExifImageWidth: 4272
- ExposureCompensation: 0
- ExposureMode: Manual
- ExposureProgram: Manual
- ExposureTime: 1,3
- FNumber: 13,0
- Flash: Off, Did not fire
- FocalLength: 50,0 mm
- ISO: 400
- MaxApertureValue: 1,8
- MeteringMode: Spot
- SceneCaptureType: Standard
- ShutterSpeedValue: 1,3
- WhiteBalance: Manual
- ICC-header
- IFD0
- Artist: Ivanuto Igor
- Make: Canon
- Model: Canon EOS 450D
- ModifyDate: 2011:03:03 21:50:01
- Orientation: Horizontal (normal)
- IFD1
- IPTC
- By-line: Ivanuto Igor
- DateCreated: 2011:03:03
- System
- XMP-aux
- Firmware: 1.1.0
- FlashCompensation: 0
- ImageNumber: 0
- Lens: EF50mm f/1.8 II
- LensID: 29
- LensInfo: 50mm f/?
- OwnerName: Ivanuto Igor
- SerialNumber: 780286093
- XMP-crs
- AlreadyApplied: True
- BlueHue: 0
- BlueSaturation: 0
- Brightness: +50
- ChromaticAberrationB: 0
- ChromaticAberrationR: 0
- Clarity: +45
- ColorNoiseReduction: 25
- ColorNoiseReductionDetail: 50
- Contrast: +25
- ConvertToGrayscale: False
- Defringe: 0
- Exposure: +0.55
- FillLight: 0
- GrainAmount: 0
- GreenHue: 0
- GreenSaturation: 0
- HasCrop: False
- HasSettings: True
- HighlightRecovery: 26
- HueAdjustmentAqua: 0
- HueAdjustmentBlue: 0
- HueAdjustmentGreen: 0
- HueAdjustmentMagenta: 0
- HueAdjustmentOrange: 0
- HueAdjustmentPurple: 0
- HueAdjustmentRed: 0
- HueAdjustmentYellow: 0
- LuminanceAdjustmentAqua: 0
- LuminanceAdjustmentBlue: 0
- LuminanceAdjustmentGreen: 0
- LuminanceAdjustmentMagenta: 0
- LuminanceAdjustmentOrange: 0
- LuminanceAdjustmentPurple: 0
- LuminanceAdjustmentRed: 0
- LuminanceAdjustmentYellow: 0
- LuminanceSmoothing: 0
- ParametricDarks: 0
- ParametricHighlightSplit: 75
- ParametricHighlights: 0
- ParametricLights: 0
- ParametricMidtoneSplit: 50
- ParametricShadowSplit: 25
- ParametricShadows: 0
- PostCropVignetteAmount: 0
- ProcessVersion: 5.7
- RawFileName: _MG_4558.CR2
- RedHue: 0
- RedSaturation: 0
- Saturation: +30
- SaturationAdjustmentAqua: 0
- SaturationAdjustmentBlue: 0
- SaturationAdjustmentGreen: 0
- SaturationAdjustmentMagenta: 0
- SaturationAdjustmentOrange: 0
- SaturationAdjustmentPurple: 0
- SaturationAdjustmentRed: 0
- SaturationAdjustmentYellow: 0
- ShadowTint: 0
- Shadows: 19
- SharpenDetail: 25
- SharpenEdgeMasking: 0
- SharpenRadius: +1.0
- Sharpness: 0
- SplitToningBalance: 0
- SplitToningHighlightHue: 0
- SplitToningHighlightSaturation: 0
- SplitToningShadowHue: 0
- SplitToningShadowSaturation: 0
- Temperature: 3000
- Tint: 0
- ToneCurve: 0, 0, 32, 22, 64, 56, 128, 128, 192, 196, 255, 255
- ToneCurveName: Medium Contrast
- Version: 6.0
- Vibrance: 0
- VignetteAmount: 0
- WhiteBalance: Custom
- XMP-dc
- Creator: Ivanuto Igor
- Format: image/jpeg
- XMP-xmp
- CreateDate: 2011:03:03 18:58:53.43+02:00
- ModifyDate: 2011:03:03 21:50:01+02:00
- Rating: 0
- XMP-xmpMM
- Просмотров: 204
- Рейтинг: голосов еще нет
- Отзывов: 0