- Раздел: Другое, разное
- Дата съёмки: 06.03.2011 06:31
- Дата загрузки фото: 06.03.2011 22:28
- Оригинальная фотография: 3839 x 2568 (6,4 Мб)
- Технические характеристики:
- Фотоаппарат: FujiFilm FinePix S5Pro
- Выдержка: 4,0
- Гиперфокальное расстояние: inf m
- Диафрагма: 22,0
- Светочувствительность: 800
- Фокусное расстояние: 50,0 mm (35 mm equivalent: 50,0 mm)
- Полный EXIF
- Adobe
- ColorTransform: YCbCr
- Composite
- Aperture: 22,0
- CircleOfConfusion: 0,020 mm
- FOV: 39,0 deg
- FocalLength35efl: 50,0 mm (35 mm equivalent: 50,0 mm)
- HyperfocalDistance: inf m
- LightValue: 3,9
- ScaleFactor35efl: 1,5
- ShutterSpeed: 4,0
- ExifIFD
- ApertureValue: 22,0
- BrightnessValue: 1,41
- Contrast: Normal
- CreateDate: 2011:03:06 06:31:57
- CustomRendered: Normal
- DateTimeOriginal: 2011:03:06 06:31:57
- ExposureCompensation: 0
- ExposureMode: Auto
- ExposureProgram: Shutter speed priority AE
- ExposureTime: 4,0
- FNumber: 22,0
- Flash: Off, Did not fire
- FocalLength: 50,0 mm
- FocalLengthIn35mmFormat: 75 mm
- GainControl: None
- ISO: 800
- LensInfo: 50mm f/1.8
- LensModel: 50.0 mm f/1.8
- LightSource: Unknown
- MaxApertureValue: 1,8
- MeteringMode: Multi-segment
- Saturation: Normal
- SceneCaptureType: Standard
- SceneType: Directly photographed
- SensingMethod: One-chip color area
- SensitivityType: Unknown
- Sharpness: Hard
- ShutterSpeedValue: 4,0
- SubjectDistanceRange: Unknown
- WhiteBalance: Auto
- ICC-header
- ICC-meas
- ICC-view
- IFD0
- Make: FUJIFILM
- Model: FinePix S5Pro
- ModifyDate: 2011:03:06 19:54:19
- Software: FUJIFILM RAW FILE CONVERTER LE Ver.4
- IFD1
- System
- XMP-aux
- Lens: 50.0 mm f/1.8
- XMP-crs
- AlreadyApplied: True
- BlueHue: 0
- BlueSaturation: 0
- Brightness: +61
- CameraProfile: Embedded
- ChromaticAberrationB: 0
- ChromaticAberrationR: 0
- Clarity: 0
- ColorNoiseReduction: 0
- Contrast: +14
- ConvertToGrayscale: False
- CropAngle: 4.284
- CropBottom: 1
- CropConstrainToWarp: 0
- CropHeight: 2568
- CropLeft: 0.072877
- CropRight: 0.927123
- CropTop: 0
- CropUnit: pixels
- CropWidth: 3839
- Defringe: 0
- Exposure: +0.05
- FillLight: 0
- GrainAmount: 0
- GreenHue: 0
- GreenSaturation: 0
- HasCrop: True
- HasSettings: True
- HighlightRecovery: 100
- HueAdjustmentAqua: -100
- HueAdjustmentBlue: 0
- HueAdjustmentGreen: +100
- HueAdjustmentMagenta: 0
- HueAdjustmentOrange: 0
- HueAdjustmentPurple: 0
- HueAdjustmentRed: 0
- HueAdjustmentYellow: 0
- IncrementalTemperature: 0
- IncrementalTint: 0
- LensManualDistortionAmount: 0
- LensProfileChromaticAberrationScale: 100
- LensProfileDistortionScale: 100
- LensProfileEnable: 1
- LensProfileFilename: NIKON D3X (Nikon FX 50mm f1.8 D).lcp
- LensProfileSetup: Custom
- LensProfileVignettingScale: 100
- LuminanceAdjustmentAqua: 0
- LuminanceAdjustmentBlue: +100
- LuminanceAdjustmentGreen: 0
- LuminanceAdjustmentMagenta: 0
- LuminanceAdjustmentOrange: 0
- LuminanceAdjustmentPurple: 0
- LuminanceAdjustmentRed: 0
- LuminanceAdjustmentYellow: 0
- LuminanceSmoothing: 0
- ParametricDarks: +47
- ParametricHighlightSplit: 75
- ParametricHighlights: 0
- ParametricLights: +24
- ParametricMidtoneSplit: 50
- ParametricShadowSplit: 25
- ParametricShadows: -14
- PerspectiveHorizontal: 0
- PerspectiveRotate: 0.0
- PerspectiveScale: 100
- PerspectiveVertical: 0
- PostCropVignetteAmount: 0
- ProcessVersion: 5.7
- RedHue: 0
- RedSaturation: 0
- Saturation: 0
- SaturationAdjustmentAqua: +100
- SaturationAdjustmentBlue: +30
- SaturationAdjustmentGreen: +100
- SaturationAdjustmentMagenta: 0
- SaturationAdjustmentOrange: 0
- SaturationAdjustmentPurple: 0
- SaturationAdjustmentRed: 0
- SaturationAdjustmentYellow: 0
- ShadowTint: 0
- Shadows: 0
- SharpenDetail: 25
- SharpenEdgeMasking: 0
- SharpenRadius: +1.0
- Sharpness: 0
- SplitToningBalance: 0
- SplitToningHighlightHue: 0
- SplitToningHighlightSaturation: 0
- SplitToningShadowHue: 0
- SplitToningShadowSaturation: 0
- ToneCurve: 0, 0, 255, 255
- ToneCurveName: Linear
- Version: 6.3
- Vibrance: 0
- VignetteAmount: 0
- WhiteBalance: As Shot
- XMP-exif
- DateTimeDigitized: 2011:03:06 06:31:57+03:00
- DateTimeOriginal: 2011:03:06 06:31:57+03:00
- ExifImageHeight: 2568
- ExifImageWidth: 3839
- FlashFired: False
- FlashFunction: False
- FlashMode: Off
- FlashRedEyeMode: False
- FlashReturn: No return detection
- XMP-tiff
- ImageHeight: 2568
- ImageWidth: 3839
- XMP-xmp
- CreateDate: 2011:03:06 06:31:57+03:00
- ModifyDate: 2011:03:06 19:54:19+03:00
- Просмотров: 650
- Рейтинг: голосов еще нет
- Отзывов: 0