- Раздел: Животные
- Дата съёмки: 16.03.2011 12:49
- Дата загрузки фото: 16.03.2011 18:01
- Оригинальная фотография: 692 x 1000 (363 Кб)
- Технические характеристики:
- Фотоаппарат: Canon EOS 7D
- Выдержка: 1/640
- Гиперфокальное расстояние: inf m
- Диафрагма: 7,1
- Светочувствительность: 250
- Фокусное расстояние: 300,0 mm (35 mm equivalent: 2400,0 mm)
- Полный EXIF
- Adobe
- ColorTransform: YCbCr
- Composite
- Aperture: 7,1
- CircleOfConfusion: 0,004 mm
- DOF: inf (0,00 m - inf)
- FOV: 0,0 deg
- FocalLength35efl: 300,0 mm (35 mm equivalent: 2400,0 mm)
- HyperfocalDistance: inf m
- ScaleFactor35efl: 8,1
- ShutterSpeed: 1/640
- ExifIFD
- ApertureValue: 7,1
- ColorSpace: sRGB
- CreateDate: 2011:03:16 12:49:04
- CustomRendered: Normal
- DateTimeOriginal: 2011:03:16 12:49:04
- ExifImageHeight: 1000
- ExifImageWidth: 692
- ExposureCompensation: 0
- ExposureMode: Manual
- ExposureProgram: Manual
- ExposureTime: 1/640
- FNumber: 7,1
- Flash: Off, Did not fire
- FocalLength: 300,0 mm
- ISO: 250
- LensInfo: 70-300mm f/?
- LensModel: 70-300mm
- MaxApertureValue: 5,4
- MeteringMode: Multi-segment
- OwnerName: Michael Ortenberg
- SceneCaptureType: Standard
- SensitivityType: Unknown
- SerialNumber: 1781018879
- ShutterSpeedValue: 1/640
- SubjectDistance: 4294967295 m
- WhiteBalance: Auto
- ICC-header
- ICC-meas
- ICC-view
- IFD0
- Artist: Michael Ortenberg
- BitsPerSample: 16 16 16
- Copyright: Michael Ortenberg
- ImageHeight: 2300
- ImageWidth: 1593
- Make: Canon
- Model: Canon EOS 7D
- ModifyDate: 2011:03:16 16:37:52
- Orientation: Horizontal (normal)
- PhotometricInterpretation: RGB
- PlanarConfiguration: Chunky
- SamplesPerPixel: 3
- IFD1
- IPTC
- By-line: Michael Ortenberg
- CopyrightNotice: Michael Ortenberg
- System
- XMP-aux
- ApproximateFocusDistance: 4294967295
- Firmware: 1.2.3
- FlashCompensation: 0
- ImageNumber: 0
- Lens: 70-300mm
- LensID: 156
- XMP-crs
- AlreadyApplied: True
- BlueHue: 0
- BlueSaturation: 0
- Brightness: +50
- ChromaticAberrationB: 0
- ChromaticAberrationR: 0
- Clarity: +10
- ColorNoiseReduction: 25
- ColorNoiseReductionDetail: 50
- Contrast: +60
- ConvertToGrayscale: False
- CropAngle: 0
- CropBottom: 0.936339
- CropConstrainToWarp: 0
- CropHeight: 2300
- CropLeft: 0.328913
- CropRight: 0.66932
- CropTop: 0.198939
- CropUnit: pixels
- CropWidth: 1593
- Defringe: 0
- Exposure: 0.00
- FillLight: 15
- GrainAmount: 0
- GreenHue: 0
- GreenSaturation: 0
- HasCrop: True
- HasSettings: True
- HighlightRecovery: 13
- HueAdjustmentAqua: 0
- HueAdjustmentBlue: 0
- HueAdjustmentGreen: 0
- HueAdjustmentMagenta: 0
- HueAdjustmentOrange: 0
- HueAdjustmentPurple: 0
- HueAdjustmentRed: 0
- HueAdjustmentYellow: 0
- LensManualDistortionAmount: 0
- LensProfileChromaticAberrationScale: 100
- LensProfileDistortionScale: 100
- LensProfileEnable: 1
- LensProfileFilename: Canon (TAMRON SP 70-300mm F4-5.6 Di VC USD A005E) - RAW.lcp
- LensProfileSetup: Custom
- LensProfileVignettingScale: 100
- LuminanceAdjustmentAqua: 0
- LuminanceAdjustmentBlue: 0
- LuminanceAdjustmentGreen: 0
- LuminanceAdjustmentMagenta: 0
- LuminanceAdjustmentOrange: 0
- LuminanceAdjustmentPurple: 0
- LuminanceAdjustmentRed: 0
- LuminanceAdjustmentYellow: 0
- LuminanceNoiseReductionContrast: 0
- LuminanceNoiseReductionDetail: 50
- LuminanceSmoothing: 14
- PaintCorrectionActive: true
- PaintCorrectionAmount: 1.000000
- PaintCorrectionBrightness: -0.024000
- PaintCorrectionClarity: 0.707000
- PaintCorrectionContrast: 0.634000
- PaintCorrectionExposure: 0.707000
- PaintCorrectionHue: 0.000000
- PaintCorrectionMaskCenterWeight: 0.068529
- PaintCorrectionMaskFlow: 0.823000
- PaintCorrectionMaskRadius: 0.028171
- PaintCorrectionMaskValue: 0.726000
- PaintCorrectionMaskWhat: Mask/Paint
- PaintCorrectionSaturation: 0.000000
- PaintCorrectionSharpness: 0.585000
- PaintCorrectionWhat: Correction
- ParametricDarks: +33
- ParametricHighlightSplit: 75
- ParametricHighlights: -5
- ParametricLights: -9
- ParametricMidtoneSplit: 50
- ParametricShadowSplit: 25
- ParametricShadows: +3
- PerspectiveHorizontal: 0
- PerspectiveRotate: 0.0
- PerspectiveScale: 100
- PerspectiveVertical: 0
- PostCropVignetteAmount: 0
- ProcessVersion: 5.7
- RedHue: 0
- RedSaturation: 0
- Saturation: +6
- SaturationAdjustmentAqua: 0
- SaturationAdjustmentBlue: 0
- SaturationAdjustmentGreen: 0
- SaturationAdjustmentMagenta: 0
- SaturationAdjustmentOrange: 0
- SaturationAdjustmentPurple: 0
- SaturationAdjustmentRed: 0
- SaturationAdjustmentYellow: 0
- ShadowTint: 0
- Shadows: 5
- SharpenDetail: 33
- SharpenEdgeMasking: 0
- SharpenRadius: +1.0
- Sharpness: 33
- SplitToningBalance: 0
- SplitToningHighlightHue: 0
- SplitToningHighlightSaturation: 0
- SplitToningShadowHue: 0
- SplitToningShadowSaturation: 0
- Temperature: 4950
- Tint: +25
- ToneCurve: 0, 0, 32, 22, 64, 56, 128, 128, 192, 196, 255, 255
- ToneCurveName: Medium Contrast
- Version: 6.3
- Vibrance: +6
- VignetteAmount: 0
- WhiteBalance: As Shot
- XMP-dc
- Creator: Michael Ortenberg
- Format: image/jpeg
- Rights: Michael Ortenberg
- XMP-exif
- DateTimeDigitized: 2011:03:16 12:49:04.00+02:00
- DateTimeOriginal: 2011:03:16 12:49:04.00+02:00
- FlashFired: False
- FlashFunction: False
- FlashMode: Off
- FlashRedEyeMode: False
- FlashReturn: No return detection
- XMP-tiff
- BitsPerSample: 16, 16, 16
- XMP-xmp
- CreateDate: 2011:03:16 12:49:04.00+02:00
- ModifyDate: 2011:03:16 16:37:52+02:00
- XMP-xmpMM
- Просмотров: 299
- Рейтинг: голосов еще нет
- Отзывов: 0