- Раздел: Другое, разное
- Дата съёмки: 28.05.2010 17:42
- Дата загрузки фото: 18.03.2011 01:53
- Оригинальная фотография: 4782 x 3182 (7,3 Мб)
- Технические характеристики:
- Фотоаппарат: Leica Camera AG M9
- Выдержка: 1/60
- Гиперфокальное расстояние: inf m
- Диафрагма: 4,0
- Светочувствительность: 160
- Фокусное расстояние: 35,0 mm (35 mm equivalent: 35,0 mm)
- Полный EXIF
- Adobe
- ColorTransform: YCbCr
- Composite
- Aperture: 4,0
- BlueBalance: 0
- CircleOfConfusion: 0,030 mm
- FOV: 54,0 deg
- FocalLength35efl: 35,0 mm (35 mm equivalent: 35,0 mm)
- HyperfocalDistance: inf m
- LensID: Summicron-M 35mm f/2 ASPH.
- RedBalance: 0
- ScaleFactor35efl: 1,0
- ShutterSpeed: 1/60
- ExifIFD
- ApertureValue: 4,0
- CreateDate: 2010:05:28 17:42:11
- DateTimeOriginal: 2010:05:28 17:42:11
- DigitalZoomRatio: 0
- ExposureCompensation: 0
- ExposureMode: Manual
- ExposureProgram: Aperture-priority AE
- ExposureTime: 1/60
- FNumber: 4,0
- Flash: No Flash
- FocalLength: 35,0 mm
- FocalLengthIn35mmFormat: 35 mm
- ISO: 160
- LensModel: Leica Summicron-M 35mm f/2 ASPH.
- LightSource: Unknown
- MaxApertureValue: 2,0
- MeteringMode: Center-weighted average
- SceneCaptureType: Standard
- SceneType: Directly photographed
- SensitivityType: Unknown
- SerialNumber: 3834410
- ShutterSpeedValue: 1/60
- WhiteBalance: Auto
- ICC-header
- ICC-meas
- ICC-view
- IFD0
- Make: Leica Camera AG
- MakerNoteSafety: Safe
- Model: M9 Digital Camera
- ModifyDate: 2010:08:25 02:23:18
- Software: 1.116
- IFD1
- Leica
- ApproximateFNumber: 4,0
- BaseISO: 160
- CameraTemperature: 24 C
- Contrast: Normal
- ExternalSensorBrightnessValue: 3,17
- FirmwareVersion: 1.116
- JPEGQuality: Fine
- JPEGSize: 5216x3472
- LensType: Summicron-M 35mm f/2 ASPH.
- MeasuredLV: 3,60
- Saturation: Normal
- SensorBitDepth: 14
- SensorHeight: 3516
- SensorWidth: 5270
- Sharpening: Normal
- UserProfile:
- WB_RGBLevels: 0,4992686494 1 0,7646784281
- System
- XMP-aux
- Lens: Leica Summicron-M 35mm f/2 ASPH.
- LensID: 30
- XMP-crs
- AlreadyApplied: True
- BlueHue: 0
- BlueSaturation: 0
- Brightness: +65
- ChromaticAberrationB: 0
- ChromaticAberrationR: 0
- Clarity: +52
- ColorNoiseReduction: 25
- ColorNoiseReductionDetail: 50
- Contrast: +50
- ConvertToGrayscale: False
- CropAngle: 0
- CropBottom: 0.946061
- CropConstrainToWarp: 0
- CropHeight: 3182
- CropLeft: 0
- CropRight: 0.917439
- CropTop: 0.028623
- CropUnit: pixels
- CropWidth: 4782
- Defringe: 0
- Exposure: 0.00
- FillLight: 0
- GrainAmount: 0
- GreenHue: 0
- GreenSaturation: 0
- HasCrop: True
- HasSettings: True
- HighlightRecovery: 1
- HueAdjustmentAqua: -9
- HueAdjustmentBlue: +7
- HueAdjustmentGreen: -43
- HueAdjustmentMagenta: 0
- HueAdjustmentOrange: +16
- HueAdjustmentPurple: +2
- HueAdjustmentRed: -33
- HueAdjustmentYellow: +8
- LensManualDistortionAmount: 0
- LensProfileEnable: 0
- LensProfileSetup: LensDefaults
- LuminanceAdjustmentAqua: +12
- LuminanceAdjustmentBlue: -17
- LuminanceAdjustmentGreen: -19
- LuminanceAdjustmentMagenta: 0
- LuminanceAdjustmentOrange: +78
- LuminanceAdjustmentPurple: 0
- LuminanceAdjustmentRed: -7
- LuminanceAdjustmentYellow: +15
- LuminanceSmoothing: 0
- ParametricDarks: -12
- ParametricHighlightSplit: 75
- ParametricHighlights: 0
- ParametricLights: +3
- ParametricMidtoneSplit: 50
- ParametricShadowSplit: 25
- ParametricShadows: 0
- PerspectiveHorizontal: 0
- PerspectiveRotate: 0.0
- PerspectiveScale: 100
- PerspectiveVertical: 0
- PostCropVignetteAmount: 0
- ProcessVersion: 5.7
- RedHue: 0
- RedSaturation: 0
- Saturation: 0
- SaturationAdjustmentAqua: +19
- SaturationAdjustmentBlue: +41
- SaturationAdjustmentGreen: +72
- SaturationAdjustmentMagenta: +10
- SaturationAdjustmentOrange: +57
- SaturationAdjustmentPurple: +20
- SaturationAdjustmentRed: +36
- SaturationAdjustmentYellow: +16
- ShadowTint: 0
- Shadows: 5
- SharpenDetail: 25
- SharpenEdgeMasking: 0
- SharpenRadius: +1.0
- Sharpness: 25
- SplitToningBalance: 0
- SplitToningHighlightHue: 0
- SplitToningHighlightSaturation: 0
- SplitToningShadowHue: 0
- SplitToningShadowSaturation: 0
- Temperature: 4350
- Tint: -15
- ToneCurve: 0, 0, 32, 22, 64, 56, 128, 128, 192, 196, 255, 255
- ToneCurveName: Medium Contrast
- Version: 6.2
- Vibrance: 0
- VignetteAmount: 0
- WhiteBalance: As Shot
- XMP-exif
- DateTimeDigitized: 2010:05:28 17:42:11+04:00
- DateTimeOriginal: 2010:05:28 17:42:11+04:00
- ExifImageHeight: 3182
- ExifImageWidth: 4782
- FlashFired: False
- FlashFunction: False
- FlashMode: Unknown
- FlashRedEyeMode: False
- FlashReturn: No return detection
- XMP-tiff
- ImageHeight: 3182
- ImageWidth: 4782
- XMP-xmp
- CreateDate: 2010:05:28 17:42:11+04:00
- ModifyDate: 2010:08:25 02:23:18+04:00
- Просмотров: 636
- Рейтинг: голосов еще нет
- Отзывов: 0