- Раздел: Другое, разное
- Дата съёмки: 27.02.2011 12:39
- Дата загрузки фото: 21.03.2011 14:42
- Оригинальная фотография: 3456 x 3456 (10,9 Мб)
- Технические характеристики:
- Фотоаппарат: Canon EOS 7D
- Выдержка: 1/100
- Гиперфокальное расстояние: inf m
- Диафрагма: 2,8
- Светочувствительность: 3200
- Фокусное расстояние: 180,0 mm (35 mm equivalent: 360,0 mm)
- Полный EXIF
- Adobe
- ColorTransform: YCbCr
- Composite
- Aperture: 2,8
- CircleOfConfusion: 0,015 mm
- DOF: inf (0,00 m - inf)
- FOV: 5,0 deg
- FocalLength35efl: 180,0 mm (35 mm equivalent: 360,0 mm)
- HyperfocalDistance: inf m
- ScaleFactor35efl: 2,0
- ShutterSpeed: 1/100
- ExifIFD
- ApertureValue: 2,8
- ColorSpace: sRGB
- CreateDate: 2011:02:27 12:39:02
- CustomRendered: Normal
- DateTimeOriginal: 2011:02:27 12:39:02
- ExifImageHeight: 3456
- ExifImageWidth: 3456
- ExposureCompensation: 0
- ExposureMode: Auto
- ExposureProgram: Shutter speed priority AE
- ExposureTime: 1/100
- FNumber: 2,8
- Flash: Off, Did not fire
- FocalLength: 180,0 mm
- ISO: 3200
- LensInfo: 70-200mm f/?
- LensModel: 70-200mm
- MaxApertureValue: 2,8
- MeteringMode: Center-weighted average
- SceneCaptureType: Standard
- SensitivityType: Unknown
- SerialNumber: 1280808808
- ShutterSpeedValue: 1/100
- SubjectDistance: 2,74 m
- WhiteBalance: Auto
- ICC-header
- ICC-meas
- ICC-view
- IFD0
- Artist: VeegaDi
- Copyright: DmitryAgeev MOW
- Make: Canon
- Model: Canon EOS 7D
- ModifyDate: 2011:03:06 12:09:09
- Orientation: Horizontal (normal)
- IFD1
- IPTC
- By-line: VeegaDi
- CopyrightNotice: DmitryAgeev MOW
- DateCreated: 2011:02:27
- System
- XMP-aux
- ApproximateFocusDistance: 2,74
- Firmware: 1.2.3
- FlashCompensation: 0
- ImageNumber: 0
- Lens: 70-200mm
- LensID: 174
- XMP-crs
- AlreadyApplied: True
- BlueHue: 0
- BlueSaturation: 0
- Brightness: +50
- ChromaticAberrationB: 0
- ChromaticAberrationR: 0
- Clarity: 0
- ColorNoiseReduction: 0
- Contrast: +25
- ConvertToGrayscale: False
- Defringe: 0
- Exposure: +0.50
- FillLight: 25
- GrainAmount: 0
- GreenHue: 0
- GreenSaturation: 0
- HasCrop: False
- HasSettings: True
- HighlightRecovery: 0
- HueAdjustmentAqua: 0
- HueAdjustmentBlue: 0
- HueAdjustmentGreen: 0
- HueAdjustmentMagenta: 0
- HueAdjustmentOrange: 0
- HueAdjustmentPurple: 0
- HueAdjustmentRed: 0
- HueAdjustmentYellow: 0
- LensManualDistortionAmount: 0
- LensProfileChromaticAberrationScale: 100
- LensProfileDistortionScale: 100
- LensProfileEnable: 1
- LensProfileFilename: Canon (SIGMA APO 70-200mm F2.8 EX DG OS HSM) - RAW.lcp
- LensProfileSetup: LensDefaults
- LensProfileVignettingScale: 100
- LuminanceAdjustmentAqua: 0
- LuminanceAdjustmentBlue: 0
- LuminanceAdjustmentGreen: 0
- LuminanceAdjustmentMagenta: 0
- LuminanceAdjustmentOrange: 0
- LuminanceAdjustmentPurple: 0
- LuminanceAdjustmentRed: 0
- LuminanceAdjustmentYellow: 0
- LuminanceSmoothing: 0
- ParametricDarks: 0
- ParametricHighlightSplit: 75
- ParametricHighlights: 0
- ParametricLights: 0
- ParametricMidtoneSplit: 50
- ParametricShadowSplit: 25
- ParametricShadows: 0
- PerspectiveHorizontal: 0
- PerspectiveRotate: 0.0
- PerspectiveScale: 100
- PerspectiveVertical: 0
- PostCropVignetteAmount: 0
- ProcessVersion: 5.7
- RawFileName: IMG_0079.CR2
- RedHue: 0
- RedSaturation: 0
- Saturation: 0
- SaturationAdjustmentAqua: 0
- SaturationAdjustmentBlue: 0
- SaturationAdjustmentGreen: 0
- SaturationAdjustmentMagenta: 0
- SaturationAdjustmentOrange: 0
- SaturationAdjustmentPurple: 0
- SaturationAdjustmentRed: 0
- SaturationAdjustmentYellow: 0
- ShadowTint: 0
- Shadows: 0
- SharpenDetail: 0
- SharpenEdgeMasking: 0
- SharpenRadius: +0.5
- Sharpness: 0
- SplitToningBalance: 0
- SplitToningHighlightHue: 0
- SplitToningHighlightSaturation: 0
- SplitToningShadowHue: 0
- SplitToningShadowSaturation: 0
- Temperature: 3800
- Tint: +21
- ToneCurve: 0, 0, 32, 22, 64, 56, 128, 128, 192, 196, 255, 255
- ToneCurveName: Medium Contrast
- Version: 6.2
- Vibrance: 0
- VignetteAmount: 0
- WhiteBalance: Fluorescent
- XMP-dc
- Creator: VeegaDi
- Format: image/jpeg
- Rights: DmitryAgeev MOW
- XMP-xmp
- CreateDate: 2011:02:27 12:39:02.34+03:00
- ModifyDate: 2011:03:06 12:09:09+03:00
- Rating: 0
- XMP-xmpMM
- Просмотров: 130
- Рейтинг: голосов еще нет
- Отзывов: отключены