| » Участники » БДГ » Land Rower » IMG_3322.jpg |
Уважаемые друзья и участники проекта iXBT.photo! К сожалению, 1 марта 2026 года проект iXBT.photo прекратит свою работу и будет закрыт. Мы высоко ценим ваше участие и тот вклад, который вы внесли в развитие нашего сообщества. Пожалуйста, не забудьте сохранить ваши фотографии до этой даты.
С уважением, команда iXBT.com
| IMG_3322.jpg |
IMG_3322.jpg
- Раздел: Другое, разное
- Дата съёмки: 11.03.2011 13:01
- Дата загрузки фото: 23.03.2011 12:51
- Оригинальная фотография: 1200 x 800 (371 Кб)
- Технические характеристики:
- Фотоаппарат: Canon EOS 5D Mark II
- Выдержка: 1/1000
- Гиперфокальное расстояние: inf m
- Диафрагма: 9,0
- Светочувствительность: 320
- Фокусное расстояние: 17,0 mm (35 mm equivalent: 68,0 mm)
- Полный EXIF
- Adobe
- ColorTransform: YCbCr
- Composite
- Aperture: 9,0
- CircleOfConfusion: 0,007 mm
- DOF: inf (0,00 m - inf)
- FOV: 29,0 deg
- FocalLength35efl: 17,0 mm (35 mm equivalent: 68,0 mm)
- HyperfocalDistance: inf m
- ScaleFactor35efl: 4,6
- ShutterSpeed: 1/1000
- ExifIFD
- ApertureValue: 9,0
- ColorSpace: Uncalibrated
- CreateDate: 2011:03:11 13:01:06
- CustomRendered: Normal
- DateTimeOriginal: 2011:03:11 13:01:06
- ExifImageHeight: 800
- ExifImageWidth: 1200
- ExposureCompensation: 0
- ExposureMode: Auto
- ExposureProgram: Aperture-priority AE
- ExposureTime: 1/1000
- FNumber: 9,0
- Flash: Off, Did not fire
- FocalLength: 17,0 mm
- ISO: 320
- MaxApertureValue: 4,0
- MeteringMode: Multi-segment
- SceneCaptureType: Standard
- ShutterSpeedValue: 1/1000
- SubjectDistance: 3,72 m
- WhiteBalance: Auto
- ICC-header
- IFD0
- BitsPerSample: 8 8 8
- ImageHeight: 3744
- ImageWidth: 5616
- Make: Canon
- Model: Canon EOS 5D Mark II
- ModifyDate: 2011:03:16 12:51:17
- Orientation: Horizontal (normal)
- PhotometricInterpretation: RGB
- SamplesPerPixel: 3
- IFD1
- IPTC
- DateCreated: 2011:03:11
- System
- XMP-aux
- Firmware: 1.0.7
- FlashCompensation: 0
- ImageNumber: 0
- Lens: EF17-40mm f/4L USM
- LensID: 231
- LensInfo: 17-40mm f/?
- SerialNumber: 730302719
- XMP-crs
- AlreadyApplied: True
- BlueHue: 0
- BlueSaturation: 0
- Brightness: +59
- ChromaticAberrationB: 0
- ChromaticAberrationR: 0
- Clarity: 0
- ColorNoiseReduction: 98
- Contrast: +25
- ConvertToGrayscale: False
- Defringe: 0
- Exposure: +0.60
- FillLight: 0
- GrainAmount: 0
- GreenHue: 0
- GreenSaturation: 0
- HasCrop: False
- HasSettings: True
- HighlightRecovery: 0
- HueAdjustmentAqua: 0
- HueAdjustmentBlue: 0
- HueAdjustmentGreen: 0
- HueAdjustmentMagenta: 0
- HueAdjustmentOrange: 0
- HueAdjustmentPurple: 0
- HueAdjustmentRed: 0
- HueAdjustmentYellow: 0
- LuminanceAdjustmentAqua: -33
- LuminanceAdjustmentBlue: -33
- LuminanceAdjustmentGreen: -34
- LuminanceAdjustmentMagenta: 0
- LuminanceAdjustmentOrange: 0
- LuminanceAdjustmentPurple: 0
- LuminanceAdjustmentRed: 0
- LuminanceAdjustmentYellow: 0
- LuminanceSmoothing: 37
- ParametricDarks: 0
- ParametricHighlightSplit: 75
- ParametricHighlights: 0
- ParametricLights: 0
- ParametricMidtoneSplit: 50
- ParametricShadowSplit: 25
- ParametricShadows: 0
- PostCropVignetteAmount: 0
- ProcessVersion: 5.0
- RawFileName: IMG_3322.CR2
- RedHue: 0
- RedSaturation: 0
- Saturation: 0
- SaturationAdjustmentAqua: +44
- SaturationAdjustmentBlue: +45
- SaturationAdjustmentGreen: +43
- SaturationAdjustmentMagenta: 0
- SaturationAdjustmentOrange: 0
- SaturationAdjustmentPurple: 0
- SaturationAdjustmentRed: 0
- SaturationAdjustmentYellow: 0
- ShadowTint: 0
- Shadows: 10
- SharpenDetail: 25
- SharpenEdgeMasking: 0
- SharpenRadius: +2.0
- Sharpness: 25
- SplitToningBalance: 0
- SplitToningHighlightHue: 0
- SplitToningHighlightSaturation: 0
- SplitToningShadowHue: 0
- SplitToningShadowSaturation: 0
- Temperature: 5400
- Tint: +5
- ToneCurve: 0, 0, 32, 22, 64, 56, 128, 128, 192, 196, 255, 255
- ToneCurveName: Medium Contrast
- Version: 5.7
- Vibrance: 0
- VignetteAmount: 0
- WhiteBalance: As Shot
- XMP-dc
- XMP-xmp
- CreateDate: 2011:03:11 13:01:06.38+03:00
- ModifyDate: 2011:03:16 12:51:17+03:00
- Rating: 0
- XMP-xmpMM
- Просмотров: 112
- Рейтинг: голосов еще нет
- Отзывов: отключены
Получить код для блога
| Вставка фотографии в текущем разрешении |
Вставка миниатюры |
HTML (для вставки в блог):
BBCode (для вставки в форум):
Ссылка на фото:
Ссылка на миниатюру:
- Послать ссылку другу
| Комментарии к фотографии |