***
EF 70-300 f/4-5,6 IS USM, 300мм
- Раздел: Животные
- Дата съёмки: 30.03.2011 06:55
- Дата загрузки фото: 30.03.2011 13:33
- Оригинальная фотография: 1066 x 1600 (865 Кб)
- Технические характеристики:
- Фотоаппарат: Canon EOS 7D
- Выдержка: 1/250
- Гиперфокальное расстояние: inf m
- Диафрагма: 5,6
- Светочувствительность: 1000
- Фокусное расстояние: 300,0 mm (35 mm equivalent: 1500,0 mm)
- Полный EXIF
- Adobe
- ColorTransform: YCbCr
- Composite
- Aperture: 5,6
- CircleOfConfusion: 0,006 mm
- DOF: inf (0,00 m - inf)
- FOV: 1,0 deg
- FocalLength35efl: 300,0 mm (35 mm equivalent: 1500,0 mm)
- HyperfocalDistance: inf m
- ScaleFactor35efl: 5,1
- ShutterSpeed: 1/250
- ExifIFD
- ApertureValue: 5,6
- ColorSpace: Uncalibrated
- CreateDate: 2011:03:30 06:55:16
- CustomRendered: Normal
- DateTimeOriginal: 2011:03:30 06:55:16
- ExifImageHeight: 1600
- ExifImageWidth: 1066
- ExposureCompensation: 0
- ExposureMode: Manual
- ExposureProgram: Manual
- ExposureTime: 1/250
- FNumber: 5,6
- Flash: Off, Did not fire
- FocalLength: 300,0 mm
- ISO: 1000
- LensInfo: 70-300mm f/?
- LensModel: EF70-300mm f/4-5.6 IS USM
- MaxApertureValue: 5,7
- MeteringMode: Multi-segment
- SceneCaptureType: Standard
- SensitivityType: Unknown
- SerialNumber: 1580807926
- ShutterSpeedValue: 1/250
- SubjectDistance: 4,01 m
- WhiteBalance: Auto
- ICC-header
- IFD0
- Artist: Pavel "Myth" YB
- Make: Canon
- Model: Canon EOS 7D
- ModifyDate: 2011:03:30 12:15:30
- Orientation: Horizontal (normal)
- IFD1
- IPTC
- By-line: Pavel "Myth" YB
- DateCreated: 2011:03:30
- System
- XMP-aux
- ApproximateFocusDistance: 4,01
- Firmware: 1.2.2
- FlashCompensation: 0
- ImageNumber: 0
- Lens: EF70-300mm f/4-5.6 IS USM
- LensID: 238
- XMP-crs
- AlreadyApplied: True
- BlueHue: 0
- BlueSaturation: 0
- Brightness: +50
- ChromaticAberrationB: 0
- ChromaticAberrationR: 0
- Clarity: 0
- ColorNoiseReduction: 50
- ColorNoiseReductionDetail: 50
- Contrast: +25
- ConvertToGrayscale: False
- Defringe: 0
- Exposure: +1.00
- FillLight: 20
- GrainAmount: 0
- GreenHue: 0
- GreenSaturation: 0
- HasCrop: False
- HasSettings: True
- HighlightRecovery: 0
- HueAdjustmentAqua: 0
- HueAdjustmentBlue: 0
- HueAdjustmentGreen: 0
- HueAdjustmentMagenta: 0
- HueAdjustmentOrange: 0
- HueAdjustmentPurple: 0
- HueAdjustmentRed: 0
- HueAdjustmentYellow: 0
- LensManualDistortionAmount: 0
- LensProfileChromaticAberrationScale: 100
- LensProfileDistortionScale: 100
- LensProfileEnable: 0
- LensProfileFilename: Canon EOS-1Ds Mark III (Canon EF 70-300mm f4-5.6 IS USM) - RAW.lcp
- LensProfileSetup: LensDefaults
- LensProfileVignettingScale: 100
- LuminanceAdjustmentAqua: 0
- LuminanceAdjustmentBlue: 0
- LuminanceAdjustmentGreen: 0
- LuminanceAdjustmentMagenta: 0
- LuminanceAdjustmentOrange: 0
- LuminanceAdjustmentPurple: 0
- LuminanceAdjustmentRed: 0
- LuminanceAdjustmentYellow: 0
- LuminanceNoiseReductionContrast: 0
- LuminanceNoiseReductionDetail: 50
- LuminanceSmoothing: 50
- ParametricDarks: 0
- ParametricHighlightSplit: 75
- ParametricHighlights: 0
- ParametricLights: 0
- ParametricMidtoneSplit: 50
- ParametricShadowSplit: 25
- ParametricShadows: 0
- PerspectiveHorizontal: 0
- PerspectiveRotate: 0.0
- PerspectiveScale: 100
- PerspectiveVertical: 0
- PostCropVignetteAmount: 0
- ProcessVersion: 5.7
- RawFileName: IMG_1966.CR2
- RedHue: 0
- RedSaturation: 0
- Saturation: 0
- SaturationAdjustmentAqua: 0
- SaturationAdjustmentBlue: 0
- SaturationAdjustmentGreen: 0
- SaturationAdjustmentMagenta: 0
- SaturationAdjustmentOrange: 0
- SaturationAdjustmentPurple: 0
- SaturationAdjustmentRed: 0
- SaturationAdjustmentYellow: 0
- ShadowTint: 0
- Shadows: 5
- SharpenDetail: 25
- SharpenEdgeMasking: 0
- SharpenRadius: +1.0
- Sharpness: 25
- SplitToningBalance: 0
- SplitToningHighlightHue: 0
- SplitToningHighlightSaturation: 0
- SplitToningShadowHue: 0
- SplitToningShadowSaturation: 0
- Temperature: 5200
- Tint: 0
- ToneCurve: 0, 0, 32, 22, 64, 56, 128, 128, 192, 196, 255, 255
- ToneCurveName: Medium Contrast
- Version: 6.2
- Vibrance: 0
- VignetteAmount: 0
- XMP-dc
- Creator: Pavel "Myth" YB
- Format: image/jpeg
- XMP-xmp
- CreateDate: 2011:03:30 06:55:16.13+04:00
- ModifyDate: 2011:03:30 12:15:30+04:00
- Rating: 0
- XMP-xmpMM
Получить код для блога
Вставка фотографии в текущем разрешении |
Вставка миниатюры |
HTML (для вставки в блог):
BBCode (для вставки в форум):
Ссылка на фото:
Ссылка на миниатюру:
- Послать ссылку другу
Комментарии к фотографии |