Уважаемые друзья и участники проекта iXBT.photo! К сожалению, 1 марта 2026 года проект iXBT.photo прекратит свою работу и будет закрыт. Мы высоко ценим ваше участие и тот вклад, который вы внесли в развитие нашего сообщества. Пожалуйста, не забудьте сохранить ваши фотографии до этой даты.
С уважением, команда iXBT.com
| Фонтан |
Фонтан
- Раздел: Другое, разное
- Дата съёмки: 10.04.2011 20:23
- Дата загрузки фото: 12.04.2011 03:40
- Оригинальная фотография: 728 x 1200 (495 Кб)
- Технические характеристики:
- Фотоаппарат: Canon EOS 40D
- Выдержка: 6,0
- Гиперфокальное расстояние: inf m
- Диафрагма: 9,0
- Светочувствительность: 100
- Фокусное расстояние: 28,0 mm (35 mm equivalent: 140,0 mm)
- Полный EXIF
- Adobe
- ColorTransform: YCbCr
- Composite
- Aperture: 9,0
- CircleOfConfusion: 0,006 mm
- FOV: 14,0 deg
- FocalLength35efl: 28,0 mm (35 mm equivalent: 140,0 mm)
- HyperfocalDistance: inf m
- LightValue: 3,8
- ScaleFactor35efl: 5,4
- ShutterSpeed: 6,0
- ExifIFD
- ApertureValue: 9,0
- ColorSpace: sRGB
- CreateDate: 2011:04:10 20:23:54
- CustomRendered: Normal
- DateTimeOriginal: 2011:04:10 20:23:54
- ExifImageHeight: 1200
- ExifImageWidth: 728
- ExposureCompensation: 0
- ExposureMode: Manual
- ExposureProgram: Manual
- ExposureTime: 6,0
- FNumber: 9,0
- Flash: Off, Did not fire
- FocalLength: 28,0 mm
- ISO: 100
- LensInfo: 24-105mm f/?
- LensModel: EF24-105mm f/4L IS USM
- MaxApertureValue: 4,0
- MeteringMode: Spot
- SceneCaptureType: Standard
- SensitivityType: Unknown
- SerialNumber: 2231214667
- ShutterSpeedValue: 6,0
- SubjectDistance: 0,51 m
- WhiteBalance: Auto
- ICC-header
- ICC-meas
- ICC-view
- IFD0
- BitsPerSample: 8 8 8
- ImageHeight: 2592
- ImageWidth: 3888
- Make: Canon
- Model: Canon EOS 40D
- ModifyDate: 2011:04:10 22:05:00
- Orientation: Horizontal (normal)
- PhotometricInterpretation: RGB
- SamplesPerPixel: 3
- IFD1
- IPTC
- DateCreated: 2011:04:10
- System
- XMP-aux
- ApproximateFocusDistance: 0,51
- Firmware: 1.1.1
- FlashCompensation: 0
- ImageNumber: 0
- Lens: EF24-105mm f/4L IS USM
- LensID: 237
- XMP-crs
- AlreadyApplied: True
- BlueHue: -4
- BlueSaturation: 0
- Brightness: +50
- ChromaticAberrationB: 0
- ChromaticAberrationR: 0
- Clarity: +37
- ColorNoiseReduction: 83
- ColorNoiseReductionDetail: 31
- Contrast: +25
- ConvertToGrayscale: False
- Defringe: 0
- Exposure: +1.58
- FillLight: 0
- GrainAmount: 0
- GreenHue: -15
- GreenSaturation: -92
- HasCrop: False
- HasSettings: True
- HighlightRecovery: 0
- HueAdjustmentAqua: 0
- HueAdjustmentBlue: 0
- HueAdjustmentGreen: 0
- HueAdjustmentMagenta: 0
- HueAdjustmentOrange: 0
- HueAdjustmentPurple: 0
- HueAdjustmentRed: 0
- HueAdjustmentYellow: +92
- LensManualDistortionAmount: 0
- LensProfileEnable: 0
- LensProfileSetup: LensDefaults
- LuminanceAdjustmentAqua: 0
- LuminanceAdjustmentBlue: 0
- LuminanceAdjustmentGreen: 0
- LuminanceAdjustmentMagenta: 0
- LuminanceAdjustmentOrange: -3
- LuminanceAdjustmentPurple: 0
- LuminanceAdjustmentRed: 0
- LuminanceAdjustmentYellow: +53
- LuminanceNoiseReductionContrast: 0
- LuminanceNoiseReductionDetail: 50
- LuminanceSmoothing: 21
- ParametricDarks: -1
- ParametricHighlightSplit: 75
- ParametricHighlights: +56
- ParametricLights: +6
- ParametricMidtoneSplit: 50
- ParametricShadowSplit: 25
- ParametricShadows: 0
- PerspectiveHorizontal: 0
- PerspectiveRotate: 0.0
- PerspectiveScale: 100
- PerspectiveVertical: 0
- PostCropVignetteAmount: -31
- PostCropVignetteFeather: 76
- PostCropVignetteHighlightContrast: 0
- PostCropVignetteMidpoint: 12
- PostCropVignetteRoundness: -46
- PostCropVignetteStyle: 1
- ProcessVersion: 5.7
- RedHue: -69
- RedSaturation: -73
- Saturation: -65
- SaturationAdjustmentAqua: 0
- SaturationAdjustmentBlue: -61
- SaturationAdjustmentGreen: -3
- SaturationAdjustmentMagenta: 0
- SaturationAdjustmentOrange: -80
- SaturationAdjustmentPurple: 0
- SaturationAdjustmentRed: 0
- SaturationAdjustmentYellow: +3
- ShadowTint: +44
- Shadows: 3
- SharpenDetail: 25
- SharpenEdgeMasking: 46
- SharpenRadius: +0.6
- Sharpness: 87
- SplitToningBalance: -23
- SplitToningHighlightHue: 90
- SplitToningHighlightSaturation: 24
- SplitToningShadowHue: 150
- SplitToningShadowSaturation: 14
- Temperature: 6792
- Tint: -109
- ToneCurve: 0, 0, 32, 22, 64, 56, 128, 128, 192, 196, 255, 255
- ToneCurveName: Medium Contrast
- Version: 6.2
- Vibrance: +52
- VignetteAmount: 0
- WhiteBalance: Custom
- XMP-dc
- XMP-xmp
- CreateDate: 2011:04:10 20:23:54.03+04:00
- ModifyDate: 2011:04:10 22:05+04:00
- XMP-xmpMM
Получить код для блога
| Вставка фотографии в текущем разрешении |
Вставка миниатюры |
HTML (для вставки в блог):
BBCode (для вставки в форум):
Ссылка на фото:
Ссылка на миниатюру:
- Послать ссылку другу
| Комментарии к фотографии |