- Раздел: Другое, разное
- Дата съёмки: 16.03.2011 18:03
- Дата загрузки фото: 26.04.2011 09:10
- Оригинальная фотография: 881 x 882 (143 Кб)
- Технические характеристики:
- Фотоаппарат: Nikon D300S
- Выдержка: 1/250
- Гиперфокальное расстояние: inf m
- Диафрагма: 8,0
- Светочувствительность: 200
- Фокусное расстояние: 420,0 mm (35 mm equivalent: 420,0 mm)
- Экспокоррекция: -1/3
- Полный EXIF
- Adobe
- ColorTransform: YCbCr
- Composite
- Aperture: 8,0
- CircleOfConfusion: 0,020 mm
- DOF: inf (0,00 m - inf)
- FOV: 4,0 deg
- FocalLength35efl: 420,0 mm (35 mm equivalent: 420,0 mm)
- HyperfocalDistance: inf m
- ScaleFactor35efl: 1,5
- ShutterSpeed: 1/250
- ExifIFD
- ApertureValue: 8,0
- CFAPattern: [Red,Green][Green,Blue]
- Contrast: Low
- CreateDate: 2011:03:16 18:03:59
- CustomRendered: Normal
- DateTimeOriginal: 2011:03:16 18:03:59
- DigitalZoomRatio: 1
- ExposureCompensation: -1/3
- ExposureMode: Auto
- ExposureProgram: Aperture-priority AE
- ExposureTime: 1/250
- FNumber: 8,0
- Flash: No Flash
- FocalLength: 420,0 mm
- FocalLengthIn35mmFormat: 630 mm
- GainControl: None
- ISO: 200
- LensInfo: 140-420mm f/5.6
- LensModel: 140.0-420.0 mm f/5.6
- LightSource: Unknown
- MaxApertureValue: 5,7
- MeteringMode: Center-weighted average
- Saturation: Low
- SceneCaptureType: Landscape
- SceneType: Directly photographed
- SensingMethod: One-chip color area
- SensitivityType: Unknown
- SerialNumber: 6012782
- Sharpness: Normal
- ShutterSpeedValue: 1/250
- SubjectDistance: 4294967295 m
- SubjectDistanceRange: Unknown
- WhiteBalance: Auto
- ICC-header
- ICC-meas
- ICC-view
- IFD0
- Artist: Smirnov
- Copyright: SWC
- Make: NIKON CORPORATION
- Model: NIKON D300S
- ModifyDate: 2011:03:16 18:16:03
- Software: Ver.1.00
- IFD1
- IPTC
- By-line: Smirnov
- CopyrightNotice: SWC
- System
- XMP-aux
- ApproximateFocusDistance: 4294967295
- ImageNumber: 13448
- Lens: 140.0-420.0 mm f/5.6
- LensID: 72
- XMP-crs
- AlreadyApplied: True
- BlueHue: +4
- BlueSaturation: 0
- Brightness: -3
- ChromaticAberrationB: 0
- ChromaticAberrationR: 0
- Clarity: +94
- ColorNoiseReduction: 35
- ColorNoiseReductionDetail: 50
- Contrast: +100
- ConvertToGrayscale: False
- CropAngle: 0
- CropBottom: 0.719684
- CropConstrainToWarp: 1
- CropHeight: 3
- CropLeft: 0.287445
- CropRight: 0.697137
- CropTop: 0.308458
- CropUnit: Unknown (3)
- CropWidth: 2
- Defringe: 0
- Exposure: -0.30
- FillLight: 0
- GrainAmount: 0
- GreenHue: +13
- GreenSaturation: 0
- HasCrop: True
- HasSettings: True
- HighlightRecovery: 0
- HueAdjustmentAqua: 0
- HueAdjustmentBlue: 0
- HueAdjustmentGreen: +9
- HueAdjustmentMagenta: 0
- HueAdjustmentOrange: +9
- HueAdjustmentPurple: 0
- HueAdjustmentRed: 0
- HueAdjustmentYellow: +12
- LensManualDistortionAmount: 0
- LensProfileChromaticAberrationScale: 100
- LensProfileDistortionScale: 127
- LensProfileEnable: 0
- LensProfileFilename: NIKON CORPORATION (Sigma_100-300mm_F4_APO_EX_DG_HSM ) - RAW.lcp
- LensProfileSetup: Custom
- LensProfileVignettingScale: 100
- LuminanceAdjustmentAqua: 0
- LuminanceAdjustmentBlue: +9
- LuminanceAdjustmentGreen: +5
- LuminanceAdjustmentMagenta: 0
- LuminanceAdjustmentOrange: +5
- LuminanceAdjustmentPurple: 0
- LuminanceAdjustmentRed: 0
- LuminanceAdjustmentYellow: +7
- LuminanceNoiseReductionContrast: 12
- LuminanceNoiseReductionDetail: 50
- LuminanceSmoothing: 12
- PaintCorrectionActive: true
- PaintCorrectionAmount: 1.000000
- PaintCorrectionBrightness: 0.000000
- PaintCorrectionClarity: 0.000000
- PaintCorrectionContrast: 0.000000
- PaintCorrectionExposure: 0.000000
- PaintCorrectionHue: 50.000000
- PaintCorrectionMaskCenterWeight: 0.143200
- PaintCorrectionMaskFlow: 0.880734
- PaintCorrectionMaskRadius: 0.014160
- PaintCorrectionMaskValue: 1.000000
- PaintCorrectionMaskWhat: Mask/Paint
- PaintCorrectionSaturation: 0.000000
- PaintCorrectionSharpness: -0.560000
- PaintCorrectionWhat: Correction
- ParametricDarks: 0
- ParametricHighlightSplit: 75
- ParametricHighlights: 0
- ParametricLights: 0
- ParametricMidtoneSplit: 50
- ParametricShadowSplit: 25
- ParametricShadows: 0
- PerspectiveHorizontal: 0
- PerspectiveRotate: 0.0
- PerspectiveScale: 100
- PerspectiveVertical: 0
- PostCropVignetteAmount: 0
- ProcessVersion: 5.7
- RawFileName: DSC_3426.NEF
- RedHue: -13
- RedSaturation: 0
- Saturation: -66
- SaturationAdjustmentAqua: +3
- SaturationAdjustmentBlue: +12
- SaturationAdjustmentGreen: +7
- SaturationAdjustmentMagenta: 0
- SaturationAdjustmentOrange: 0
- SaturationAdjustmentPurple: 0
- SaturationAdjustmentRed: 0
- SaturationAdjustmentYellow: +7
- ShadowTint: 0
- Shadows: 78
- SharpenDetail: 63
- SharpenEdgeMasking: 5
- SharpenRadius: +1.1
- Sharpness: 74
- SplitToningBalance: 0
- SplitToningHighlightHue: 0
- SplitToningHighlightSaturation: 0
- SplitToningShadowHue: 0
- SplitToningShadowSaturation: 0
- Temperature: 5900
- Tint: -11
- ToneCurve: 0, 0, 32, 22, 64, 56, 128, 128, 192, 196, 255, 255
- ToneCurveName: Medium Contrast
- Version: 6.3
- Vibrance: +6
- VignetteAmount: 0
- WhiteBalance: Custom
- XMP-dc
- Creator: Smirnov
- Rights: SWC
- XMP-exif
- DateTimeOriginal: 2011:03:16 18:03:59.93+03:00
- ExifImageHeight: 1171
- ExifImageWidth: 1757
- FlashFired: False
- FlashFunction: False
- FlashMode: Unknown
- FlashRedEyeMode: False
- FlashReturn: No return detection
- XMP-tiff
- ImageHeight: 1171
- ImageWidth: 1757
- XMP-xmp
- CreateDate: 2011:03:16 18:03:59.93+03:00
- CreatorTool: Ver.1.00
- ModifyDate: 2011:03:16 18:16:03+03:00
- Rating: 0