Уважаемые друзья и участники проекта iXBT.photo! К сожалению, 1 марта 2026 года проект iXBT.photo прекратит свою работу и будет закрыт. Мы высоко ценим ваше участие и тот вклад, который вы внесли в развитие нашего сообщества. Пожалуйста, не забудьте сохранить ваши фотографии до этой даты.
С уважением, команда iXBT.com
| DSC00889.jpg |
DSC00889.jpg
- Раздел: Тесты фототехники
- Дата съёмки: 30.04.2011 19:31
- Дата загрузки фото: 30.04.2011 12:23
- Оригинальная фотография: 2600 x 1730 (774 Кб)
- Технические характеристики:
- Фотоаппарат: Sony NEX-5
- Выдержка: 1/4000
- Диафрагма: 1,0
- Светочувствительность: 200
- Полный EXIF
- Composite
- Aperture: 1,0
- ShutterSpeed: 1/4000
- ExifIFD
- ApertureValue: 1,0
- BrightnessValue: 6,12
- Contrast: Normal
- CreateDate: 2011:04:30 19:31:06
- CustomRendered: Normal
- DateTimeOriginal: 2011:04:30 19:31:06
- ExposureCompensation: 0
- ExposureMode: Auto
- ExposureProgram: Aperture-priority AE
- ExposureTime: 1/4000
- FNumber: 1,0
- Flash: Off, Did not fire
- ISO: 200
- LensModel: ----
- LightSource: Unknown
- MaxApertureValue: 1,0
- MeteringMode: Multi-segment
- RecommendedExposureIndex: 200
- Saturation: Normal
- SceneCaptureType: Standard
- SceneType: Directly photographed
- SensitivityType: Recommended Exposure Index
- Sharpness: Normal
- ShutterSpeedValue: 1/4000
- WhiteBalance: Auto
- IFD0
- Copyright: Copyright (c) 2011 Maria Rukosueva
- ImageDescription: SONY DSC
- Make: SONY
- Model: NEX-5
- ModifyDate: 2011:04:30 16:15:46
- Software: NEX-5 Ver.02
- XPAuthor: Maria Rukosueva
- XPComment: Моб. тел. +7 924 209 44 76
- XPKeywords: Хабаровск, фотограф на свадьбу, свадебный фотограф, свадебная фотосъёмка, свадебная книга, wedding book, PrIndo
- IFD1
- System
- XMP-aux
- XMP-crs
- AlreadyApplied: True
- BlueHue: 0
- BlueSaturation: 0
- Brightness: +2
- ChromaticAberrationB: 0
- ChromaticAberrationR: 0
- Clarity: +10
- ColorNoiseReduction: 25
- ColorNoiseReductionDetail: 50
- Contrast: +33
- ConvertToGrayscale: False
- CropAngle: 0.240367
- CropBottom: 0.998932
- CropConstrainToWarp: 0
- CropHeight: 2923
- CropLeft: 0.043446
- CropRight: 0.997329
- CropTop: 0.036348
- CropUnit: pixels
- CropWidth: 4392
- Defringe: 0
- Exposure: 0.00
- FillLight: 9
- GrainAmount: 0
- GreenHue: 0
- GreenSaturation: 0
- HasCrop: True
- HasSettings: True
- HighlightRecovery: 18
- HueAdjustmentAqua: 0
- HueAdjustmentBlue: 0
- HueAdjustmentGreen: 0
- HueAdjustmentMagenta: 0
- HueAdjustmentOrange: 0
- HueAdjustmentPurple: 0
- HueAdjustmentRed: 0
- HueAdjustmentYellow: 0
- LensManualDistortionAmount: 0
- LensProfileEnable: 0
- LensProfileSetup: LensDefaults
- LuminanceAdjustmentAqua: 0
- LuminanceAdjustmentBlue: 0
- LuminanceAdjustmentGreen: 0
- LuminanceAdjustmentMagenta: 0
- LuminanceAdjustmentOrange: 0
- LuminanceAdjustmentPurple: 0
- LuminanceAdjustmentRed: 0
- LuminanceAdjustmentYellow: 0
- LuminanceSmoothing: 0
- ParametricDarks: 0
- ParametricHighlightSplit: 75
- ParametricHighlights: 0
- ParametricLights: 0
- ParametricMidtoneSplit: 50
- ParametricShadowSplit: 25
- ParametricShadows: 0
- PerspectiveHorizontal: 0
- PerspectiveRotate: 0.0
- PerspectiveScale: 100
- PerspectiveVertical: 0
- PostCropVignetteAmount: 0
- ProcessVersion: 5.7
- RedHue: 0
- RedSaturation: 0
- Saturation: 0
- SaturationAdjustmentAqua: 0
- SaturationAdjustmentBlue: 0
- SaturationAdjustmentGreen: 0
- SaturationAdjustmentMagenta: 0
- SaturationAdjustmentOrange: 0
- SaturationAdjustmentPurple: 0
- SaturationAdjustmentRed: 0
- SaturationAdjustmentYellow: 0
- ShadowTint: 0
- Shadows: 3
- SharpenDetail: 14
- SharpenEdgeMasking: 0
- SharpenRadius: +1.0
- Sharpness: 88
- SplitToningBalance: 0
- SplitToningHighlightHue: 0
- SplitToningHighlightSaturation: 0
- SplitToningShadowHue: 0
- SplitToningShadowSaturation: 0
- Temperature: 5750
- Tint: -6
- ToneCurve: 0, 0, 32, 22, 64, 56, 128, 128, 192, 196, 255, 255
- ToneCurveName: Medium Contrast
- Version: 6.2
- Vibrance: 0
- VignetteAmount: 0
- WhiteBalance: As Shot
- XMP-dc
- XMP-exif
- DateTimeDigitized: 2011:04:30 19:31:06+11:00
- DateTimeOriginal: 2011:04:30 19:31:06+11:00
- ExifImageHeight: 2923
- ExifImageWidth: 4392
- FlashFired: False
- FlashFunction: False
- FlashMode: Off
- FlashRedEyeMode: False
- FlashReturn: No return detection
- SensitivityType: 2
- XMP-tiff
- ImageHeight: 2923
- ImageWidth: 4392
- XMP-xmp
- CreateDate: 2011:04:30 19:31:06+11:00
- ModifyDate: 2011:04:30 16:15:46+11:00
- Просмотров: 256
- Рейтинг: голосов еще нет
- Отзывов: 0
Получить код для блога
| Вставка фотографии в текущем разрешении |
Вставка миниатюры |
HTML (для вставки в блог):
BBCode (для вставки в форум):
Ссылка на фото:
Ссылка на миниатюру:
- Послать ссылку другу
| Комментарии к фотографии |