| » Участники » mikiort » Птицы #1 » IMG_1357s.jpg |
Уважаемые друзья и участники проекта iXBT.photo! К сожалению, 1 марта 2026 года проект iXBT.photo прекратит свою работу и будет закрыт. Мы высоко ценим ваше участие и тот вклад, который вы внесли в развитие нашего сообщества. Пожалуйста, не забудьте сохранить ваши фотографии до этой даты.
С уважением, команда iXBT.com
| IMG_1357s.jpg |
IMG_1357s.jpg
- Раздел: Животные
- Дата съёмки: 14.05.2011 14:17
- Дата загрузки фото: 15.05.2011 00:03
- Оригинальная фотография: 1500 x 992 (286 Кб)
- Технические характеристики:
- Фотоаппарат: Canon EOS 7D
- Выдержка: 1/1600
- Гиперфокальное расстояние: inf m
- Диафрагма: 5,6
- Светочувствительность: 200
- Фокусное расстояние: 420,0 mm (35 mm equivalent: 2100,0 mm)
- Экспокоррекция: -2/3
- Полный EXIF
- Adobe
- ColorTransform: YCbCr
- Composite
- Aperture: 5,6
- CircleOfConfusion: 0,006 mm
- DOF: inf (0,00 m - inf)
- FOV: 0,0 deg
- FocalLength35efl: 420,0 mm (35 mm equivalent: 2100,0 mm)
- HyperfocalDistance: inf m
- ScaleFactor35efl: 5,4
- ShutterSpeed: 1/1600
- ExifIFD
- ApertureValue: 5,6
- ColorSpace: sRGB
- CreateDate: 2011:05:14 14:17:50
- CustomRendered: Normal
- DateTimeOriginal: 2011:05:14 14:17:50
- ExifImageHeight: 992
- ExifImageWidth: 1500
- ExposureCompensation: -2/3
- ExposureMode: Auto
- ExposureProgram: Shutter speed priority AE
- ExposureTime: 1/1600
- FNumber: 5,6
- Flash: Off, Did not fire
- FocalLength: 420,0 mm
- ISO: 200
- LensInfo: 420mm f/?
- LensModel: EF300mm f/4L IS USM +1.4x
- MaxApertureValue: 5,7
- MeteringMode: Multi-segment
- OwnerName: Michael Ortenberg
- SceneCaptureType: Standard
- SerialNumber: 1781018879
- ShutterSpeedValue: 1/1600
- SubjectDistance: 4294967295 m
- WhiteBalance: Auto
- ICC-header
- ICC-meas
- ICC-view
- IFD0
- Artist: Michael Ortenberg
- BitsPerSample: 16 16 16
- Copyright: Michael Ortenberg
- ImageHeight: 2640
- ImageWidth: 3992
- Make: Canon
- Model: Canon EOS 7D
- ModifyDate: 2011:05:14 18:39:48
- Orientation: Horizontal (normal)
- PhotometricInterpretation: RGB
- PlanarConfiguration: Chunky
- SamplesPerPixel: 3
- IFD1
- IPTC
- By-line: Michael Ortenberg
- CopyrightNotice: Michael Ortenberg
- DateCreated: 2011:05:14
- System
- XMP-aux
- ApproximateFocusDistance: 4294967295
- Firmware: 1.2.5
- FlashCompensation: 0
- ImageNumber: 0
- Lens: EF300mm f/4L IS USM +1.4x
- LensID: 177
- XMP-crs
- AlreadyApplied: True
- BlueHue: 0
- BlueSaturation: 0
- Brightness: +50
- ChromaticAberrationB: 0
- ChromaticAberrationR: 0
- Clarity: +20
- ColorNoiseReduction: 25
- ColorNoiseReductionDetail: 50
- Contrast: +59
- ConvertToGrayscale: False
- CropAngle: 0
- CropBottom: 0.928382
- CropConstrainToWarp: 0
- CropHeight: 2640
- CropLeft: 0.150309
- CropRight: 0.920425
- CropTop: 0.164456
- CropUnit: pixels
- CropWidth: 3992
- Defringe: 0
- Exposure: +0.05
- FillLight: 18
- GrainAmount: 0
- GreenHue: 0
- GreenSaturation: 0
- HasCrop: True
- HasSettings: True
- HighlightRecovery: 0
- HueAdjustmentAqua: 0
- HueAdjustmentBlue: 0
- HueAdjustmentGreen: 0
- HueAdjustmentMagenta: 0
- HueAdjustmentOrange: 0
- HueAdjustmentPurple: 0
- HueAdjustmentRed: 0
- HueAdjustmentYellow: 0
- LensManualDistortionAmount: 0
- LensProfileChromaticAberrationScale: 100
- LensProfileDistortionScale: 100
- LensProfileEnable: 1
- LensProfileFilename: Canon EOS 5D Mark II (Canon EF 300mm f4L IS USM) - RAW.lcp
- LensProfileSetup: Custom
- LensProfileVignettingScale: 100
- LuminanceAdjustmentAqua: 0
- LuminanceAdjustmentBlue: 0
- LuminanceAdjustmentGreen: 0
- LuminanceAdjustmentMagenta: 0
- LuminanceAdjustmentOrange: 0
- LuminanceAdjustmentPurple: 0
- LuminanceAdjustmentRed: 0
- LuminanceAdjustmentYellow: 0
- LuminanceNoiseReductionContrast: 0
- LuminanceNoiseReductionDetail: 50
- LuminanceSmoothing: 14
- ParametricDarks: +20
- ParametricHighlightSplit: 75
- ParametricHighlights: 0
- ParametricLights: -33
- ParametricMidtoneSplit: 50
- ParametricShadowSplit: 25
- ParametricShadows: -28
- PerspectiveHorizontal: 0
- PerspectiveRotate: 0.0
- PerspectiveScale: 100
- PerspectiveVertical: 0
- PostCropVignetteAmount: 0
- ProcessVersion: 5.7
- RedHue: 0
- RedSaturation: 0
- Saturation: +6
- SaturationAdjustmentAqua: 0
- SaturationAdjustmentBlue: 0
- SaturationAdjustmentGreen: 0
- SaturationAdjustmentMagenta: 0
- SaturationAdjustmentOrange: 0
- SaturationAdjustmentPurple: 0
- SaturationAdjustmentRed: 0
- SaturationAdjustmentYellow: 0
- ShadowTint: 0
- Shadows: 5
- SharpenDetail: 28
- SharpenEdgeMasking: 0
- SharpenRadius: +1.0
- Sharpness: 28
- SplitToningBalance: 0
- SplitToningHighlightHue: 0
- SplitToningHighlightSaturation: 0
- SplitToningShadowHue: 0
- SplitToningShadowSaturation: 0
- Temperature: 4950
- Tint: +25
- ToneCurve: 0, 0, 32, 22, 64, 56, 128, 128, 192, 196, 255, 255
- ToneCurveName: Medium Contrast
- Version: 6.4
- Vibrance: +13
- VignetteAmount: 0
- WhiteBalance: As Shot
- XMP-dc
- Creator: Michael Ortenberg
- Format: image/jpeg
- Rights: Michael Ortenberg
- XMP-exif
- DateTimeDigitized: 2011:05:14 14:17:50+03:00
- DateTimeOriginal: 2011:05:14 14:17:50+03:00
- FlashFired: False
- FlashFunction: False
- FlashMode: Off
- FlashRedEyeMode: False
- FlashReturn: No return detection
- XMP-tiff
- BitsPerSample: 16, 16, 16
- XMP-xmp
- CreateDate: 2011:05:14 14:17:50.50
- ModifyDate: 2011:05:14 18:39:48+03:00
- XMP-xmpMM
- Просмотров: 293
- Рейтинг: голосов еще нет
- Отзывов: 0
Получить код для блога
| Вставка фотографии в текущем разрешении |
Вставка миниатюры |
HTML (для вставки в блог):
BBCode (для вставки в форум):
Ссылка на фото:
Ссылка на миниатюру:
- Послать ссылку другу
| Комментарии к фотографии |