Уважаемые друзья и участники проекта iXBT.photo! К сожалению, 1 марта 2026 года проект iXBT.photo прекратит свою работу и будет закрыт. Мы высоко ценим ваше участие и тот вклад, который вы внесли в развитие нашего сообщества. Пожалуйста, не забудьте сохранить ваши фотографии до этой даты.
С уважением, команда iXBT.com
| IMG_4832.jpg |
IMG_4832.jpg
- Раздел: Город
- Дата съёмки: 22.05.2011 07:22
- Дата загрузки фото: 22.05.2011 19:07
- Оригинальная фотография: 3000 x 2001 (2,0 Мб)
- Технические характеристики:
- Фотоаппарат: Canon EOS 5D
- Выдержка: 1/200
- Гиперфокальное расстояние: inf m
- Диафрагма: 9,0
- Светочувствительность: 50
- Фокусное расстояние: 16,0 mm (35 mm equivalent: 16,0 mm)
- Экспокоррекция: -1
- Полный EXIF
- Composite
- Aperture: 9,0
- CircleOfConfusion: 0,021 mm
- FOV: 96,0 deg
- FocalLength35efl: 16,0 mm (35 mm equivalent: 16,0 mm)
- HyperfocalDistance: inf m
- ScaleFactor35efl: 1,5
- ShutterSpeed: 1/200
- ExifIFD
- ApertureValue: 9,0
- CreateDate: 2011:05:22 07:22:57
- CustomRendered: Normal
- DateTimeOriginal: 2011:05:22 07:22:57
- ExifImageHeight: 2001
- ExifImageWidth: 3000
- ExposureCompensation: -1
- ExposureMode: Auto
- ExposureProgram: Aperture-priority AE
- ExposureTime: 1/200
- FNumber: 9,0
- Flash: Off, Did not fire
- FocalLength: 16,0 mm
- ISO: 50
- MaxApertureValue: 2,8
- MeteringMode: Multi-segment
- SceneCaptureType: Standard
- ShutterSpeedValue: 1/200
- WhiteBalance: Auto
- ICC-header
- ICC-meas
- ICC-view
- IFD0
- Make: Canon
- Model: Canon EOS 5D
- ModifyDate: 2011:05:22 18:58:23
- Orientation: Horizontal (normal)
- Software: ACD Systems Digital Imaging
- IFD1
- IPTC
- DateCreated: 2011:05:22
- System
- XMP-aux
- Firmware: 1.1.1
- FlashCompensation: 0
- ImageNumber: 8
- Lens: EF16-35mm f/2.8L II USM
- LensID: 246
- LensInfo: 16-35mm f/?
- SerialNumber: 310100689
- XMP-crs
- AlreadyApplied: True
- BlueHue: 0
- BlueSaturation: 0
- Brightness: +50
- CameraProfile: Camera Standard
- ChromaticAberrationB: 0
- ChromaticAberrationR: 0
- Clarity: +22
- ColorNoiseReduction: 5
- ColorNoiseReductionDetail: 50
- Contrast: +36
- ConvertToGrayscale: False
- CropAngle: -1.39134
- CropBottom: 0.964848
- CropConstrainToWarp: 0
- CropHeight: 2811
- CropLeft: 0.019528
- CropRight: 1
- CropTop: 0.035152
- CropUnit: pixels
- CropWidth: 4215
- Defringe: 0
- Exposure: +0.23
- FillLight: 0
- GrainAmount: 0
- GreenHue: 0
- GreenSaturation: 0
- HasCrop: True
- HasSettings: True
- HighlightRecovery: 24
- HueAdjustmentAqua: 0
- HueAdjustmentBlue: 0
- HueAdjustmentGreen: 0
- HueAdjustmentMagenta: 0
- HueAdjustmentOrange: 0
- HueAdjustmentPurple: 0
- HueAdjustmentRed: 0
- HueAdjustmentYellow: 0
- LensManualDistortionAmount: 0
- LensProfileChromaticAberrationScale: 100
- LensProfileDistortionScale: 100
- LensProfileEnable: 1
- LensProfileFilename: Canon EOS 5D Mark II (Canon EF 16-35mm f2.8 L II USM) - RAW.lcp
- LensProfileSetup: LensDefaults
- LensProfileVignettingScale: 100
- LuminanceAdjustmentAqua: 0
- LuminanceAdjustmentBlue: -52
- LuminanceAdjustmentGreen: 0
- LuminanceAdjustmentMagenta: 0
- LuminanceAdjustmentOrange: 0
- LuminanceAdjustmentPurple: 0
- LuminanceAdjustmentRed: 0
- LuminanceAdjustmentYellow: 0
- LuminanceSmoothing: 0
- ParametricDarks: +37
- ParametricHighlightSplit: 75
- ParametricHighlights: 0
- ParametricLights: 0
- ParametricMidtoneSplit: 50
- ParametricShadowSplit: 25
- ParametricShadows: 0
- PerspectiveHorizontal: 0
- PerspectiveRotate: 0.0
- PerspectiveScale: 100
- PerspectiveVertical: 0
- PostCropVignetteAmount: -20
- PostCropVignetteFeather: 50
- PostCropVignetteHighlightContrast: 0
- PostCropVignetteMidpoint: 51
- PostCropVignetteRoundness: 0
- PostCropVignetteStyle: 1
- ProcessVersion: 5.7
- RedHue: 0
- RedSaturation: 0
- Saturation: 0
- SaturationAdjustmentAqua: 0
- SaturationAdjustmentBlue: 0
- SaturationAdjustmentGreen: 0
- SaturationAdjustmentMagenta: 0
- SaturationAdjustmentOrange: 0
- SaturationAdjustmentPurple: 0
- SaturationAdjustmentRed: 0
- SaturationAdjustmentYellow: 0
- ShadowTint: 0
- Shadows: 5
- SharpenDetail: 25
- SharpenEdgeMasking: 0
- SharpenRadius: +1.0
- Sharpness: 0
- SplitToningBalance: 0
- SplitToningHighlightHue: 0
- SplitToningHighlightSaturation: 0
- SplitToningShadowHue: 0
- SplitToningShadowSaturation: 0
- Temperature: 5700
- Tint: +5
- ToneCurve: 0, 0, 32, 22, 64, 56, 128, 128, 192, 196, 255, 255
- ToneCurveName: Medium Contrast
- Version: 6.4
- Vibrance: 0
- VignetteAmount: 0
- WhiteBalance: As Shot
- XMP-exif
- DateTimeDigitized: 2011:05:22 07:22:57+3:00
- DateTimeOriginal: 2011:05:22 07:22:57+3:00
- FlashFired: False
- FlashFunction: False
- FlashMode: Off
- FlashRedEyeMode: False
- FlashReturn: No return detection
- XMP-tiff
- XMP-x
- XMP-xmp
- ModifyDate: 2011:05:22 17:54:32.0+3:00
- Просмотров: 253
- Рейтинг: голосов еще нет
- Отзывов: отключены
Получить код для блога
| Вставка фотографии в текущем разрешении |
Вставка миниатюры |
HTML (для вставки в блог):
BBCode (для вставки в форум):
Ссылка на фото:
Ссылка на миниатюру:
- Послать ссылку другу
| Комментарии к фотографии |