- Раздел: Другое, разное
- Дата съёмки: 04.06.2011 15:39
- Дата загрузки фото: 06.06.2011 00:07
- Оригинальная фотография: 3991 x 3168 (2,0 Мб)
- Технические характеристики:
- Фотоаппарат: Canon EOS 50D
- Выдержка: 1/100
- Гиперфокальное расстояние: inf m
- Диафрагма: 4,0
- Светочувствительность: 100
- Фокусное расстояние: 17,0 mm (35 mm equivalent: 17,0 mm)
- Полный EXIF
- Adobe
- ColorTransform: YCbCr
- Composite
- Aperture: 4,0
- CircleOfConfusion: 0,017 mm
- DOF: inf (0,00 m - inf)
- FOV: 93,0 deg
- FocalLength35efl: 17,0 mm (35 mm equivalent: 17,0 mm)
- HyperfocalDistance: inf m
- ScaleFactor35efl: 1,8
- ShutterSpeed: 1/100
- ExifIFD
- ApertureValue: 4,0
- CreateDate: 2011:06:04 15:39:02
- CustomRendered: Normal
- DateTimeOriginal: 2011:06:04 15:39:02
- ExposureCompensation: 0
- ExposureMode: Auto
- ExposureProgram: Aperture-priority AE
- ExposureTime: 1/100
- FNumber: 4,0
- Flash: Off, Did not fire
- FocalLength: 17,0 mm
- ISO: 100
- LensInfo: 17-85mm f/?
- LensModel: EF-S17-85mm f/4-5.6 IS USM
- MaxApertureValue: 4,0
- MeteringMode: Center-weighted average
- OwnerName: Yakovenko Dmitriy
- SceneCaptureType: Standard
- SensitivityType: Unknown
- SerialNumber: 2060717424
- ShutterSpeedValue: 1/100
- SubjectDistance: 6,37 m
- WhiteBalance: Manual
- ICC-header
- ICC-meas
- ICC-view
- IFD0
- Artist: Photographer:Yakovenko Dmitriy
- Make: Canon
- Model: Canon EOS 50D
- ModifyDate: 2011:06:05 18:07:52
- IFD1
- IPTC
- By-line: Photographer:Yakovenko Dmitriy
- City: ГЈ.Ñà ìà ðГ
- Country-PrimaryLocationName: Ðîññèÿ
- DateCreated: 2011:06:04
- System
- XMP-aux
- ApproximateFocusDistance: 6,37
- Firmware: 1.0.7
- FlashCompensation: 0
- ImageNumber: 0
- Lens: EF-S17-85mm f/4-5.6 IS USM
- LensID: 234
- XMP-crs
- AlreadyApplied: True
- BlueHue: 0
- BlueSaturation: 0
- Brightness: +50
- CameraProfile: Camera Portrait
- ChromaticAberrationB: 0
- ChromaticAberrationR: 0
- Clarity: -33
- ColorNoiseReduction: 25
- ColorNoiseReductionDetail: 50
- Contrast: +25
- ConvertToGrayscale: False
- CropAngle: 0
- CropBottom: 1
- CropConstrainToWarp: 0
- CropHeight: 3168
- CropLeft: 0.102434
- CropRight: 0.942191
- CropTop: 0
- CropUnit: pixels
- CropWidth: 3991
- Defringe: 0
- Exposure: 0.00
- FillLight: 64
- GrainAmount: 0
- GreenHue: 0
- GreenSaturation: 0
- HasCrop: True
- HasSettings: True
- HighlightRecovery: 84
- HueAdjustmentAqua: 0
- HueAdjustmentBlue: 0
- HueAdjustmentGreen: 0
- HueAdjustmentMagenta: 0
- HueAdjustmentOrange: 0
- HueAdjustmentPurple: 0
- HueAdjustmentRed: 0
- HueAdjustmentYellow: 0
- LensManualDistortionAmount: 0
- LensProfileChromaticAberrationScale: 100
- LensProfileDistortionScale: 100
- LensProfileEnable: 1
- LensProfileFilename: Canon EOS 50D (Canon EF-S 17-85mm f4-5.6 IS USM) - RAW.lcp
- LensProfileSetup: LensDefaults
- LensProfileVignettingScale: 100
- LuminanceAdjustmentAqua: 0
- LuminanceAdjustmentBlue: 0
- LuminanceAdjustmentGreen: 0
- LuminanceAdjustmentMagenta: 0
- LuminanceAdjustmentOrange: 0
- LuminanceAdjustmentPurple: 0
- LuminanceAdjustmentRed: 0
- LuminanceAdjustmentYellow: 0
- LuminanceNoiseReductionContrast: 0
- LuminanceNoiseReductionDetail: 50
- LuminanceSmoothing: 50
- ParametricDarks: 0
- ParametricHighlightSplit: 75
- ParametricHighlights: 0
- ParametricLights: 0
- ParametricMidtoneSplit: 50
- ParametricShadowSplit: 25
- ParametricShadows: 0
- PerspectiveHorizontal: 0
- PerspectiveRotate: 0.0
- PerspectiveScale: 100
- PerspectiveVertical: 0
- PostCropVignetteAmount: 0
- ProcessVersion: 5.7
- RedHue: 0
- RedSaturation: 0
- Saturation: 0
- SaturationAdjustmentAqua: 0
- SaturationAdjustmentBlue: 0
- SaturationAdjustmentGreen: 0
- SaturationAdjustmentMagenta: 0
- SaturationAdjustmentOrange: 0
- SaturationAdjustmentPurple: 0
- SaturationAdjustmentRed: 0
- SaturationAdjustmentYellow: 0
- ShadowTint: 0
- Shadows: 5
- SharpenDetail: 25
- SharpenEdgeMasking: 0
- SharpenRadius: +1.0
- Sharpness: 0
- SplitToningBalance: 0
- SplitToningHighlightHue: 0
- SplitToningHighlightSaturation: 0
- SplitToningShadowHue: 0
- SplitToningShadowSaturation: 0
- Temperature: 4100
- Tint: 0
- ToneCurve: 0, 0, 32, 22, 64, 56, 128, 128, 192, 196, 255, 255
- ToneCurveName: Medium Contrast
- Version: 6.3
- Vibrance: +23
- VignetteAmount: 0
- WhiteBalance: Auto
- XMP-dc
- Creator: Photographer:Yakovenko Dmitriy
- XMP-exif
- DateTimeDigitized: 2011:06:04 15:39:02.45+04:00
- DateTimeOriginal: 2011:06:04 15:39:02.45+04:00
- ExifImageHeight: 3168
- ExifImageWidth: 3991
- FlashFired: False
- FlashFunction: False
- FlashMode: Off
- FlashRedEyeMode: False
- FlashReturn: No return detection
- XMP-iptcCore
- CreatorAddress: Проспект Карла Маркса дом 13
- CreatorCity: г.Самара
- CreatorCountry: Р РѕСЃСЃРёСЏ
- CreatorWorkEmail: amalteia@mail.ru
- CreatorWorkTelephone: +79276583737
- XMP-plus
- MinorModelAgeDisclosure: Unknown (nil)
- ModelReleaseStatus: Limited or Incomplete Model Releases
- PLUSVersion: 1.2.0
- XMP-tiff
- ImageHeight: 3168
- ImageWidth: 3991
- XMP-xmp
- CreateDate: 2011:06:04 15:39:02.45+04:00
- ModifyDate: 2011:06:05 18:07:52+04:00
- XMP-xmpRights
- Просмотров: 205
- Рейтинг: голосов еще нет
- Отзывов: 0