- Раздел: Репортаж
- Дата съёмки: 01.04.2007 12:02
- Дата загрузки фото: 02.04.2007 11:50
- Оригинальная фотография: 1280 x 851 (761 Кб)
- Технические характеристики:
- Фотоаппарат: Minolta DYNAX 5D
- Выдержка: 1/400
- Гиперфокальное расстояние: 5,51 m
- Диафрагма: 7,1
- Светочувствительность: 200
- Фокусное расстояние: 28,0mm (35mm эквивалент: 42,0mm)
- Полный EXIF
- ColorTransform: YCbCr
- Composite
- Aperture: 7,1
- CircleOfConfusion: 0,020 mm
- EV: 13,3
- FocalLength35efl: 28,0mm (35mm equivalent: 42,0mm)
- HyperfocalDistance: 5,51 m
- ScaleFactor35efl: 1,5
- ShutterSpeed: 1/400
- ExifIFD
- ApertureValue: 7,1
- BrightnessValue: 8,37
- Contrast: Normal
- CreateDate: 2007:04:01 12:02:52
- CustomRendered: Normal
- DateTimeOriginal: 2007:04:01 12:02:52
- DigitalZoomRatio: 0
- ExposureCompensation: 0
- ExposureMode: Auto
- ExposureProgram: Aperture-priority AE
- ExposureTime: 1/400
- FNumber: 7,1
- Flash: Off
- FocalLength: 28,0mm
- FocalLengthIn35mmFormat: 42
- GainControl: None
- ISO: 200
- LightSource: Unknown (0)
- MaxApertureValue: 4,0
- MeteringMode: Center-weighted average
- Saturation: Normal
- SceneCaptureType: Standard
- Sharpness: Normal
- ShutterSpeedValue: 1/400
- SubjectLocation: 1504 1000 256 304
- WhiteBalance: Auto
- ICC-header
- ICC-meas
- ICC-view
- IFD0
- ImageDescription: KONICA MINOLTA DIGITAL CAMERA
- Make: KONICA MINOLTA
- Model: DYNAX 5D
- ModifyDate: 2007:04:02 11:05:48
- Software: DYNAX 5D v1.00
- IPTC
- Caption-Abstract: KONICA MINOLTA DIGITAL CAMERA
- Keywords: церковь
- XMP-aux
- XMP-crs
- AlreadyApplied: True
- BlueHue: 0
- BlueSaturation: 0
- Brightness: +50
- CameraProfile: ACR 3.2
- ChromaticAberrationB: 0
- ChromaticAberrationR: 0
- ColorNoiseReduction: 25
- Contrast: +47
- ConvertToGrayscale: False
- Exposure: -0.88
- FillLight: 26
- GreenHue: 0
- GreenSaturation: 0
- HasCrop: False
- HasSettings: True
- HighlightRecovery: 0
- HueAdjustmentAqua: 0
- HueAdjustmentBlue: 0
- HueAdjustmentGreen: 0
- HueAdjustmentMagenta: 0
- HueAdjustmentOrange: 0
- HueAdjustmentPurple: 0
- HueAdjustmentRed: 0
- HueAdjustmentYellow: 0
- LuminanceAdjustmentAqua: 0
- LuminanceAdjustmentBlue: 0
- LuminanceAdjustmentGreen: 0
- LuminanceAdjustmentMagenta: 0
- LuminanceAdjustmentOrange: 0
- LuminanceAdjustmentPurple: 0
- LuminanceAdjustmentRed: 0
- LuminanceAdjustmentYellow: 0
- LuminanceSmoothing: 0
- ParametricDarks: 0
- ParametricHighlightSplit: 75
- ParametricHighlights: 0
- ParametricLights: 0
- ParametricMidtoneSplit: 50
- ParametricShadowSplit: 25
- ParametricShadows: 0
- RedHue: 0
- RedSaturation: 0
- Saturation: +6
- SaturationAdjustmentAqua: 0
- SaturationAdjustmentBlue: 0
- SaturationAdjustmentGreen: 0
- SaturationAdjustmentMagenta: 0
- SaturationAdjustmentOrange: 0
- SaturationAdjustmentPurple: 0
- SaturationAdjustmentRed: 0
- SaturationAdjustmentYellow: 0
- ShadowTint: 0
- Shadows: 0
- Sharpness: 0
- SplitToningBalance: 0
- SplitToningHighlightHue: 0
- SplitToningHighlightSaturation: 0
- SplitToningShadowHue: 0
- SplitToningShadowSaturation: 0
- Temperature: 5150
- Tint: -1
- ToneCurve: 0, 0, 32, 22, 64, 56, 128, 128, 192, 196, 255, 255
- ToneCurveName: Medium Contrast
- Vibrance: 0
- VignetteAmount: 0
- WhiteBalance: As Shot
- XMP-dc
- Description: KONICA MINOLTA DIGITAL CAMERA
- Subject: церковь
- XMP-exif
- DateTimeDigitized: 2007:04:01 12:02:52+04:00
- DateTimeOriginal: 2007:04:01 12:02:52+04:00
- FlashFired: False
- FlashFunction: False
- FlashMode: Off
- FlashRedEyeMode: False
- FlashReturn: No return detection
- SubjectArea: 1504, 1000, 256, 304
- XMP-lr
- PrivateRTKInfo="cHJpdmF0ZVJUS0luZm8gPSB7Cgl7CgkJZmxhdCA9IHsKCQkJItGG0LXRgNC60L7QstGMIiwKCQl9LAoJCXBhdGggPSB7CgkJCSLRhtC10YDQutC+0LLRjCIsCgkJfSwKCQlwcmltYXJ5ID0gItGG0LXRgNC60L7QstGMIiwKCQl1dWlkID0gIjhCRDgxOEFBLUUwRjMtNDcyQS1BM0VBLUQxREYyRTA4MTgyQiIsCgl9LAp9Cg=:
- crs:Version=:
- XMP-tiff
- ImageHeight: 851
- ImageWidth: 1280
- XMP-xmp
- ModifyDate: 2007:04:02 11:05:48+04:00
- Просмотров: 279
- Рейтинг: голосов еще нет
- Отзывов: 0