Уважаемые друзья и участники проекта iXBT.photo! К сожалению, 1 марта 2026 года проект iXBT.photo прекратит свою работу и будет закрыт. Мы высоко ценим ваше участие и тот вклад, который вы внесли в развитие нашего сообщества. Пожалуйста, не забудьте сохранить ваши фотографии до этой даты.
С уважением, команда iXBT.com
| IMG_7119.jpg |
IMG_7119.jpg
- Раздел: Портрет
- Дата съёмки: 15.06.2011 20:40
- Дата загрузки фото: 18.06.2011 00:59
- Оригинальная фотография: 4752 x 3168 (4,0 Мб)
- Технические характеристики:
- Фотоаппарат: Canon EOS 50D
- Выдержка: 1/4
- Гиперфокальное расстояние: inf m
- Диафрагма: 5,6
- Светочувствительность: 800
- Фокусное расстояние: 85,0 mm (35 mm equivalent: 85,0 mm)
- Полный EXIF
- Adobe
- ColorTransform: YCbCr
- Composite
- Aperture: 5,6
- CircleOfConfusion: 0,019 mm
- DOF: inf (0,00 m - inf)
- FOV: 23,0 deg
- FocalLength35efl: 85,0 mm (35 mm equivalent: 85,0 mm)
- HyperfocalDistance: inf m
- ScaleFactor35efl: 1,6
- ShutterSpeed: 1/4
- ExifIFD
- ApertureValue: 5,6
- CreateDate: 2011:06:15 20:40:19
- CustomRendered: Normal
- DateTimeOriginal: 2011:06:15 20:40:19
- ExposureCompensation: 0
- ExposureMode: Auto
- ExposureProgram: Aperture-priority AE
- ExposureTime: 1/4
- FNumber: 5,6
- Flash: Off, Did not fire
- FocalLength: 85,0 mm
- ISO: 800
- LensInfo: 17-85mm f/?
- LensModel: EF-S17-85mm f/4-5.6 IS USM
- MaxApertureValue: 5,7
- MeteringMode: Multi-segment
- OwnerName: Yakovenko Dmitriy
- SceneCaptureType: Standard
- SensitivityType: Unknown
- SerialNumber: 2060717424
- ShutterSpeedValue: 1/4
- SubjectDistance: 6,37 m
- WhiteBalance: Auto
- ICC-header
- ICC-meas
- ICC-view
- IFD0
- Artist: Photographer:Yakovenko Dmitriy
- ImageDescription: ?. ??????, ??????????
- Make: Canon
- Model: Canon EOS 50D
- ModifyDate: 2011:06:18 00:39:10
- IFD1
- IPTC
- By-line: Photographer:Yakovenko Dmitriy
- By-lineTitle: ГЊГҐГåäæåð
- Caption-Abstract: ã. Ñà ìà ðà , ïîðòðåòèêè
- City: ГЈ.Ñà ìà ðГ
- Country-PrimaryLocationName: Ðîññèÿ
- DateCreated: 2011:06:15
- Headline: Ïðîãóëêà ïî ãîðîäó Ñà ìà ðà .
- System
- XMP-aux
- ApproximateFocusDistance: 6,37
- Firmware: 1.0.7
- FlashCompensation: 0
- ImageNumber: 0
- Lens: EF-S17-85mm f/4-5.6 IS USM
- LensID: 234
- XMP-crs
- AlreadyApplied: True
- BlueHue: 0
- BlueSaturation: 0
- Brightness: +50
- CameraProfile: Camera Standard
- ChromaticAberrationB: 0
- ChromaticAberrationR: 0
- Clarity: 0
- ColorNoiseReduction: 4
- ColorNoiseReductionDetail: 50
- Contrast: +30
- ConvertToGrayscale: False
- Defringe: 0
- Exposure: 0.00
- FillLight: 19
- GrainAmount: 0
- GreenHue: 0
- GreenSaturation: 0
- HasCrop: False
- HasSettings: True
- HighlightRecovery: 79
- HueAdjustmentAqua: 0
- HueAdjustmentBlue: 0
- HueAdjustmentGreen: 0
- HueAdjustmentMagenta: 0
- HueAdjustmentOrange: 0
- HueAdjustmentPurple: 0
- HueAdjustmentRed: 0
- HueAdjustmentYellow: 0
- LensManualDistortionAmount: 0
- LensProfileChromaticAberrationScale: 100
- LensProfileDistortionScale: 100
- LensProfileEnable: 1
- LensProfileFilename: Canon EOS 50D (Canon EF-S 17-85mm f4-5.6 IS USM) - RAW.lcp
- LensProfileSetup: LensDefaults
- LensProfileVignettingScale: 100
- LuminanceAdjustmentAqua: 0
- LuminanceAdjustmentBlue: 0
- LuminanceAdjustmentGreen: 0
- LuminanceAdjustmentMagenta: 0
- LuminanceAdjustmentOrange: 0
- LuminanceAdjustmentPurple: 0
- LuminanceAdjustmentRed: 0
- LuminanceAdjustmentYellow: 0
- LuminanceNoiseReductionContrast: 0
- LuminanceNoiseReductionDetail: 50
- LuminanceSmoothing: 63
- ParametricDarks: 0
- ParametricHighlightSplit: 75
- ParametricHighlights: 0
- ParametricLights: 0
- ParametricMidtoneSplit: 50
- ParametricShadowSplit: 25
- ParametricShadows: 0
- PerspectiveHorizontal: 0
- PerspectiveRotate: 0.0
- PerspectiveScale: 100
- PerspectiveVertical: 0
- PostCropVignetteAmount: 0
- ProcessVersion: 5.7
- RedHue: 0
- RedSaturation: 0
- Saturation: 0
- SaturationAdjustmentAqua: 0
- SaturationAdjustmentBlue: 0
- SaturationAdjustmentGreen: +75
- SaturationAdjustmentMagenta: 0
- SaturationAdjustmentOrange: 0
- SaturationAdjustmentPurple: 0
- SaturationAdjustmentRed: 0
- SaturationAdjustmentYellow: 0
- ShadowTint: 0
- Shadows: 5
- SharpenDetail: 25
- SharpenEdgeMasking: 0
- SharpenRadius: +1.0
- Sharpness: 0
- SplitToningBalance: 0
- SplitToningHighlightHue: 0
- SplitToningHighlightSaturation: 0
- SplitToningShadowHue: 0
- SplitToningShadowSaturation: 0
- Temperature: 6550
- Tint: +41
- ToneCurve: 0, 0, 32, 22, 64, 56, 128, 128, 192, 196, 255, 255
- ToneCurveName: Medium Contrast
- Version: 6.3
- Vibrance: +51
- VignetteAmount: 0
- WhiteBalance: Custom
- XMP-dc
- Creator: Photographer:Yakovenko Dmitriy
- Description: г. Самара, портретики
- XMP-exif
- DateTimeDigitized: 2011:06:15 20:40:19.00+04:00
- DateTimeOriginal: 2011:06:15 20:40:19.00+04:00
- ExifImageHeight: 3168
- ExifImageWidth: 4752
- FlashFired: False
- FlashFunction: False
- FlashMode: Off
- FlashRedEyeMode: False
- FlashReturn: No return detection
- XMP-iptcCore
- CreatorAddress: Проспект Карла Маркса дом 13
- CreatorCity: Самара
- CreatorCountry: Р РѕСЃСЃРёСЏ
- CreatorPostalCode: 443082
- CreatorWorkEmail: amalteia@mail.ru
- CreatorWorkTelephone: +79276583737
- IntellectualGenre: Портрет
- XMP-tiff
- ImageHeight: 3168
- ImageWidth: 4752
- XMP-xmp
- CreateDate: 2011:06:15 20:40:19.00+04:00
- ModifyDate: 2011:06:18 00:39:10+04:00
- Rating: 4
- XMP-xmpRights
- Просмотров: 221
- Рейтинг: голосов еще нет
- Отзывов: 0
Получить код для блога
| Вставка фотографии в текущем разрешении |
Вставка миниатюры |
HTML (для вставки в блог):
BBCode (для вставки в форум):
Ссылка на фото:
Ссылка на миниатюру:
- Послать ссылку другу
| Комментарии к фотографии |