Уважаемые друзья и участники проекта iXBT.photo! К сожалению, 1 марта 2026 года проект iXBT.photo прекратит свою работу и будет закрыт. Мы высоко ценим ваше участие и тот вклад, который вы внесли в развитие нашего сообщества. Пожалуйста, не забудьте сохранить ваши фотографии до этой даты.
С уважением, команда iXBT.com
| IMG_0017.jpg |
IMG_0017.jpg
- Раздел: Портрет
- Дата съёмки: 17.06.2011 17:11
- Дата загрузки фото: 22.06.2011 22:57
- Оригинальная фотография: 4752 x 3168 (2,4 Мб)
- Технические характеристики:
- Фотоаппарат: Canon EOS 50D
- Выдержка: 1/500
- Гиперфокальное расстояние: inf m
- Диафрагма: 1,8
- Светочувствительность: 100
- Фокусное расстояние: 85,0 mm (35 mm equivalent: 85,0 mm)
- Полный EXIF
- Adobe
- ColorTransform: YCbCr
- Composite
- Aperture: 1,8
- CircleOfConfusion: 0,019 mm
- DOF: inf (0,00 m - inf)
- FOV: 23,0 deg
- FocalLength35efl: 85,0 mm (35 mm equivalent: 85,0 mm)
- HyperfocalDistance: inf m
- ScaleFactor35efl: 1,6
- ShutterSpeed: 1/500
- ExifIFD
- ApertureValue: 1,8
- CreateDate: 2011:06:17 17:11:48
- CustomRendered: Normal
- DateTimeOriginal: 2011:06:17 17:11:48
- ExposureCompensation: 0
- ExposureMode: Auto
- ExposureProgram: Aperture-priority AE
- ExposureTime: 1/500
- FNumber: 1,8
- Flash: Off, Did not fire
- FocalLength: 85,0 mm
- ISO: 100
- LensInfo: 85mm f/?
- LensModel: EF85mm f/1.8 USM
- MaxApertureValue: 1,8
- MeteringMode: Multi-segment
- OwnerName: Yakovenko Dmitriy
- SceneCaptureType: Standard
- SensitivityType: Unknown
- SerialNumber: 2060717424
- ShutterSpeedValue: 1/500
- SubjectDistance: 7,27 m
- WhiteBalance: Manual
- ICC-header
- ICC-meas
- ICC-view
- IFD0
- Artist: Photographer:Yakovenko Dmitriy
- Make: Canon
- Model: Canon EOS 50D
- ModifyDate: 2011:06:22 16:21:41
- IFD1
- IPTC
- By-line: Photographer:Yakovenko Dmitriy
- City: Samara
- Country-PrimaryLocationName: Russia
- DateCreated: 2011:06:17
- Headline: Progulka v zagorodnom parke
- System
- XMP-aux
- ApproximateFocusDistance: 7,27
- Firmware: 1.0.7
- FlashCompensation: 0
- ImageNumber: 0
- Lens: EF85mm f/1.8 USM
- LensID: 155
- XMP-crs
- AlreadyApplied: True
- BlueHue: 0
- BlueSaturation: 0
- Brightness: +50
- CameraProfile: Camera Portrait
- ChromaticAberrationB: 0
- ChromaticAberrationR: 0
- Clarity: 0
- ColorNoiseReduction: 4
- ColorNoiseReductionDetail: 50
- Contrast: +34
- ConvertToGrayscale: False
- Defringe: 0
- Exposure: 0.00
- FillLight: 0
- GrainAmount: 0
- GreenHue: 0
- GreenSaturation: 0
- HasCrop: False
- HasSettings: True
- HighlightRecovery: 27
- HueAdjustmentAqua: 0
- HueAdjustmentBlue: 0
- HueAdjustmentGreen: 0
- HueAdjustmentMagenta: 0
- HueAdjustmentOrange: 0
- HueAdjustmentPurple: 0
- HueAdjustmentRed: 0
- HueAdjustmentYellow: 0
- LensManualDistortionAmount: 0
- LensProfileChromaticAberrationScale: 100
- LensProfileDistortionScale: 100
- LensProfileEnable: 1
- LensProfileFilename: Canon EOS-1Ds Mark III (Canon EF 85mm f1.8 USM) - RAW.lcp
- LensProfileSetup: LensDefaults
- LensProfileVignettingScale: 100
- LuminanceAdjustmentAqua: 0
- LuminanceAdjustmentBlue: 0
- LuminanceAdjustmentGreen: 0
- LuminanceAdjustmentMagenta: 0
- LuminanceAdjustmentOrange: 0
- LuminanceAdjustmentPurple: 0
- LuminanceAdjustmentRed: 0
- LuminanceAdjustmentYellow: 0
- LuminanceSmoothing: 0
- ParametricDarks: 0
- ParametricHighlightSplit: 75
- ParametricHighlights: 0
- ParametricLights: 0
- ParametricMidtoneSplit: 50
- ParametricShadowSplit: 25
- ParametricShadows: 0
- PerspectiveHorizontal: 0
- PerspectiveRotate: 0.0
- PerspectiveScale: 100
- PerspectiveVertical: 0
- PostCropVignetteAmount: 0
- ProcessVersion: 5.7
- RedHue: 0
- RedSaturation: 0
- Saturation: 0
- SaturationAdjustmentAqua: 0
- SaturationAdjustmentBlue: 0
- SaturationAdjustmentGreen: 0
- SaturationAdjustmentMagenta: 0
- SaturationAdjustmentOrange: 0
- SaturationAdjustmentPurple: 0
- SaturationAdjustmentRed: 0
- SaturationAdjustmentYellow: 0
- ShadowTint: 0
- Shadows: 5
- SharpenDetail: 25
- SharpenEdgeMasking: 0
- SharpenRadius: +1.0
- Sharpness: 0
- SplitToningBalance: 0
- SplitToningHighlightHue: 0
- SplitToningHighlightSaturation: 0
- SplitToningShadowHue: 0
- SplitToningShadowSaturation: 0
- Temperature: 5200
- Tint: +18
- ToneCurve: 0, 0, 32, 22, 64, 56, 128, 128, 192, 196, 255, 255
- ToneCurveName: Medium Contrast
- Version: 6.3
- Vibrance: +23
- VignetteAmount: 0
- WhiteBalance: Custom
- XMP-dc
- Creator: Photographer:Yakovenko Dmitriy
- XMP-exif
- DateTimeDigitized: 2011:06:17 17:11:48.47+04:00
- DateTimeOriginal: 2011:06:17 17:11:48.47+04:00
- ExifImageHeight: 3168
- ExifImageWidth: 4752
- FlashFired: False
- FlashFunction: False
- FlashMode: Off
- FlashRedEyeMode: False
- FlashReturn: No return detection
- XMP-iptcCore
- CreatorCity: Samara
- CreatorCountry: Russia
- CreatorWorkTelephone: +79276583737
- IntellectualGenre: Portret
- XMP-tiff
- ImageHeight: 3168
- ImageWidth: 4752
- XMP-xmp
- CreateDate: 2011:06:17 17:11:48.47+04:00
- ModifyDate: 2011:06:22 16:21:41+04:00
- XMP-xmpRights
- Просмотров: 221
- Рейтинг: голосов еще нет
- Отзывов: 0
Получить код для блога
| Вставка фотографии в текущем разрешении |
Вставка миниатюры |
HTML (для вставки в блог):
BBCode (для вставки в форум):
Ссылка на фото:
Ссылка на миниатюру:
- Послать ссылку другу
| Комментарии к фотографии |