Уважаемые друзья и участники проекта iXBT.photo! К сожалению, 1 марта 2026 года проект iXBT.photo прекратит свою работу и будет закрыт. Мы высоко ценим ваше участие и тот вклад, который вы внесли в развитие нашего сообщества. Пожалуйста, не забудьте сохранить ваши фотографии до этой даты.
С уважением, команда iXBT.com
| MAV_0127.jpg |
MAV_0127.jpg
- Раздел: Семья, личное
- Дата съёмки: 10.09.2010 11:04
- Дата загрузки фото: 24.06.2011 16:07
- Оригинальная фотография: 598 x 900 (236 Кб)
- Технические характеристики:
- Фотоаппарат: Nikon D300
- Выдержка: 1/800
- Гиперфокальное расстояние: inf m
- Диафрагма: 5,0
- Светочувствительность: 400
- Фокусное расстояние: 82,0 mm (35 mm equivalent: 82,0 mm)
- Полный EXIF
- Composite
- Aperture: 5,0
- CircleOfConfusion: 0,020 mm
- DOF: inf (0,00 m - inf)
- FOV: 24,0 deg
- FocalLength35efl: 82,0 mm (35 mm equivalent: 82,0 mm)
- HyperfocalDistance: inf m
- ScaleFactor35efl: 1,5
- ShutterSpeed: 1/800
- ExifIFD
- ApertureValue: 5,0
- CFAPattern: [Red,Green][Green,Blue]
- ColorSpace: sRGB
- Contrast: Normal
- CreateDate: 2010:09:10 11:04:35
- CustomRendered: Normal
- DateTimeOriginal: 2010:09:10 11:04:35
- DigitalZoomRatio: 1
- ExifImageHeight: 900
- ExifImageWidth: 598
- ExposureCompensation: 0
- ExposureMode: Auto
- ExposureProgram: Aperture-priority AE
- ExposureTime: 1/800
- FNumber: 5,0
- Flash: No Flash
- FocalLength: 82,0 mm
- FocalLengthIn35mmFormat: 123 mm
- GainControl: Low gain up
- ISO: 400
- LensInfo: 70-200mm f/2.8
- LensModel: 70.0-200.0 mm f/2.8
- LightSource: Unknown
- MaxApertureValue: 2,8
- MeteringMode: Spot
- Saturation: Normal
- SceneCaptureType: Standard
- SceneType: Directly photographed
- SensingMethod: One-chip color area
- SensitivityType: Unknown
- SerialNumber: 4113881
- Sharpness: Normal
- ShutterSpeedValue: 1/800
- SubjectDistance: 14,1 m
- SubjectDistanceRange: Unknown
- WhiteBalance: Auto
- ICC-header
- ICC-meas
- ICC-view
- IFD0
- Artist: ANDREW MAVRITSKY
- Copyright: ANDREW MAVRITSKY
- Make: NIKON CORPORATION
- Model: NIKON D300
- ModifyDate: 2010:11:26 10:49:09
- Orientation: Horizontal (normal)
- IFD1
- IPTC
- By-line: ANDREW MAVRITSKY
- CopyrightNotice: ANDREW MAVRITSKY
- System
- XMP-aux
- ApproximateFocusDistance: 14,1
- ImageNumber: 141600
- Lens: 70.0-200.0 mm f/2.8
- LensID: 238
- XMP-crs
- AlreadyApplied: True
- BlueHue: 0
- BlueSaturation: 0
- Brightness: +83
- ChromaticAberrationB: 0
- ChromaticAberrationR: 0
- Clarity: 0
- ColorNoiseReduction: 25
- ColorNoiseReductionDetail: 50
- Contrast: +100
- ConvertToGrayscale: False
- Defringe: 2
- Exposure: +0.74
- FillLight: 34
- GrainAmount: 0
- GreenHue: 0
- GreenSaturation: 0
- HasCrop: False
- HasSettings: True
- HighlightRecovery: 14
- HueAdjustmentAqua: 0
- HueAdjustmentBlue: 0
- HueAdjustmentGreen: 0
- HueAdjustmentMagenta: 0
- HueAdjustmentOrange: +10
- HueAdjustmentPurple: 0
- HueAdjustmentRed: +31
- HueAdjustmentYellow: 0
- LensManualDistortionAmount: 0
- LensProfileEnable: 0
- LensProfileSetup: LensDefaults
- LuminanceAdjustmentAqua: 0
- LuminanceAdjustmentBlue: 0
- LuminanceAdjustmentGreen: 0
- LuminanceAdjustmentMagenta: 0
- LuminanceAdjustmentOrange: 0
- LuminanceAdjustmentPurple: 0
- LuminanceAdjustmentRed: 0
- LuminanceAdjustmentYellow: 0
- LuminanceNoiseReductionContrast: 0
- LuminanceNoiseReductionDetail: 50
- LuminanceSmoothing: 27
- ParametricDarks: 0
- ParametricHighlightSplit: 75
- ParametricHighlights: 0
- ParametricLights: 0
- ParametricMidtoneSplit: 50
- ParametricShadowSplit: 25
- ParametricShadows: 0
- PerspectiveHorizontal: 0
- PerspectiveRotate: 0.0
- PerspectiveScale: 100
- PerspectiveVertical: 0
- PostCropVignetteAmount: -18
- PostCropVignetteFeather: 50
- PostCropVignetteHighlightContrast: 0
- PostCropVignetteMidpoint: 27
- PostCropVignetteRoundness: 0
- PostCropVignetteStyle: 1
- ProcessVersion: 5.7
- RedHue: 0
- RedSaturation: 0
- Saturation: -100
- SaturationAdjustmentAqua: 0
- SaturationAdjustmentBlue: 0
- SaturationAdjustmentGreen: 0
- SaturationAdjustmentMagenta: 0
- SaturationAdjustmentOrange: 0
- SaturationAdjustmentPurple: 0
- SaturationAdjustmentRed: 0
- SaturationAdjustmentYellow: 0
- ShadowTint: 0
- Shadows: 7
- SharpenDetail: 25
- SharpenEdgeMasking: 24
- SharpenRadius: +2.0
- Sharpness: 63
- SplitToningBalance: 0
- SplitToningHighlightHue: 47
- SplitToningHighlightSaturation: 0
- SplitToningShadowHue: 33
- SplitToningShadowSaturation: 20
- Temperature: 6806
- Tint: 0
- ToneCurve: 0, 0, 32, 22, 64, 56, 128, 128, 192, 196, 255, 255
- ToneCurveName: Medium Contrast
- Version: 6.2
- Vibrance: +32
- VignetteAmount: -65
- VignetteMidpoint: 32
- WhiteBalance: Custom
- XMP-dc
- Creator: ANDREW MAVRITSKY
- Format: image/jpeg
- Rights: ANDREW MAVRITSKY
- XMP-exif
- DateTimeDigitized: 2010:09:10 11:04:35.51+04:00
- DateTimeOriginal: 2010:09:10 11:04:35.51+04:00
- ExifImageHeight: 4288
- ExifImageWidth: 2848
- FlashFired: False
- FlashFunction: False
- FlashMode: Unknown
- FlashRedEyeMode: False
- FlashReturn: No return detection
- XMP-tiff
- ImageHeight: 4288
- ImageWidth: 2848
- XMP-xmp
- CreateDate: 2010:09:10 11:04:35.51+04:00
- ModifyDate: 2010:11:26 10:49:09+03:00
- XMP-xmpMM
- Просмотров: 140
- Рейтинг: голосов еще нет
- Отзывов: 0
Получить код для блога
| Вставка фотографии в текущем разрешении |
Вставка миниатюры |
HTML (для вставки в блог):
BBCode (для вставки в форум):
Ссылка на фото:
Ссылка на миниатюру:
- Послать ссылку другу
| Комментарии к фотографии |