- Раздел: Другое, разное
- Дата съёмки: 11.06.2011 07:41
- Дата загрузки фото: 03.07.2011 04:46
- Оригинальная фотография: 3411 x 2132 (1,7 Мб)
- Технические характеристики:
- Фотоаппарат: Canon EOS 1000D
- Выдержка: 1/3200
- Гиперфокальное расстояние: inf m
- Диафрагма: 4,0
- Светочувствительность: 400
- Фокусное расстояние: 50,0 mm (35 mm equivalent: 50,0 mm)
- Полный EXIF
- Adobe
- ColorTransform: YCbCr
- Composite
- Aperture: 4,0
- CircleOfConfusion: 0,016 mm
- FOV: 39,0 deg
- FocalLength35efl: 50,0 mm (35 mm equivalent: 50,0 mm)
- HyperfocalDistance: inf m
- ScaleFactor35efl: 1,9
- ShutterSpeed: 1/3200
- ExifIFD
- ApertureValue: 4,0
- ColorSpace: Uncalibrated
- CreateDate: 2011:06:11 07:41:08
- CustomRendered: Normal
- DateTimeOriginal: 2011:06:11 07:41:08
- ExifImageHeight: 2132
- ExifImageWidth: 3411
- ExposureCompensation: 0
- ExposureMode: Manual
- ExposureProgram: Manual
- ExposureTime: 1/3200
- FNumber: 4,0
- Flash: Off, Did not fire
- FocalLength: 50,0 mm
- ISO: 400
- LensInfo: 50mm f/?
- LensModel: EF50mm f/1.8 II
- MaxApertureValue: 1,8
- MeteringMode: Partial
- SceneCaptureType: Standard
- SerialNumber: 3450607133
- ShutterSpeedValue: 1/3200
- WhiteBalance: Auto
- IFD0
- BitsPerSample: 8 8 8
- ImageHeight: 2274
- ImageWidth: 3411
- Make: Canon
- Model: Canon EOS 1000D
- ModifyDate: 2011:06:24 21:27:47
- Orientation: Horizontal (normal)
- PhotometricInterpretation: RGB
- SamplesPerPixel: 3
- IFD1
- IPTC
- DateCreated: 2011:06:11
- System
- XMP-aux
- Firmware: 1.0.7
- FlashCompensation: 0
- ImageNumber: 0
- Lens: EF50mm f/1.8 II
- LensID: 29
- XMP-crs
- AlreadyApplied: True
- BlueHue: 0
- BlueSaturation: 0
- Brightness: +10
- CameraProfile: Camera Portrait beta 1
- ChromaticAberrationB: 0
- ChromaticAberrationR: 0
- Clarity: +55
- ColorNoiseReduction: 25
- ColorNoiseReductionDetail: 50
- Contrast: +40
- ConvertToGrayscale: False
- Defringe: 0
- Exposure: 0.00
- FillLight: 0
- GradientBasedCorrActive: true
- GradientBasedCorrAmount: 1.000000
- GradientBasedCorrBrightness: 0.000000
- GradientBasedCorrClarity: 0.000000
- GradientBasedCorrContrast: 0.000000
- GradientBasedCorrExposure: -0.500000
- GradientBasedCorrHue: 240.000000
- GradientBasedCorrMaskFullX: 0.526047
- GradientBasedCorrMaskFullY: -0.001532
- GradientBasedCorrMaskValue: 1.000000
- GradientBasedCorrMaskWhat: Mask/Gradient
- GradientBasedCorrMaskZeroX: 0.526047
- GradientBasedCorrMaskZeroY: 0.999998
- GradientBasedCorrSaturation: 0.000000
- GradientBasedCorrSharpness: 0.000000
- GradientBasedCorrWhat: Correction
- GrainAmount: 0
- GreenHue: 0
- GreenSaturation: 0
- HasCrop: False
- HasSettings: True
- HighlightRecovery: 0
- HueAdjustmentAqua: 0
- HueAdjustmentBlue: 0
- HueAdjustmentGreen: 0
- HueAdjustmentMagenta: 0
- HueAdjustmentOrange: 0
- HueAdjustmentPurple: 0
- HueAdjustmentRed: 0
- HueAdjustmentYellow: 0
- IncrementalTemperature: +3
- IncrementalTint: 0
- LensManualDistortionAmount: 0
- LensProfileEnable: 0
- LensProfileSetup: LensDefaults
- LuminanceAdjustmentAqua: 0
- LuminanceAdjustmentBlue: 0
- LuminanceAdjustmentGreen: 0
- LuminanceAdjustmentMagenta: 0
- LuminanceAdjustmentOrange: 0
- LuminanceAdjustmentPurple: 0
- LuminanceAdjustmentRed: 0
- LuminanceAdjustmentYellow: 0
- LuminanceSmoothing: 0
- ParametricDarks: -14
- ParametricHighlightSplit: 75
- ParametricHighlights: +24
- ParametricLights: +26
- ParametricMidtoneSplit: 50
- ParametricShadowSplit: 25
- ParametricShadows: -50
- PerspectiveHorizontal: 0
- PerspectiveRotate: 0.0
- PerspectiveScale: 100
- PerspectiveVertical: 0
- PostCropVignetteAmount: 0
- ProcessVersion: 5.7
- RedHue: 0
- RedSaturation: 0
- Saturation: +31
- SaturationAdjustmentAqua: -14
- SaturationAdjustmentBlue: 0
- SaturationAdjustmentGreen: 0
- SaturationAdjustmentMagenta: 0
- SaturationAdjustmentOrange: -31
- SaturationAdjustmentPurple: 0
- SaturationAdjustmentRed: -14
- SaturationAdjustmentYellow: -55
- ShadowTint: 0
- Shadows: 0
- SharpenDetail: 25
- SharpenEdgeMasking: 0
- SharpenRadius: +1.0
- Sharpness: 0
- SplitToningBalance: -36
- SplitToningHighlightHue: 227
- SplitToningHighlightSaturation: 31
- SplitToningShadowHue: 73
- SplitToningShadowSaturation: 33
- ToneCurve: 0, 0, 32, 22, 64, 56, 128, 128, 192, 196, 255, 255
- ToneCurveName: Medium Contrast
- Version: 6.4.1
- Vibrance: -12
- VignetteAmount: -100
- VignetteMidpoint: 8
- WhiteBalance: Custom
- XMP-dc
- XMP-xmp
- CreateDate: 2011:06:11 07:41:08.19
- ModifyDate: 2011:06:24 21:27:47+04:00
- XMP-xmpMM
- Просмотров: 289
- Рейтинг: голосов еще нет
- Отзывов: 0