- Раздел: Портрет
- Дата съёмки: 09.07.2011 22:48
- Дата загрузки фото: 19.07.2011 00:21
- Оригинальная фотография: 1061 x 1414 (367 Кб)
- Технические характеристики:
- Фотоаппарат: Canon EOS 1000D
- Выдержка: 1/400
- Гиперфокальное расстояние: inf m
- Диафрагма: 2,2
- Светочувствительность: 200
- Фокусное расстояние: 50,0 mm (35 mm equivalent: 200,0 mm)
- Экспокоррекция: +2/3
- Полный EXIF
- Adobe
- ColorTransform: YCbCr
- Composite
- Aperture: 2,2
- CircleOfConfusion: 0,007 mm
- FOV: 10,0 deg
- FocalLength35efl: 50,0 mm (35 mm equivalent: 200,0 mm)
- HyperfocalDistance: inf m
- ScaleFactor35efl: 4,3
- ShutterSpeed: 1/400
- ExifIFD
- ApertureValue: 2,2
- CreateDate: 2011:07:09 22:48:42
- CustomRendered: Normal
- DateTimeOriginal: 2011:07:09 22:48:42
- ExposureCompensation: +2/3
- ExposureMode: Auto
- ExposureProgram: Aperture-priority AE
- ExposureTime: 1/400
- FNumber: 2,2
- Flash: Off, Did not fire
- FocalLength: 50,0 mm
- ISO: 200
- LensInfo: 50mm f/?
- LensModel: EF50mm f/1.8 II
- MaxApertureValue: 1,8
- MeteringMode: Multi-segment
- OwnerName: Vlasov
- SceneCaptureType: Standard
- SensitivityType: Unknown
- SerialNumber: 1380312588
- ShutterSpeedValue: 1/400
- WhiteBalance: Auto
- ICC-header
- ICC-meas
- ICC-view
- IFD0
- Artist: Vlasov
- Make: Canon
- Model: Canon EOS 1000D
- ModifyDate: 2011:07:15 00:44:56
- IFD1
- IPTC
- By-line: Vlasov
- System
- XMP-aux
- Firmware: 1.0.5
- FlashCompensation: 0
- ImageNumber: 0
- Lens: EF50mm f/1.8 II
- LensID: 29
- XMP-crs
- AlreadyApplied: True
- BlueHue: 0
- BlueSaturation: 0
- Brightness: +19
- CameraProfile: ACR 3.3
- ChromaticAberrationB: 0
- ChromaticAberrationR: 0
- Clarity: +14
- ColorNoiseReduction: 0
- Contrast: +21
- ConvertToGrayscale: False
- CropAngle: 0
- CropBottom: 1
- CropConstrainToWarp: 0
- CropHeight: 1414
- CropLeft: 0.233544
- CropRight: 0.733544
- CropTop: 0
- CropUnit: pixels
- CropWidth: 1061
- Defringe: 0
- Exposure: 0.00
- FillLight: 1
- GrainAmount: 0
- GreenHue: 0
- GreenSaturation: 0
- HasCrop: True
- HasSettings: True
- HighlightRecovery: 12
- HueAdjustmentAqua: 0
- HueAdjustmentBlue: 0
- HueAdjustmentGreen: 0
- HueAdjustmentMagenta: 0
- HueAdjustmentOrange: 0
- HueAdjustmentPurple: 0
- HueAdjustmentRed: 0
- HueAdjustmentYellow: 0
- LensManualDistortionAmount: 0
- LensProfileEnable: 0
- LensProfileSetup: LensDefaults
- LuminanceAdjustmentAqua: 0
- LuminanceAdjustmentBlue: 0
- LuminanceAdjustmentGreen: 0
- LuminanceAdjustmentMagenta: 0
- LuminanceAdjustmentOrange: 0
- LuminanceAdjustmentPurple: 0
- LuminanceAdjustmentRed: 0
- LuminanceAdjustmentYellow: 0
- LuminanceNoiseReductionContrast: 0
- LuminanceNoiseReductionDetail: 50
- LuminanceSmoothing: 47
- ParametricDarks: -22
- ParametricHighlightSplit: 75
- ParametricHighlights: -18
- ParametricLights: +25
- ParametricMidtoneSplit: 50
- ParametricShadowSplit: 25
- ParametricShadows: +8
- PerspectiveHorizontal: 0
- PerspectiveRotate: 0.0
- PerspectiveScale: 100
- PerspectiveVertical: 0
- PostCropVignetteAmount: -64
- PostCropVignetteFeather: 63
- PostCropVignetteHighlightContrast: 0
- PostCropVignetteMidpoint: 52
- PostCropVignetteRoundness: -77
- PostCropVignetteStyle: 1
- ProcessVersion: 5.7
- RedHue: 0
- RedSaturation: 0
- Saturation: -66
- SaturationAdjustmentAqua: 0
- SaturationAdjustmentBlue: +62
- SaturationAdjustmentGreen: 0
- SaturationAdjustmentMagenta: 0
- SaturationAdjustmentOrange: +25
- SaturationAdjustmentPurple: 0
- SaturationAdjustmentRed: +25
- SaturationAdjustmentYellow: 0
- ShadowTint: 0
- Shadows: 0
- SharpenDetail: 10
- SharpenEdgeMasking: 0
- SharpenRadius: +0.8
- Sharpness: 65
- SplitToningBalance: 0
- SplitToningHighlightHue: 0
- SplitToningHighlightSaturation: 0
- SplitToningShadowHue: 35
- SplitToningShadowSaturation: 19
- Temperature: 13750
- Tint: +10
- ToneCurve: 0, 0, 32, 16, 64, 50, 128, 128, 192, 202, 255, 255
- ToneCurveName: Strong Contrast
- Version: 6.3
- Vibrance: +40
- VignetteAmount: -18
- VignetteMidpoint: 50
- WhiteBalance: Custom
- XMP-dc
- XMP-exif
- DateTimeDigitized: 2011:07:09 22:48:42.02+04:00
- DateTimeOriginal: 2011:07:09 22:48:42.02+04:00
- ExifImageHeight: 1414
- ExifImageWidth: 1061
- FlashFired: False
- FlashFunction: False
- FlashMode: Off
- FlashRedEyeMode: False
- FlashReturn: No return detection
- XMP-tiff
- ImageHeight: 1414
- ImageWidth: 1061
- XMP-xmp
- CreateDate: 2011:07:09 22:48:42.02+04:00
- ModifyDate: 2011:07:15 00:44:56+04:00