- Раздел: Другое, разное
- Дата съёмки: 17.07.2011 17:48
- Дата загрузки фото: 26.07.2011 20:49
- Оригинальная фотография: 1600 x 1071 (433 Кб)
- Технические характеристики:
- Фотоаппарат: Nikon D200
- Выдержка: 1/320
- Гиперфокальное расстояние: inf m
- Диафрагма: 5,6
- Светочувствительность: 400
- Фокусное расстояние: 210,0 mm (35 mm equivalent: 210,0 mm)
- Полный EXIF
- Adobe
- ColorTransform: YCbCr
- Composite
- Aperture: 5,6
- CircleOfConfusion: 0,020 mm
- DOF: inf (0,00 m - inf)
- FOV: 9,0 deg
- FocalLength35efl: 210,0 mm (35 mm equivalent: 210,0 mm)
- HyperfocalDistance: inf m
- ScaleFactor35efl: 1,5
- ShutterSpeed: 1/320
- ExifIFD
- ApertureValue: 5,6
- CFAPattern: [Green,Red][Blue,Green]
- ColorSpace: sRGB
- CreateDate: 2011:07:17 17:48:58
- DateTimeOriginal: 2011:07:17 17:48:58
- ExifImageHeight: 1071
- ExifImageWidth: 1600
- ExposureCompensation: 0
- ExposureProgram: Aperture-priority AE
- ExposureTime: 1/320
- FNumber: 5,6
- Flash: No Flash
- FocalLength: 210,0 mm
- ISO: 400
- LightSource: Unknown
- MaxApertureValue: 5,7
- MeteringMode: Multi-segment
- SceneType: Directly photographed
- SensingMethod: One-chip color area
- ShutterSpeedValue: 1/320
- SubjectDistance: 35,5 m
- ICC-header
- ICC-meas
- ICC-view
- IFD0
- Contrast: Normal
- CustomRendered: Normal
- DigitalZoomRatio: 1
- ExposureMode: Auto
- FocalLengthIn35mmFormat: 315 mm
- GainControl: Low gain up
- LensInfo: 70-210mm f/4-5.6
- LensModel: 70.0-210.0 mm f/4.0-5.6
- Make: NIKON CORPORATION
- Model: NIKON D200
- ModifyDate: 2011:07:17 15:13:26
- Saturation: Normal
- SceneCaptureType: Standard
- SensitivityType: Unknown
- Sharpness: Normal
- SubjectDistanceRange: Unknown
- WhiteBalance: Auto
- IFD1
- IPTC
- DateCreated: 2011:07:17
- System
- XMP-aux
- ApproximateFocusDistance: 35,5
- ImageNumber: 27171
- Lens: 70.0-210.0 mm f/4.0-5.6
- LensID: 18
- XMP-crs
- AlreadyApplied: True
- BlueHue: 0
- BlueSaturation: 0
- Brightness: +57
- ChromaticAberrationB: 0
- ChromaticAberrationR: 0
- Clarity: +18
- ColorNoiseReduction: 25
- ColorNoiseReductionDetail: 50
- Contrast: +50
- ConvertToGrayscale: False
- Defringe: 0
- Exposure: +0.50
- FillLight: 0
- GrainAmount: 0
- GreenHue: 0
- GreenSaturation: 0
- HasCrop: False
- HasSettings: True
- HighlightRecovery: 14
- HueAdjustmentAqua: 0
- HueAdjustmentBlue: 0
- HueAdjustmentGreen: 0
- HueAdjustmentMagenta: 0
- HueAdjustmentOrange: 0
- HueAdjustmentPurple: 0
- HueAdjustmentRed: 0
- HueAdjustmentYellow: 0
- LensManualDistortionAmount: 0
- LensProfileEnable: 0
- LensProfileSetup: LensDefaults
- LuminanceAdjustmentAqua: 0
- LuminanceAdjustmentBlue: 0
- LuminanceAdjustmentGreen: 0
- LuminanceAdjustmentMagenta: 0
- LuminanceAdjustmentOrange: 0
- LuminanceAdjustmentPurple: 0
- LuminanceAdjustmentRed: 0
- LuminanceAdjustmentYellow: 0
- LuminanceSmoothing: 0
- ParametricDarks: 0
- ParametricHighlightSplit: 75
- ParametricHighlights: 0
- ParametricLights: 0
- ParametricMidtoneSplit: 50
- ParametricShadowSplit: 25
- ParametricShadows: 0
- PerspectiveHorizontal: 0
- PerspectiveRotate: 0.0
- PerspectiveScale: 100
- PerspectiveVertical: 0
- PostCropVignetteAmount: 0
- ProcessVersion: 5.7
- RawFileName: DCF_7715.NEF
- RedHue: 0
- RedSaturation: 0
- Saturation: 0
- SaturationAdjustmentAqua: 0
- SaturationAdjustmentBlue: 0
- SaturationAdjustmentGreen: 0
- SaturationAdjustmentMagenta: 0
- SaturationAdjustmentOrange: 0
- SaturationAdjustmentPurple: 0
- SaturationAdjustmentRed: 0
- SaturationAdjustmentYellow: 0
- ShadowTint: 0
- Shadows: 10
- SharpenDetail: 25
- SharpenEdgeMasking: 0
- SharpenRadius: +1.0
- Sharpness: 25
- SplitToningBalance: 0
- SplitToningHighlightHue: 0
- SplitToningHighlightSaturation: 0
- SplitToningShadowHue: 0
- SplitToningShadowSaturation: 0
- Temperature: 5500
- Tint: -7
- ToneCurve: 0, 0, 32, 22, 64, 56, 128, 128, 192, 196, 255, 255
- ToneCurveName: Medium Contrast
- Version: 6.2
- Vibrance: 0
- VignetteAmount: 0
- WhiteBalance: As Shot
- XMP-dc
- XMP-xmp
- CreateDate: 2011:07:17 17:48:58.24+04:00
- CreatorTool: Ver.2.00
- ModifyDate: 2011:07:17 15:13:26Z
- Rating: 0
- XMP-xmpMM