- Раздел: Животные
- Дата съёмки: 09.08.2011 18:02
- Дата загрузки фото: 09.08.2011 20:48
- Оригинальная фотография: 4912 x 3264 (9,6 Мб)
- Технические характеристики:
- Фотоаппарат: Sony SLT-A55V
- Выдержка: 1/400
- Гиперфокальное расстояние: inf m
- Диафрагма: 1,7
- Светочувствительность: 200
- Фокусное расстояние: 50,0 mm (35 mm equivalent: 50,0 mm)
- Экспокоррекция: +0,3
- Полный EXIF
- Adobe
- ColorTransform: YCbCr
- Composite
- Aperture: 1,7
- CircleOfConfusion: 0,020 mm
- FOV: 39,0 deg
- FocalLength35efl: 50,0 mm (35 mm equivalent: 50,0 mm)
- HyperfocalDistance: inf m
- ScaleFactor35efl: 1,5
- ShutterSpeed: 1/400
- ExifIFD
- ApertureValue: 1,7
- BrightnessValue: 4,75
- Contrast: High
- CreateDate: 2011:08:09 18:02:28
- CustomRendered: Normal
- DateTimeOriginal: 2011:08:09 18:02:28
- ExposureCompensation: +0,3
- ExposureMode: Auto
- ExposureProgram: Aperture-priority AE
- ExposureTime: 1/400
- FNumber: 1,7
- Flash: Off, Did not fire
- FocalLength: 50,0 mm
- FocalLengthIn35mmFormat: 75 mm
- ISO: 200
- LensInfo: 50mm f/1.7
- LensModel: 50mm F1.7
- LightSource: Unknown
- MaxApertureValue: 1,7
- MeteringMode: Multi-segment
- RecommendedExposureIndex: 200
- Saturation: High
- SceneCaptureType: Standard
- SceneType: Directly photographed
- SensitivityType: Recommended Exposure Index
- Sharpness: Hard
- ShutterSpeedValue: 1/400
- WhiteBalance: Auto
- ICC-header
- ICC-meas
- ICC-view
- IFD0
- ImageDescription: SONY DSC
- Make: SONY
- Model: SLT-A55V
- ModifyDate: 2011:08:09 20:25:39
- Software: SLT-A55V v2.00
- IFD1
- IPTC
- Caption-Abstract: SONY DSC
- System
- XMP-aux
- Lens: 50mm F1.7
- LensID: 25501
- XMP-crs
- AlreadyApplied: True
- BlueHue: 0
- BlueSaturation: 0
- Brightness: +50
- ChromaticAberrationB: 0
- ChromaticAberrationR: 0
- Clarity: 0
- ColorNoiseReduction: 25
- ColorNoiseReductionDetail: 50
- Contrast: +25
- ConvertToGrayscale: False
- Defringe: 0
- Exposure: -0.40
- FillLight: 0
- GrainAmount: 0
- GreenHue: 0
- GreenSaturation: 0
- HasCrop: False
- HasSettings: True
- HighlightRecovery: 0
- HueAdjustmentAqua: 0
- HueAdjustmentBlue: 0
- HueAdjustmentGreen: 0
- HueAdjustmentMagenta: 0
- HueAdjustmentOrange: 0
- HueAdjustmentPurple: 0
- HueAdjustmentRed: 0
- HueAdjustmentYellow: 0
- LensManualDistortionAmount: 0
- LensProfileEnable: 0
- LensProfileSetup: LensDefaults
- LuminanceAdjustmentAqua: 0
- LuminanceAdjustmentBlue: 0
- LuminanceAdjustmentGreen: 0
- LuminanceAdjustmentMagenta: 0
- LuminanceAdjustmentOrange: 0
- LuminanceAdjustmentPurple: 0
- LuminanceAdjustmentRed: 0
- LuminanceAdjustmentYellow: 0
- LuminanceNoiseReductionContrast: 0
- LuminanceNoiseReductionDetail: 50
- LuminanceSmoothing: 15
- ParametricDarks: 0
- ParametricHighlightSplit: 75
- ParametricHighlights: 0
- ParametricLights: 0
- ParametricMidtoneSplit: 50
- ParametricShadowSplit: 25
- ParametricShadows: 0
- PerspectiveHorizontal: 0
- PerspectiveRotate: 0.0
- PerspectiveScale: 100
- PerspectiveVertical: 0
- PostCropVignetteAmount: 0
- ProcessVersion: 5.7
- RedHue: 0
- RedSaturation: 0
- Saturation: +40
- SaturationAdjustmentAqua: 0
- SaturationAdjustmentBlue: 0
- SaturationAdjustmentGreen: 0
- SaturationAdjustmentMagenta: 0
- SaturationAdjustmentOrange: 0
- SaturationAdjustmentPurple: 0
- SaturationAdjustmentRed: 0
- SaturationAdjustmentYellow: 0
- ShadowTint: 0
- Shadows: 5
- SharpenDetail: 25
- SharpenEdgeMasking: 12
- SharpenRadius: +1.0
- Sharpness: 83
- SplitToningBalance: 0
- SplitToningHighlightHue: 0
- SplitToningHighlightSaturation: 0
- SplitToningShadowHue: 0
- SplitToningShadowSaturation: 0
- Temperature: 4750
- Tint: +8
- ToneCurve: 0, 0, 32, 22, 64, 56, 128, 128, 192, 196, 255, 255
- ToneCurveName: Medium Contrast
- Version: 6.3
- Vibrance: +29
- VignetteAmount: 0
- WhiteBalance: Custom
- XMP-dc
- XMP-exif
- DateTimeDigitized: 2011:08:09 18:02:28+04:00
- DateTimeOriginal: 2011:08:09 18:02:28+04:00
- ExifImageHeight: 3264
- ExifImageWidth: 4912
- FlashFired: False
- FlashFunction: False
- FlashMode: Off
- FlashRedEyeMode: False
- FlashReturn: No return detection
- SensitivityType: 2
- XMP-tiff
- ImageHeight: 3264
- ImageWidth: 4912
- XMP-xmp
- CreateDate: 2011:08:09 18:02:28+04:00
- ModifyDate: 2011:08:09 20:25:39+04:00
- Просмотров: 881
- Рейтинг: голосов еще нет
- Отзывов: 0