» Участники » Forester56 » LX3 » P1010622_LR.JPG |
P1010622_LR.JPG |
P1010622_LR.JPG
- Раздел: Другое, разное
- Дата съёмки: 09.07.2011 21:57
- Дата загрузки фото: 12.08.2011 11:52
- Оригинальная фотография: 3968 x 2232 (1,7 Мб)
- Технические характеристики:
- Фотоаппарат: Panasonic DMC-LX3
- Выдержка: 1/30
- Диафрагма: 2,0
- Светочувствительность: 160
- Фокусное расстояние: 5,0 mm
- Полный EXIF
- Composite
- Aperture: 2,0
- FocalLength35efl: 5,0 mm
- ShutterSpeed: 1/30
- ExifIFD
- ApertureValue: 2,0
- CreateDate: 2011:07:09 21:57:43
- DateTimeOriginal: 2011:07:09 21:57:43
- ExifImageHeight: 2232
- ExifImageWidth: 3968
- ExposureCompensation: 0
- ExposureProgram: Program AE
- ExposureTime: 1/30
- FNumber: 2,0
- Flash: Off, Did not fire
- FocalLength: 5,1 mm
- ISO: 160
- MaxApertureValue: 2,0
- MeteringMode: Multi-segment
- ShutterSpeedValue: 1/30
- IFD0
- Make: Panasonic
- Model: DMC-LX3
- ModifyDate: 2011:07:16 00:32:14
- IFD1
- IPTC
- DateCreated: 2011:07:09
- RelatedImageHeight: 2232
- RelatedImageWidth: 3968
- System
- XMP-crs
- AlreadyApplied: True
- BlueHue: 0
- BlueSaturation: 0
- Brightness: +48
- ChromaticAberrationB: 0
- ChromaticAberrationR: 0
- Clarity: 0
- ColorNoiseReduction: 25
- ColorNoiseReductionDetail: 50
- Contrast: +14
- ConvertToGrayscale: False
- Defringe: 0
- Exposure: 0.00
- FillLight: 12
- GradientBasedCorrActive: true
- GradientBasedCorrAmount: 1.000000
- GradientBasedCorrBrightness: 0.000000
- GradientBasedCorrClarity: 1.000000
- GradientBasedCorrContrast: 0.000000
- GradientBasedCorrExposure: -0.250000
- GradientBasedCorrHue: 0.000000
- GradientBasedCorrMaskFullX: 0.532996
- GradientBasedCorrMaskFullY: 0.309085
- GradientBasedCorrMaskValue: 1.000000
- GradientBasedCorrMaskWhat: Mask/Gradient
- GradientBasedCorrMaskZeroX: 0.532996
- GradientBasedCorrMaskZeroY: 0.704764
- GradientBasedCorrSaturation: 0.000000
- GradientBasedCorrSharpness: 0.000000
- GradientBasedCorrWhat: Correction
- GrainAmount: 0
- GreenHue: 0
- GreenSaturation: 0
- HasCrop: False
- HasSettings: True
- HighlightRecovery: 19
- HueAdjustmentAqua: 0
- HueAdjustmentBlue: 0
- HueAdjustmentGreen: 0
- HueAdjustmentMagenta: 0
- HueAdjustmentOrange: 0
- HueAdjustmentPurple: 0
- HueAdjustmentRed: 0
- HueAdjustmentYellow: 0
- LensManualDistortionAmount: 0
- LensProfileEnable: 0
- LensProfileSetup: LensDefaults
- LuminanceAdjustmentAqua: 0
- LuminanceAdjustmentBlue: 0
- LuminanceAdjustmentGreen: 0
- LuminanceAdjustmentMagenta: 0
- LuminanceAdjustmentOrange: 0
- LuminanceAdjustmentPurple: 0
- LuminanceAdjustmentRed: 0
- LuminanceAdjustmentYellow: 0
- LuminanceSmoothing: 0
- ParametricDarks: 0
- ParametricHighlightSplit: 75
- ParametricHighlights: 0
- ParametricLights: 0
- ParametricMidtoneSplit: 50
- ParametricShadowSplit: 25
- ParametricShadows: 0
- PerspectiveHorizontal: 0
- PerspectiveRotate: 0.0
- PerspectiveScale: 100
- PerspectiveVertical: 0
- PostCropVignetteAmount: 0
- ProcessVersion: 5.7
- RedHue: 0
- RedSaturation: 0
- Saturation: 0
- SaturationAdjustmentAqua: 0
- SaturationAdjustmentBlue: 0
- SaturationAdjustmentGreen: 0
- SaturationAdjustmentMagenta: 0
- SaturationAdjustmentOrange: 0
- SaturationAdjustmentPurple: 0
- SaturationAdjustmentRed: 0
- SaturationAdjustmentYellow: 0
- ShadowTint: 0
- Shadows: 3
- SharpenDetail: 25
- SharpenEdgeMasking: 0
- SharpenRadius: +1.0
- Sharpness: 25
- SplitToningBalance: 0
- SplitToningHighlightHue: 0
- SplitToningHighlightSaturation: 0
- SplitToningShadowHue: 0
- SplitToningShadowSaturation: 0
- Temperature: 6550
- Tint: -2
- ToneCurve: 0, 0, 32, 22, 64, 56, 128, 128, 192, 196, 255, 255
- ToneCurveName: Medium Contrast
- Version: 6.4
- Vibrance: 0
- VignetteAmount: 0
- WhiteBalance: As Shot
- XMP-x
- XMP-xmp
- ModifyDate: 2011:07:16 00:32:14+03:00
- Просмотров: 105
- Рейтинг: голосов еще нет
- Отзывов: 0
Получить код для блога
Вставка фотографии в текущем разрешении |
Вставка миниатюры |
HTML (для вставки в блог):
BBCode (для вставки в форум):
Ссылка на фото:
Ссылка на миниатюру:
- Послать ссылку другу
Комментарии к фотографии |