» Участники » Forester56 » LX3 » P1020117_LRview-3.jpg |
P1020117_LRview-3.jpg |
P1020117_LRview-3.jpg
- Раздел: Другое, разное
- Дата съёмки: 12.08.2011 14:56
- Дата загрузки фото: 12.08.2011 19:04
- Оригинальная фотография: 3420 x 2736 (3,3 Мб)
- Технические характеристики:
- Фотоаппарат: Panasonic DMC-LX3
- Выдержка: 1/160
- Диафрагма: 2,8
- Светочувствительность: 80
- Фокусное расстояние: 5,0 mm
- Полный EXIF
- Composite
- Aperture: 2,8
- FocalLength35efl: 5,0 mm
- ShutterSpeed: 1/160
- ExifIFD
- ApertureValue: 2,8
- CreateDate: 2011:08:12 14:56:21
- DateTimeOriginal: 2011:08:12 14:56:21
- ExifImageHeight: 2736
- ExifImageWidth: 3420
- ExposureCompensation: 0
- ExposureProgram: Program AE
- ExposureTime: 1/160
- FNumber: 2,8
- Flash: Off, Did not fire
- FocalLength: 5,1 mm
- ISO: 80
- MaxApertureValue: 2,0
- MeteringMode: Multi-segment
- ShutterSpeedValue: 1/160
- IFD0
- Make: Panasonic
- Model: DMC-LX3
- ModifyDate: 2011:08:12 17:22:51
- IFD1
- IPTC
- DateCreated: 2011:08:12
- RelatedImageHeight: 2736
- RelatedImageWidth: 3420
- System
- XMP-crs
- AlreadyApplied: True
- BlueHue: 0
- BlueSaturation: 0
- Brightness: +58
- ChromaticAberrationB: 0
- ChromaticAberrationR: 0
- Clarity: 0
- ColorNoiseReduction: 25
- ColorNoiseReductionDetail: 50
- Contrast: +49
- ConvertToGrayscale: False
- CropAngle: 0
- CropBottom: 1
- CropConstrainToWarp: 0
- CropHeight: 2736
- CropLeft: 0.03125
- CropRight: 0.96875
- CropTop: 0
- CropUnit: pixels
- CropWidth: 3420
- Defringe: 0
- Exposure: -0.30
- FillLight: 14
- GrainAmount: 0
- GreenHue: 0
- GreenSaturation: 0
- HasCrop: True
- HasSettings: True
- HighlightRecovery: 32
- HueAdjustmentAqua: 0
- HueAdjustmentBlue: 0
- HueAdjustmentGreen: 0
- HueAdjustmentMagenta: 0
- HueAdjustmentOrange: 0
- HueAdjustmentPurple: 0
- HueAdjustmentRed: 0
- HueAdjustmentYellow: 0
- LensManualDistortionAmount: 0
- LensProfileEnable: 0
- LensProfileSetup: LensDefaults
- LuminanceAdjustmentAqua: 0
- LuminanceAdjustmentBlue: -26
- LuminanceAdjustmentGreen: +19
- LuminanceAdjustmentMagenta: 0
- LuminanceAdjustmentOrange: 0
- LuminanceAdjustmentPurple: 0
- LuminanceAdjustmentRed: 0
- LuminanceAdjustmentYellow: 0
- LuminanceSmoothing: 0
- ParametricDarks: 0
- ParametricHighlightSplit: 75
- ParametricHighlights: 0
- ParametricLights: 0
- ParametricMidtoneSplit: 50
- ParametricShadowSplit: 25
- ParametricShadows: 0
- PerspectiveHorizontal: 0
- PerspectiveRotate: 0.0
- PerspectiveScale: 100
- PerspectiveVertical: 0
- PostCropVignetteAmount: 0
- ProcessVersion: 5.7
- RedHue: 0
- RedSaturation: 0
- Saturation: 0
- SaturationAdjustmentAqua: 0
- SaturationAdjustmentBlue: 0
- SaturationAdjustmentGreen: 0
- SaturationAdjustmentMagenta: 0
- SaturationAdjustmentOrange: 0
- SaturationAdjustmentPurple: 0
- SaturationAdjustmentRed: 0
- SaturationAdjustmentYellow: 0
- ShadowTint: 0
- Shadows: 9
- SharpenDetail: 25
- SharpenEdgeMasking: 0
- SharpenRadius: +1.0
- Sharpness: 25
- SplitToningBalance: 0
- SplitToningHighlightHue: 0
- SplitToningHighlightSaturation: 0
- SplitToningShadowHue: 0
- SplitToningShadowSaturation: 0
- Temperature: 4900
- Tint: -1
- ToneCurve: 0, 0, 32, 22, 64, 56, 128, 128, 192, 196, 255, 255
- ToneCurveName: Medium Contrast
- Version: 6.4
- Vibrance: +10
- VignetteAmount: 0
- WhiteBalance: As Shot
- XMP-x
- XMP-xmp
- ModifyDate: 2011:08:12 17:22:51+03:00
- Просмотров: 100
- Рейтинг: голосов еще нет
- Отзывов: 0
Получить код для блога
Вставка фотографии в текущем разрешении |
Вставка миниатюры |
HTML (для вставки в блог):
BBCode (для вставки в форум):
Ссылка на фото:
Ссылка на миниатюру:
- Послать ссылку другу
Комментарии к фотографии |