| » Участники » Chacha_D » Природа » _MG_5156-1q1рам1.jpg |
Уважаемые друзья и участники проекта iXBT.photo! К сожалению, 1 марта 2026 года проект iXBT.photo прекратит свою работу и будет закрыт. Мы высоко ценим ваше участие и тот вклад, который вы внесли в развитие нашего сообщества. Пожалуйста, не забудьте сохранить ваши фотографии до этой даты.
С уважением, команда iXBT.com
| _MG_5156-1q1рам1.jpg |
_MG_5156-1q1рам1.jpg
- Раздел: Пейзаж
- Дата съёмки: 20.08.2011 06:14
- Дата загрузки фото: 20.08.2011 17:55
- Оригинальная фотография: 1516 x 1016 (1,2 Мб)
- Технические характеристики:
- Фотоаппарат: Canon EOS 40D
- Выдержка: 1/30
- Гиперфокальное расстояние: inf m
- Диафрагма: 2,8
- Светочувствительность: 100
- Фокусное расстояние: 50,0 mm (35 mm equivalent: 200,0 mm)
- Полный EXIF
- Composite
- Aperture: 2,8
- CircleOfConfusion: 0,007 mm
- FOV: 10,0 deg
- FocalLength35efl: 50,0 mm (35 mm equivalent: 200,0 mm)
- HyperfocalDistance: inf m
- ScaleFactor35efl: 4,1
- ShutterSpeed: 1/30
- ExifIFD
- ApertureValue: 2,8
- ColorSpace: sRGB
- CreateDate: 2011:08:20 06:14:08
- CustomRendered: Normal
- DateTimeOriginal: 2011:08:20 06:14:08
- ExifImageHeight: 1016
- ExifImageWidth: 1516
- ExposureCompensation: 0
- ExposureMode: Manual
- ExposureProgram: Manual
- ExposureTime: 1/30
- FNumber: 2,8
- Flash: Off, Did not fire
- FocalLength: 50,0 mm
- ISO: 100
- MaxApertureValue: 1,8
- MeteringMode: Spot
- SceneCaptureType: Standard
- ShutterSpeedValue: 1/30
- WhiteBalance: Manual
- ICC-header
- ICC-meas
- ICC-view
- IFD0
- Make: Canon
- Model: Canon EOS 40D
- ModifyDate: 2011:08:20 16:02:24
- Orientation: Horizontal (normal)
- Software: Программа цифровой обработки изображений компании ACD Systems
- IFD1
- IPTC
- DateCreated: 2011:08:20
- System
- XMP-aux
- Firmware: 1.1.1
- FlashCompensation: 0
- ImageNumber: 0
- Lens: EF50mm f/1.8 II
- LensID: 29
- LensInfo: 50mm f/?
- SerialNumber: 2231214667
- XMP-crs
- AlreadyApplied: True
- BlueHue: -13
- BlueSaturation: +91
- Brightness: +50
- ChromaticAberrationB: 0
- ChromaticAberrationR: 0
- Clarity: +17
- ColorNoiseReduction: 89
- ColorNoiseReductionDetail: 50
- Contrast: +25
- ConvertToGrayscale: False
- Defringe: 0
- Exposure: -1.84
- FillLight: 52
- GrainAmount: 0
- GreenHue: +12
- GreenSaturation: -22
- HasCrop: False
- HasSettings: True
- HighlightRecovery: 6
- HueAdjustmentAqua: 0
- HueAdjustmentBlue: +6
- HueAdjustmentGreen: -8
- HueAdjustmentMagenta: 0
- HueAdjustmentOrange: 0
- HueAdjustmentPurple: 0
- HueAdjustmentRed: 0
- HueAdjustmentYellow: 0
- LensManualDistortionAmount: 0
- LensProfileEnable: 0
- LensProfileSetup: LensDefaults
- LuminanceAdjustmentAqua: 0
- LuminanceAdjustmentBlue: 0
- LuminanceAdjustmentGreen: 0
- LuminanceAdjustmentMagenta: 0
- LuminanceAdjustmentOrange: +66
- LuminanceAdjustmentPurple: 0
- LuminanceAdjustmentRed: +3
- LuminanceAdjustmentYellow: 0
- LuminanceSmoothing: 0
- ParametricDarks: -1
- ParametricHighlightSplit: 75
- ParametricHighlights: +79
- ParametricLights: +92
- ParametricMidtoneSplit: 50
- ParametricShadowSplit: 25
- ParametricShadows: -1
- PerspectiveHorizontal: 0
- PerspectiveRotate: 0.0
- PerspectiveScale: 100
- PerspectiveVertical: 0
- PostCropVignetteAmount: -16
- PostCropVignetteFeather: 95
- PostCropVignetteHighlightContrast: 0
- PostCropVignetteMidpoint: 12
- PostCropVignetteRoundness: +28
- PostCropVignetteStyle: 1
- ProcessVersion: 5.7
- RedHue: 0
- RedSaturation: -19
- Saturation: +19
- SaturationAdjustmentAqua: 0
- SaturationAdjustmentBlue: -13
- SaturationAdjustmentGreen: +3
- SaturationAdjustmentMagenta: 0
- SaturationAdjustmentOrange: +1
- SaturationAdjustmentPurple: 0
- SaturationAdjustmentRed: -17
- SaturationAdjustmentYellow: -52
- ShadowTint: 0
- Shadows: 5
- SharpenDetail: 25
- SharpenEdgeMasking: 0
- SharpenRadius: +0.5
- Sharpness: 134
- SplitToningBalance: 0
- SplitToningHighlightHue: 0
- SplitToningHighlightSaturation: 0
- SplitToningShadowHue: 0
- SplitToningShadowSaturation: 0
- Temperature: 9358
- Tint: -2
- ToneCurve: 0, 0, 32, 22, 64, 56, 128, 128, 192, 196, 255, 255
- ToneCurveName: Medium Contrast
- Version: 6.4.1
- Vibrance: -6
- VignetteAmount: 0
- WhiteBalance: Custom
- XMP-dc
- XMP-x
- XMP-xmp
- CreateDate: 2011:08:20 06:14:08.53
- ModifyDate: 2011:08:20 15:59:42+04:00
- XMP-xmpMM
Получить код для блога
| Вставка фотографии в текущем разрешении |
Вставка миниатюры |
HTML (для вставки в блог):
BBCode (для вставки в форум):
Ссылка на фото:
Ссылка на миниатюру:
- Послать ссылку другу
| Комментарии к фотографии |