- Раздел: Другое, разное
- Дата съёмки: 20.08.2011 19:43
- Дата загрузки фото: 21.08.2011 13:24
- Оригинальная фотография: 2000 x 3000 (2,7 Мб)
- Технические характеристики:
- Фотоаппарат: Canon EOS 7D
- Выдержка: 1/200
- Гиперфокальное расстояние: inf m
- Диафрагма: 2,2
- Светочувствительность: 1000
- Фокусное расстояние: 50,0 mm (35 mm equivalent: 100,0 mm)
- Экспокоррекция: +1/3
- Полный EXIF
- Adobe
- ColorTransform: YCbCr
- Composite
- Aperture: 2,2
- CircleOfConfusion: 0,011 mm
- FOV: 20,0 deg
- FocalLength35efl: 50,0 mm (35 mm equivalent: 100,0 mm)
- HyperfocalDistance: inf m
- ScaleFactor35efl: 2,7
- ShutterSpeed: 1/200
- ExifIFD
- ApertureValue: 2,2
- ColorSpace: Uncalibrated
- CreateDate: 2011:08:20 19:43:49
- CustomRendered: Normal
- DateTimeOriginal: 2011:08:20 19:43:49
- ExifImageHeight: 3000
- ExifImageWidth: 2000
- ExposureCompensation: +1/3
- ExposureMode: Auto
- ExposureProgram: Aperture-priority AE
- ExposureTime: 1/200
- FNumber: 2,2
- Flash: Off, Did not fire
- FocalLength: 50,0 mm
- ISO: 1000
- MaxApertureValue: 1,4
- MeteringMode: Multi-segment
- SceneCaptureType: Standard
- ShutterSpeedValue: 1/200
- WhiteBalance: Auto
- ICC-header
- IFD0
- Artist: Shopot
- Make: Canon
- Model: Canon EOS 7D
- ModifyDate: 2011:08:21 12:02:44
- Orientation: Horizontal (normal)
- IFD1
- IPTC
- By-line: Shopot
- DateCreated: 2011:08:20
- System
- XMP-aux
- Firmware: 1.2.2
- FlashCompensation: 0
- ImageNumber: 0
- Lens: EF50mm f/1.4 USM
- LensID: 198
- LensInfo: 50mm f/?
- SerialNumber: 1280816451
- XMP-crs
- AlreadyApplied: True
- BlueHue: 0
- BlueSaturation: 0
- Brightness: +50
- ChromaticAberrationB: 0
- ChromaticAberrationR: 0
- Clarity: 0
- ColorNoiseReduction: 25
- ColorNoiseReductionDetail: 50
- Contrast: +25
- ConvertToGrayscale: False
- CropAngle: 0
- CropBottom: 0.916465
- CropHeight: 3
- CropLeft: 0
- CropRight: 0.916465
- CropTop: 0
- CropUnit: Unknown (3)
- CropWidth: 2
- Defringe: 0
- Exposure: 0.00
- FillLight: 25
- GrainAmount: 0
- GreenHue: 0
- GreenSaturation: 0
- HasCrop: True
- HasSettings: True
- HighlightRecovery: 3
- HueAdjustmentAqua: 0
- HueAdjustmentBlue: 0
- HueAdjustmentGreen: 0
- HueAdjustmentMagenta: 0
- HueAdjustmentOrange: 0
- HueAdjustmentPurple: 0
- HueAdjustmentRed: 0
- HueAdjustmentYellow: 0
- LuminanceAdjustmentAqua: 0
- LuminanceAdjustmentBlue: 0
- LuminanceAdjustmentGreen: 0
- LuminanceAdjustmentMagenta: 0
- LuminanceAdjustmentOrange: 0
- LuminanceAdjustmentPurple: 0
- LuminanceAdjustmentRed: 0
- LuminanceAdjustmentYellow: 0
- LuminanceNoiseReductionContrast: 0
- LuminanceNoiseReductionDetail: 50
- LuminanceSmoothing: 15
- ParametricDarks: 0
- ParametricHighlightSplit: 75
- ParametricHighlights: 0
- ParametricLights: 0
- ParametricMidtoneSplit: 50
- ParametricShadowSplit: 25
- ParametricShadows: 0
- PostCropVignetteAmount: 0
- ProcessVersion: 5.7
- RawFileName: IMG_7262.CR2
- RedHue: 0
- RedSaturation: 0
- Saturation: 0
- SaturationAdjustmentAqua: 0
- SaturationAdjustmentBlue: 0
- SaturationAdjustmentGreen: 0
- SaturationAdjustmentMagenta: 0
- SaturationAdjustmentOrange: 0
- SaturationAdjustmentPurple: 0
- SaturationAdjustmentRed: 0
- SaturationAdjustmentYellow: 0
- ShadowTint: 0
- Shadows: 5
- SharpenDetail: 34
- SharpenEdgeMasking: 6
- SharpenRadius: +1.2
- Sharpness: 31
- SplitToningBalance: 0
- SplitToningHighlightHue: 0
- SplitToningHighlightSaturation: 0
- SplitToningShadowHue: 0
- SplitToningShadowSaturation: 0
- Temperature: 4450
- Tint: +12
- ToneCurve: 0, 0, 32, 22, 64, 56, 128, 128, 192, 196, 255, 255
- ToneCurveName: Medium Contrast
- Version: 6.0
- Vibrance: 0
- VignetteAmount: 0
- WhiteBalance: As Shot
- XMP-dc
- Creator: Shopot
- Format: image/jpeg
- XMP-xmp
- CreateDate: 2011:08:20 19:43:49.90+04:00
- ModifyDate: 2011:08:21 12:02:44+04:00
- Rating: 0
- XMP-xmpMM
- Просмотров: 370
- Рейтинг: голосов еще нет
- Отзывов: 0