- Раздел: Другое, разное
- Дата съёмки: 29.08.2011 16:48
- Дата загрузки фото: 30.08.2011 17:34
- Оригинальная фотография: 1920 x 2890 (4,2 Мб)
- Технические характеристики:
- Фотоаппарат: Nikon D90
- Выдержка: 1/4000
- Гиперфокальное расстояние: inf m
- Диафрагма: 2,2
- Светочувствительность: 200
- Фокусное расстояние: 50,0 mm (35 mm equivalent: 50,0 mm)
- Экспокоррекция: +1/3
- Полный EXIF
- Composite
- Aperture: 2,2
- CircleOfConfusion: 0,020 mm
- DOF: inf (0,00 m - inf)
- FOV: 39,0 deg
- FocalLength35efl: 50,0 mm (35 mm equivalent: 50,0 mm)
- HyperfocalDistance: inf m
- ScaleFactor35efl: 1,5
- ShutterSpeed: 1/4000
- ExifIFD
- ApertureValue: 2,2
- CFAPattern: [Green,Blue][Red,Green]
- Contrast: Normal
- CreateDate: 2011:08:29 16:48:32
- CustomRendered: Normal
- DateTimeOriginal: 2011:08:29 16:48:32
- DigitalZoomRatio: 1
- ExifImageHeight: 2890
- ExifImageWidth: 1920
- ExposureCompensation: +1/3
- ExposureMode: Auto
- ExposureProgram: Aperture-priority AE
- ExposureTime: 1/4000
- FNumber: 2,2
- Flash: No Flash
- FocalLength: 50,0 mm
- FocalLengthIn35mmFormat: 75 mm
- GainControl: None
- ISO: 200
- LightSource: Unknown
- MaxApertureValue: 1,4
- MeteringMode: Spot
- Saturation: Normal
- SceneCaptureType: Standard
- SceneType: Directly photographed
- SensingMethod: One-chip color area
- Sharpness: Normal
- ShutterSpeedValue: 1/4000
- SubjectDistance: 3,98 m
- SubjectDistanceRange: Unknown
- UserComment: Aleksandr A. sanechek05@mail.ru
- WhiteBalance: Auto
- ICC-header
- ICC-meas
- ICC-view
- IFD0
- Make: NIKON CORPORATION
- Model: NIKON D90
- ModifyDate: 2011:08:30 16:45:39
- Orientation: Horizontal (normal)
- Software: ACD Systems Digital Imaging
- IFD1
- System
- XMP-aux
- ApproximateFocusDistance: 3,98
- ImageNumber: 10301
- Lens: 50.0 mm f/1.4
- LensID: 160
- LensInfo: 50mm f/1.4
- SerialNumber: 6639313
- XMP-crs
- AlreadyApplied: True
- BlueHue: 0
- BlueSaturation: 0
- Brightness: +50
- CameraProfile: ACR 4.6
- ChromaticAberrationB: 0
- ChromaticAberrationR: 0
- Clarity: +8
- ColorNoiseReduction: 4
- ColorNoiseReductionDetail: 50
- Contrast: +27
- ConvertToGrayscale: False
- CropAngle: 1.154
- CropBottom: 1
- CropConstrainToWarp: 0
- CropHeight: 2765
- CropLeft: 0.012985
- CropRight: 0.970563
- CropTop: 0
- CropUnit: pixels
- CropWidth: 4163
- Defringe: 0
- Exposure: 0.00
- FillLight: 18
- GrainAmount: 0
- GreenHue: 0
- GreenSaturation: 0
- HasCrop: True
- HasSettings: True
- HighlightRecovery: 100
- HueAdjustmentAqua: 0
- HueAdjustmentBlue: 0
- HueAdjustmentGreen: 0
- HueAdjustmentMagenta: 0
- HueAdjustmentOrange: 0
- HueAdjustmentPurple: 0
- HueAdjustmentRed: 0
- HueAdjustmentYellow: 0
- LensManualDistortionAmount: 0
- LensProfileEnable: 0
- LensProfileSetup: LensDefaults
- LuminanceAdjustmentAqua: 0
- LuminanceAdjustmentBlue: 0
- LuminanceAdjustmentGreen: 0
- LuminanceAdjustmentMagenta: 0
- LuminanceAdjustmentOrange: 0
- LuminanceAdjustmentPurple: 0
- LuminanceAdjustmentRed: 0
- LuminanceAdjustmentYellow: 0
- LuminanceNoiseReductionContrast: 0
- LuminanceNoiseReductionDetail: 50
- LuminanceSmoothing: 14
- ParametricDarks: -4
- ParametricHighlightSplit: 75
- ParametricHighlights: +25
- ParametricLights: +9
- ParametricMidtoneSplit: 50
- ParametricShadowSplit: 25
- ParametricShadows: -13
- PerspectiveHorizontal: 0
- PerspectiveRotate: 0.0
- PerspectiveScale: 100
- PerspectiveVertical: 0
- PostCropVignetteAmount: 0
- ProcessVersion: 5.7
- RedHue: 0
- RedSaturation: 0
- Saturation: +7
- SaturationAdjustmentAqua: 0
- SaturationAdjustmentBlue: +9
- SaturationAdjustmentGreen: 0
- SaturationAdjustmentMagenta: 0
- SaturationAdjustmentOrange: 0
- SaturationAdjustmentPurple: 0
- SaturationAdjustmentRed: 0
- SaturationAdjustmentYellow: 0
- ShadowTint: 0
- Shadows: 9
- SharpenDetail: 82
- SharpenEdgeMasking: 0
- SharpenRadius: +3.0
- Sharpness: 57
- SplitToningBalance: 0
- SplitToningHighlightHue: 0
- SplitToningHighlightSaturation: 0
- SplitToningShadowHue: 0
- SplitToningShadowSaturation: 0
- Temperature: 4850
- Tint: -5
- ToneCurve: 0, 0, 32, 22, 64, 56, 128, 128, 192, 196, 255, 255
- ToneCurveName: Medium Contrast
- Version: 6.3
- Vibrance: -3
- VignetteAmount: 0
- WhiteBalance: As Shot
- XMP-exif
- DateTimeDigitized: 2011:08:29 16:48:32.00+04:00
- DateTimeOriginal: 2011:08:29 16:48:32.00+04:00
- ExifImageHeight: 4163
- ExifImageWidth: 2765
- FlashFired: False
- FlashFunction: False
- FlashMode: Unknown
- FlashRedEyeMode: False
- FlashReturn: No return detection
- XMP-microsoft
- DateAcquired: 2011:08:30 15:20:34
- RatingPercent: 0
- XMP-tiff
- ImageHeight: 4163
- ImageWidth: 2765
- XMP-xmp
- CreateDate: 2011:08:29 16:48:32.00+04:00
- ModifyDate: 2011:08:30 15:20:31+04:00
- Rating: 5
- Просмотров: 160
- Рейтинг: голосов еще нет
- Отзывов: 0