Уважаемые друзья и участники проекта iXBT.photo! К сожалению, 1 марта 2026 года проект iXBT.photo прекратит свою работу и будет закрыт. Мы высоко ценим ваше участие и тот вклад, который вы внесли в развитие нашего сообщества. Пожалуйста, не забудьте сохранить ваши фотографии до этой даты.
С уважением, команда iXBT.com
| DSC_7648.jpg |
DSC_7648.jpg
- Раздел: Другое, разное
- Дата съёмки: 29.08.2011 17:53
- Дата загрузки фото: 30.08.2011 18:03
- Оригинальная фотография: 1920 x 1275 (2,1 Мб)
- Технические характеристики:
- Фотоаппарат: Nikon D90
- Выдержка: 1/250
- Гиперфокальное расстояние: inf m
- Диафрагма: 6,3
- Светочувствительность: 200
- Фокусное расстояние: 70,0 mm (35 mm equivalent: 70,0 mm)
- Экспокоррекция: +1/3
- Полный EXIF
- Composite
- Aperture: 6,3
- CircleOfConfusion: 0,020 mm
- DOF: inf (0,00 m - inf)
- FOV: 28,0 deg
- FocalLength35efl: 70,0 mm (35 mm equivalent: 70,0 mm)
- HyperfocalDistance: inf m
- ScaleFactor35efl: 1,5
- ShutterSpeed: 1/250
- ExifIFD
- ApertureValue: 6,3
- CFAPattern: [Green,Blue][Red,Green]
- Contrast: Normal
- CreateDate: 2011:08:29 17:53:54
- CustomRendered: Normal
- DateTimeOriginal: 2011:08:29 17:53:54
- DigitalZoomRatio: 1
- ExifImageHeight: 1275
- ExifImageWidth: 1920
- ExposureCompensation: +1/3
- ExposureMode: Auto
- ExposureProgram: Aperture-priority AE
- ExposureTime: 1/250
- FNumber: 6,3
- Flash: No Flash
- FocalLength: 70,0 mm
- FocalLengthIn35mmFormat: 105 mm
- GainControl: None
- ISO: 200
- LightSource: Unknown
- MaxApertureValue: 4,4
- MeteringMode: Spot
- Saturation: Normal
- SceneCaptureType: Standard
- SceneType: Directly photographed
- SensingMethod: One-chip color area
- Sharpness: Normal
- ShutterSpeedValue: 1/250
- SubjectDistance: 9,44 m
- SubjectDistanceRange: Unknown
- UserComment: Aleksandr A. sanechek05@mail.ru
- WhiteBalance: Auto
- ICC-header
- ICC-meas
- ICC-view
- IFD0
- Make: NIKON CORPORATION
- Model: NIKON D90
- ModifyDate: 2011:08:30 16:46:42
- Orientation: Horizontal (normal)
- Software: ACD Systems Digital Imaging
- IFD1
- System
- XMP-aux
- ApproximateFocusDistance: 9,44
- ImageNumber: 10463
- Lens: 70.0-300.0 mm f/4.5-5.6
- LensID: 141
- LensInfo: 70-300mm f/4.5-5.6
- SerialNumber: 6639313
- XMP-crs
- AlreadyApplied: True
- BlueHue: 0
- BlueSaturation: 0
- Brightness: +50
- CameraProfile: ACR 4.6
- ChromaticAberrationB: 0
- ChromaticAberrationR: 0
- Clarity: +8
- ColorNoiseReduction: 4
- ColorNoiseReductionDetail: 50
- Contrast: +27
- ConvertToGrayscale: False
- CropAngle: -2.308
- CropBottom: 0.791779
- CropConstrainToWarp: 0
- CropHeight: 1770
- CropLeft: 0.047635
- CropRight: 0.685276
- CropTop: 0.208446
- CropUnit: pixels
- CropWidth: 2665
- Defringe: 0
- Exposure: 0.00
- FillLight: 18
- GrainAmount: 0
- GreenHue: 0
- GreenSaturation: 0
- HasCrop: True
- HasSettings: True
- HighlightRecovery: 100
- HueAdjustmentAqua: 0
- HueAdjustmentBlue: 0
- HueAdjustmentGreen: 0
- HueAdjustmentMagenta: 0
- HueAdjustmentOrange: 0
- HueAdjustmentPurple: 0
- HueAdjustmentRed: 0
- HueAdjustmentYellow: 0
- LensManualDistortionAmount: 0
- LensProfileEnable: 0
- LensProfileSetup: LensDefaults
- LuminanceAdjustmentAqua: 0
- LuminanceAdjustmentBlue: 0
- LuminanceAdjustmentGreen: 0
- LuminanceAdjustmentMagenta: 0
- LuminanceAdjustmentOrange: 0
- LuminanceAdjustmentPurple: 0
- LuminanceAdjustmentRed: 0
- LuminanceAdjustmentYellow: 0
- LuminanceNoiseReductionContrast: 0
- LuminanceNoiseReductionDetail: 50
- LuminanceSmoothing: 14
- ParametricDarks: -4
- ParametricHighlightSplit: 75
- ParametricHighlights: +25
- ParametricLights: +9
- ParametricMidtoneSplit: 50
- ParametricShadowSplit: 25
- ParametricShadows: -13
- PerspectiveHorizontal: 0
- PerspectiveRotate: 0.0
- PerspectiveScale: 100
- PerspectiveVertical: 0
- PostCropVignetteAmount: 0
- ProcessVersion: 5.7
- RedHue: 0
- RedSaturation: 0
- Saturation: +7
- SaturationAdjustmentAqua: 0
- SaturationAdjustmentBlue: -4
- SaturationAdjustmentGreen: 0
- SaturationAdjustmentMagenta: 0
- SaturationAdjustmentOrange: 0
- SaturationAdjustmentPurple: 0
- SaturationAdjustmentRed: 0
- SaturationAdjustmentYellow: 0
- ShadowTint: 0
- Shadows: 9
- SharpenDetail: 82
- SharpenEdgeMasking: 0
- SharpenRadius: +3.0
- Sharpness: 57
- SplitToningBalance: 0
- SplitToningHighlightHue: 0
- SplitToningHighlightSaturation: 0
- SplitToningShadowHue: 0
- SplitToningShadowSaturation: 0
- Temperature: 6050
- Tint: -3
- ToneCurve: 0, 0, 32, 22, 64, 56, 128, 128, 192, 196, 255, 255
- ToneCurveName: Medium Contrast
- Version: 6.3
- Vibrance: -3
- VignetteAmount: 0
- WhiteBalance: As Shot
- XMP-exif
- DateTimeDigitized: 2011:08:29 17:53:54.00+04:00
- DateTimeOriginal: 2011:08:29 17:53:54.00+04:00
- ExifImageHeight: 1770
- ExifImageWidth: 2665
- FlashFired: False
- FlashFunction: False
- FlashMode: Unknown
- FlashRedEyeMode: False
- FlashReturn: No return detection
- XMP-microsoft
- XMP-tiff
- ImageHeight: 1770
- ImageWidth: 2665
- XMP-xmp
- CreateDate: 2011:08:29 17:53:54.00+04:00
- ModifyDate: 2011:08:30 15:29:22+04:00
- Rating: 5
- Просмотров: 201
- Рейтинг: голосов еще нет
- Отзывов: 0
Получить код для блога
| Вставка фотографии в текущем разрешении |
Вставка миниатюры |
HTML (для вставки в блог):
BBCode (для вставки в форум):
Ссылка на фото:
Ссылка на миниатюру:
- Послать ссылку другу
| Комментарии к фотографии |