Уважаемые друзья и участники проекта iXBT.photo! К сожалению, 1 марта 2026 года проект iXBT.photo прекратит свою работу и будет закрыт. Мы высоко ценим ваше участие и тот вклад, который вы внесли в развитие нашего сообщества. Пожалуйста, не забудьте сохранить ваши фотографии до этой даты.
С уважением, команда iXBT.com
| LR2-4471.jpg |
LR2-4471.jpg
- Раздел: Другое, разное
- Дата съёмки: 04.03.2011 17:41
- Дата загрузки фото: 13.09.2011 17:28
- Оригинальная фотография: 777 x 466 ( 83 Кб)
- Технические характеристики:
- Фотоаппарат: Sony NEX-3
- Выдержка: 1/25
- Диафрагма: 1,0
- Светочувствительность: 200
- Экспокоррекция: +0,7
- Полный EXIF
- Adobe
- ColorTransform: YCbCr
- Composite
- Aperture: 1,0
- ShutterSpeed: 1/25
- ExifIFD
- ApertureValue: 1,0
- BrightnessValue: -1,88
- ColorSpace: Uncalibrated
- Contrast: High
- CreateDate: 2011:03:04 17:41:48
- CustomRendered: Normal
- DateTimeOriginal: 2011:03:04 17:41:48
- ExifImageHeight: 466
- ExifImageWidth: 777
- ExposureCompensation: +0,7
- ExposureMode: Auto
- ExposureProgram: Aperture-priority AE
- ExposureTime: 1/25
- FNumber: 1,0
- Flash: Off, Did not fire
- ISO: 200
- LightSource: Unknown
- MaxApertureValue: 1,0
- MeteringMode: Multi-segment
- Saturation: Normal
- SceneCaptureType: Standard
- SceneType: Directly photographed
- Sharpness: Hard
- ShutterSpeedValue: 1/25
- WhiteBalance: Manual
- IFD0
- ImageDescription: SONY DSC
- Make: SONY
- Model: NEX-3
- ModifyDate: 2011:09:13 16:50:44
- Orientation: Horizontal (normal)
- IFD1
- IPTC
- Caption-Abstract: SONY DSC
- System
- XMP-crs
- AlreadyApplied: True
- BlueHue: 0
- BlueSaturation: 0
- Brightness: +36
- CameraProfile: Embedded
- ChromaticAberrationB: 0
- ChromaticAberrationR: 0
- Clarity: +26
- ColorNoiseReduction: 0
- Contrast: +21
- ConvertToGrayscale: True
- CropAngle: 0
- CropBottom: 0.961905
- CropHeight: 2900
- CropLeft: 0.455696
- CropRight: 0.839662
- CropTop: 0
- CropUnit: pixels
- CropWidth: 1739
- Defringe: 0
- Exposure: 0.00
- FillLight: 22
- GrayMixerAqua: -18
- GrayMixerBlue: +10
- GrayMixerGreen: -27
- GrayMixerMagenta: +5
- GrayMixerOrange: -17
- GrayMixerPurple: +17
- GrayMixerRed: -9
- GrayMixerYellow: -31
- GreenHue: 0
- GreenSaturation: 0
- HasCrop: True
- HasSettings: True
- HighlightRecovery: 2
- IncrementalTemperature: 0
- IncrementalTint: 0
- LuminanceSmoothing: 0
- ParametricDarks: -14
- ParametricHighlightSplit: 75
- ParametricHighlights: 0
- ParametricLights: +7
- ParametricMidtoneSplit: 50
- ParametricShadowSplit: 25
- ParametricShadows: -10
- PostCropVignetteAmount: -100
- PostCropVignetteFeather: 50
- PostCropVignetteMidpoint: 29
- PostCropVignetteRoundness: -95
- RedHue: 0
- RedSaturation: 0
- ShadowTint: -56
- Shadows: 6
- SharpenDetail: 25
- SharpenEdgeMasking: 0
- SharpenRadius: +2.9
- Sharpness: 5
- SplitToningBalance: +43
- SplitToningHighlightHue: 54
- SplitToningHighlightSaturation: 9
- SplitToningShadowHue: 41
- SplitToningShadowSaturation: 0
- ToneCurve: 0, 0, 32, 22, 64, 56, 128, 128, 192, 196, 255, 255
- ToneCurveName: Medium Contrast
- Version: 5.2
- VignetteAmount: -100
- VignetteMidpoint: 25
- WhiteBalance: As Shot
- XMP-dc
- Description: SONY DSC
- Format: image/jpeg
- XMP-exif
- DateTimeDigitized: 2011:03:04 17:41:48+03:00
- DateTimeOriginal: 2011:03:04 17:41:48+03:00
- FlashFired: False
- FlashFunction: False
- FlashMode: Off
- FlashRedEyeMode: False
- FlashReturn: No return detection
- XMP-tiff
- ImageHeight: 1739
- ImageWidth: 2900
- XMP-xmp
- CreateDate: 2011:03:04 17:41:48+03:00
- ModifyDate: 2011:09:13 16:50:44+04:00
- Rating: 3
- XMP-xmpMM
- Просмотров: 193
- Рейтинг: голосов еще нет
- Отзывов: 0
Получить код для блога
| Вставка фотографии в текущем разрешении |
Вставка миниатюры |
HTML (для вставки в блог):
BBCode (для вставки в форум):
Ссылка на фото:
Ссылка на миниатюру:
- Послать ссылку другу
| Комментарии к фотографии |