Уважаемые друзья и участники проекта iXBT.photo! К сожалению, 1 марта 2026 года проект iXBT.photo прекратит свою работу и будет закрыт. Мы высоко ценим ваше участие и тот вклад, который вы внесли в развитие нашего сообщества. Пожалуйста, не забудьте сохранить ваши фотографии до этой даты.
С уважением, команда iXBT.com
| LR2-4512.jpg |
LR2-4512.jpg
- Раздел: Другое, разное
- Дата съёмки: 04.03.2011 17:58
- Дата загрузки фото: 13.09.2011 17:28
- Оригинальная фотография: 517 x 777 (127 Кб)
- Технические характеристики:
- Фотоаппарат: Sony NEX-3
- Выдержка: 1/60
- Диафрагма: 1,0
- Светочувствительность: 400
- Экспокоррекция: +1
- Полный EXIF
- Adobe
- ColorTransform: YCbCr
- Composite
- Aperture: 1,0
- ShutterSpeed: 1/60
- ExifIFD
- ApertureValue: 1,0
- BrightnessValue: -0,25
- ColorSpace: Uncalibrated
- Contrast: High
- CreateDate: 2011:03:04 17:58:29
- CustomRendered: Normal
- DateTimeOriginal: 2011:03:04 17:58:29
- ExifImageHeight: 777
- ExifImageWidth: 517
- ExposureCompensation: +1
- ExposureMode: Auto
- ExposureProgram: Aperture-priority AE
- ExposureTime: 1/60
- FNumber: 1,0
- Flash: Off, Did not fire
- ISO: 400
- LightSource: Unknown
- MaxApertureValue: 1,0
- MeteringMode: Multi-segment
- Saturation: Normal
- SceneCaptureType: Standard
- SceneType: Directly photographed
- Sharpness: Hard
- ShutterSpeedValue: 1/60
- WhiteBalance: Manual
- IFD0
- ImageDescription: SONY DSC
- Make: SONY
- Model: NEX-3
- ModifyDate: 2011:09:13 16:50:51
- Orientation: Horizontal (normal)
- IFD1
- IPTC
- Caption-Abstract: SONY DSC
- System
- XMP-crs
- AlreadyApplied: True
- BlueHue: 0
- BlueSaturation: 0
- Brightness: 0
- CameraProfile: Embedded
- ChromaticAberrationB: 0
- ChromaticAberrationR: 0
- Clarity: -2
- ColorNoiseReduction: 0
- Contrast: +21
- ConvertToGrayscale: False
- Defringe: 0
- Exposure: 0.00
- FillLight: 29
- GreenHue: 0
- GreenSaturation: 0
- HasCrop: False
- HasSettings: True
- HighlightRecovery: 0
- HueAdjustmentAqua: 0
- HueAdjustmentBlue: 0
- HueAdjustmentGreen: 0
- HueAdjustmentMagenta: 0
- HueAdjustmentOrange: 0
- HueAdjustmentPurple: 0
- HueAdjustmentRed: 0
- HueAdjustmentYellow: 0
- IncrementalTemperature: 0
- IncrementalTint: 0
- LuminanceAdjustmentAqua: 0
- LuminanceAdjustmentBlue: 0
- LuminanceAdjustmentGreen: 0
- LuminanceAdjustmentMagenta: 0
- LuminanceAdjustmentOrange: 0
- LuminanceAdjustmentPurple: 0
- LuminanceAdjustmentRed: 0
- LuminanceAdjustmentYellow: 0
- LuminanceSmoothing: 0
- PaintCorrectionActive: true
- PaintCorrectionAmount: 1.000000
- PaintCorrectionBrightness: 0.075000
- PaintCorrectionClarity: 0.300000
- PaintCorrectionContrast: 0.000000
- PaintCorrectionExposure: 0.000000
- PaintCorrectionHue: 0.000000
- PaintCorrectionMaskCenterWeight: 0.000000
- PaintCorrectionMaskFlow: 1.000000
- PaintCorrectionMaskRadius: 0.081860
- PaintCorrectionMaskValue: 1.000000
- PaintCorrectionMaskWhat: Mask/Paint
- PaintCorrectionSaturation: 0.000000
- PaintCorrectionSharpness: 0.250000
- PaintCorrectionWhat: Correction
- ParametricDarks: 0
- ParametricHighlightSplit: 75
- ParametricHighlights: +31
- ParametricLights: +2
- ParametricMidtoneSplit: 50
- ParametricShadowSplit: 25
- ParametricShadows: 0
- PostCropVignetteAmount: -98
- PostCropVignetteFeather: 62
- PostCropVignetteMidpoint: 29
- PostCropVignetteRoundness: -98
- RedHue: 0
- RedSaturation: 0
- Saturation: 0
- SaturationAdjustmentAqua: 0
- SaturationAdjustmentBlue: 0
- SaturationAdjustmentGreen: 0
- SaturationAdjustmentMagenta: 0
- SaturationAdjustmentOrange: 0
- SaturationAdjustmentPurple: 0
- SaturationAdjustmentRed: 0
- SaturationAdjustmentYellow: 0
- ShadowTint: 0
- Shadows: 1
- SharpenDetail: 25
- SharpenEdgeMasking: 0
- SharpenRadius: +1.0
- Sharpness: 0
- SplitToningBalance: 0
- SplitToningHighlightHue: 34
- SplitToningHighlightSaturation: 6
- SplitToningShadowHue: 43
- SplitToningShadowSaturation: 4
- ToneCurve: 0, 0, 255, 255
- ToneCurveName: Linear
- Version: 5.2
- Vibrance: 0
- VignetteAmount: -100
- VignetteMidpoint: 55
- WhiteBalance: As Shot
- XMP-dc
- Description: SONY DSC
- Format: image/jpeg
- XMP-exif
- DateTimeDigitized: 2011:03:04 17:58:29+03:00
- DateTimeOriginal: 2011:03:04 17:58:29+03:00
- FlashFired: False
- FlashFunction: False
- FlashMode: Off
- FlashRedEyeMode: False
- FlashReturn: No return detection
- XMP-tiff
- ImageHeight: 2900
- ImageWidth: 1930
- XMP-xmp
- CreateDate: 2011:03:04 17:58:29+03:00
- ModifyDate: 2011:09:13 16:50:51+04:00
- Rating: 4
- XMP-xmpMM
- Просмотров: 127
- Рейтинг: голосов еще нет
- Отзывов: 0
Получить код для блога
| Вставка фотографии в текущем разрешении |
Вставка миниатюры |
HTML (для вставки в блог):
BBCode (для вставки в форум):
Ссылка на фото:
Ссылка на миниатюру:
- Послать ссылку другу
| Комментарии к фотографии |