Уважаемые друзья и участники проекта iXBT.photo! К сожалению, 1 марта 2026 года проект iXBT.photo прекратит свою работу и будет закрыт. Мы высоко ценим ваше участие и тот вклад, который вы внесли в развитие нашего сообщества. Пожалуйста, не забудьте сохранить ваши фотографии до этой даты.
С уважением, команда iXBT.com
| DSC06927.jpg |
DSC06927.jpg
- Раздел: Другое, разное
- Дата съёмки: 05.10.2011 17:53
- Дата загрузки фото: 05.10.2011 18:45
- Оригинальная фотография: 2500 x 1661 (2,8 Мб)
- Технические характеристики:
- Фотоаппарат: Sony SLT-A55V
- Выдержка: 1/160
- Гиперфокальное расстояние: inf m
- Диафрагма: 6,3
- Светочувствительность: 400
- Фокусное расстояние: 130,0 mm (35 mm equivalent: 130,0 mm)
- Экспокоррекция: +0,7
- Полный EXIF
- Adobe
- ColorTransform: YCbCr
- Composite
- Aperture: 6,3
- CircleOfConfusion: 0,020 mm
- FOV: 15,0 deg
- FocalLength35efl: 130,0 mm (35 mm equivalent: 130,0 mm)
- GPSAltitude: 59,6 m Above Sea Level
- GPSDateTime: 2011:10:05 13:53:36Z
- GPSLatitude: 60 deg 14' 52,00" N
- GPSLatitudeRef: North
- GPSLongitude: 29 deg 37' 34,00" E
- GPSLongitudeRef: East
- GPSPosition: 60 deg 14' 52,00" N, 29 deg 37' 34,00" E
- HyperfocalDistance: inf m
- ScaleFactor35efl: 1,5
- ShutterSpeed: 1/160
- ExifIFD
- ApertureValue: 6,3
- BrightnessValue: 6,5
- Contrast: High
- CreateDate: 2011:10:05 17:53:35
- CustomRendered: Normal
- DateTimeOriginal: 2011:10:05 17:53:35
- ExposureCompensation: +0,7
- ExposureMode: Auto
- ExposureProgram: Aperture-priority AE
- ExposureTime: 1/160
- FNumber: 6,3
- Flash: On, Fired
- FocalLength: 130,0 mm
- FocalLengthIn35mmFormat: 195 mm
- ISO: 400
- LensInfo: 75-300mm f/4.5-5.6
- LensModel: 75-300mm F4.5-5.6
- LightSource: Unknown
- MaxApertureValue: 5,0
- MeteringMode: Multi-segment
- RecommendedExposureIndex: 400
- Saturation: High
- SceneCaptureType: Standard
- SceneType: Directly photographed
- SensitivityType: Recommended Exposure Index
- Sharpness: Normal
- ShutterSpeedValue: 1/160
- WhiteBalance: Auto
- GPS
- GPSAltitude: 59,6 m
- GPSAltitudeRef: Above Sea Level
- GPSDateStamp: 2011:10:05
- GPSDifferential: No Correction
- GPSLatitude: 60 deg 14' 52,00"
- GPSLongitude: 29 deg 37' 34,00"
- GPSMapDatum: WGS-84
- GPSMeasureMode: 3-Dimensional Measurement
- GPSSpeed: 0,2
- GPSSpeedRef: km/h
- GPSStatus: Measurement Active
- GPSTimeStamp: 13:53:36
- GPSTrack: 222,22
- GPSTrackRef: True North
- GPSVersionID: 2.3.0.0
- ICC-header
- ICC-meas
- ICC-view
- IFD0
- ImageDescription: SONY DSC
- Make: SONY
- Model: SLT-A55V
- ModifyDate: 2011:10:05 18:08:51
- Software: SLT-A55V v2.00
- IFD1
- IPTC
- Caption-Abstract: SONY DSC
- System
- XMP-aux
- Lens: 75-300mm F4.5-5.6
- LensID: 25611
- XMP-crs
- AlreadyApplied: True
- BlueHue: 0
- BlueSaturation: 0
- Brightness: +62
- ChromaticAberrationB: 0
- ChromaticAberrationR: 0
- Clarity: 0
- ColorNoiseReduction: 25
- ColorNoiseReductionDetail: 50
- Contrast: +25
- ConvertToGrayscale: False
- Defringe: 0
- Exposure: -0.42
- FillLight: 7
- GrainAmount: 0
- GreenHue: 0
- GreenSaturation: 0
- HasCrop: False
- HasSettings: True
- HighlightRecovery: 44
- HueAdjustmentAqua: 0
- HueAdjustmentBlue: 0
- HueAdjustmentGreen: 0
- HueAdjustmentMagenta: 0
- HueAdjustmentOrange: 0
- HueAdjustmentPurple: 0
- HueAdjustmentRed: 0
- HueAdjustmentYellow: 0
- LensManualDistortionAmount: 0
- LensProfileEnable: 0
- LensProfileSetup: LensDefaults
- LuminanceAdjustmentAqua: 0
- LuminanceAdjustmentBlue: 0
- LuminanceAdjustmentGreen: 0
- LuminanceAdjustmentMagenta: 0
- LuminanceAdjustmentOrange: 0
- LuminanceAdjustmentPurple: 0
- LuminanceAdjustmentRed: 0
- LuminanceAdjustmentYellow: 0
- LuminanceNoiseReductionContrast: 0
- LuminanceNoiseReductionDetail: 50
- LuminanceSmoothing: 16
- ParametricDarks: 0
- ParametricHighlightSplit: 75
- ParametricHighlights: 0
- ParametricLights: 0
- ParametricMidtoneSplit: 50
- ParametricShadowSplit: 25
- ParametricShadows: 0
- PerspectiveHorizontal: 0
- PerspectiveRotate: 0.0
- PerspectiveScale: 100
- PerspectiveVertical: 0
- PostCropVignetteAmount: 0
- ProcessVersion: 5.7
- RedHue: 0
- RedSaturation: 0
- Saturation: +17
- SaturationAdjustmentAqua: 0
- SaturationAdjustmentBlue: 0
- SaturationAdjustmentGreen: 0
- SaturationAdjustmentMagenta: 0
- SaturationAdjustmentOrange: 0
- SaturationAdjustmentPurple: 0
- SaturationAdjustmentRed: 0
- SaturationAdjustmentYellow: 0
- ShadowTint: 0
- Shadows: 5
- SharpenDetail: 25
- SharpenEdgeMasking: 0
- SharpenRadius: +1.0
- Sharpness: 34
- SplitToningBalance: 0
- SplitToningHighlightHue: 0
- SplitToningHighlightSaturation: 0
- SplitToningShadowHue: 0
- SplitToningShadowSaturation: 0
- Temperature: 4500
- Tint: +12
- ToneCurve: 0, 0, 32, 22, 64, 56, 128, 128, 192, 196, 255, 255
- ToneCurveName: Medium Contrast
- Version: 6.3
- Vibrance: +37
- VignetteAmount: 0
- WhiteBalance: Custom
- XMP-dc
- XMP-exif
- DateTimeDigitized: 2011:10:05 17:53:35+04:00
- DateTimeOriginal: 2011:10:05 17:53:35+04:00
- ExifImageHeight: 1661
- ExifImageWidth: 2500
- FlashFired: True
- FlashFunction: False
- FlashMode: On
- FlashRedEyeMode: False
- FlashReturn: No return detection
- GPSLatitude: 60 deg 14' 52,75" N
- GPSLongitude: 29 deg 37' 34,99" E
- GPSMeasureMode: 3-Dimensional
- SensitivityType: 2
- XMP-tiff
- ImageHeight: 1661
- ImageWidth: 2500
- XMP-xmp
- CreateDate: 2011:10:05 17:53:35+04:00
- ModifyDate: 2011:10:05 18:08:51+04:00
- Просмотров: 387
- Рейтинг: голосов еще нет
- Отзывов: 0
Получить код для блога
| Вставка фотографии в текущем разрешении |
Вставка миниатюры |
HTML (для вставки в блог):
BBCode (для вставки в форум):
Ссылка на фото:
Ссылка на миниатюру:
- Послать ссылку другу
| Комментарии к фотографии |