- Раздел: Портрет
- Дата съёмки: 01.10.2011 15:02
- Дата загрузки фото: 09.10.2011 18:24
- Оригинальная фотография: 2720 x 1826 (2,7 Мб)
- Технические характеристики:
- Фотоаппарат: Nikon D40
- Выдержка: 1/160
- Гиперфокальное расстояние: inf m
- Диафрагма: 8,0
- Светочувствительность: 200
- Фокусное расстояние: 45,0 mm (35 mm equivalent: 45,0 mm)
- Полный EXIF
- Adobe
- ColorTransform: YCbCr
- Composite
- Aperture: 8,0
- CircleOfConfusion: 0,020 mm
- DOF: inf (0,00 m - inf)
- FOV: 43,0 deg
- FocalLength35efl: 45,0 mm (35 mm equivalent: 45,0 mm)
- HyperfocalDistance: inf m
- ScaleFactor35efl: 1,5
- ShutterSpeed: 1/160
- ExifIFD
- ApertureValue: 8,0
- CFAPattern: [Blue,Green][Green,Red]
- ColorSpace: sRGB
- Contrast: Normal
- CreateDate: 2011:10:01 15:02:28
- CustomRendered: Normal
- DateTimeOriginal: 2011:10:01 15:02:28
- DigitalZoomRatio: 1
- ExifImageHeight: 1826
- ExifImageWidth: 2720
- ExposureCompensation: 0
- ExposureMode: Auto
- ExposureProgram: Aperture-priority AE
- ExposureTime: 1/160
- FNumber: 8,0
- Flash: No Flash
- FocalLength: 45,0 mm
- FocalLengthIn35mmFormat: 67 mm
- GainControl: None
- ISO: 200
- LightSource: Unknown
- MaxApertureValue: 5,3
- MeteringMode: Multi-segment
- Saturation: Normal
- SceneCaptureType: Standard
- SceneType: Directly photographed
- SensingMethod: One-chip color area
- Sharpness: Normal
- ShutterSpeedValue: 1/160
- SubjectDistance: 4294967295 m
- SubjectDistanceRange: Unknown
- WhiteBalance: Auto
- ICC-header
- ICC-meas
- ICC-view
- IFD0
- Artist: tamianni
- Copyright: laverov.com
- Make: NIKON CORPORATION
- Model: NIKON D40
- ModifyDate: 2011:10:01 22:58:04
- Orientation: Horizontal (normal)
- IFD1
- IPTC
- By-line: tamianni
- CopyrightNotice: laverov.com
- System
- XMP-aux
- ImageNumber: 29710
- Lens: 18.0-55.0 mm f/3.5-5.6
- LensID: 148
- LensInfo: 18-55mm f/3.5-5.6
- SerialNumber: 2359933
- XMP-crs
- AlreadyApplied: True
- BlueHue: 0
- BlueSaturation: 0
- Brightness: +98
- ChromaticAberrationB: 0
- ChromaticAberrationR: 0
- Clarity: +52
- ColorNoiseReduction: 25
- ColorNoiseReductionDetail: 50
- Contrast: +78
- ConvertToGrayscale: False
- CropAngle: 0
- CropBottom: 0.9616
- CropConstrainToWarp: 0
- CropHeight: 1826
- CropLeft: 0.095745
- CropRight: 1
- CropTop: 0.048799
- CropUnit: pixels
- CropWidth: 2720
- Defringe: 0
- Exposure: +0.41
- FillLight: 8
- GrainAmount: 0
- GreenHue: 0
- GreenSaturation: 0
- HasCrop: True
- HasSettings: True
- HighlightRecovery: 90
- HueAdjustmentAqua: 0
- HueAdjustmentBlue: 0
- HueAdjustmentGreen: 0
- HueAdjustmentMagenta: 0
- HueAdjustmentOrange: 0
- HueAdjustmentPurple: 0
- HueAdjustmentRed: 0
- HueAdjustmentYellow: 0
- LensManualDistortionAmount: 0
- LensProfileEnable: 0
- LensProfileSetup: LensDefaults
- LuminanceAdjustmentAqua: 0
- LuminanceAdjustmentBlue: 0
- LuminanceAdjustmentGreen: 0
- LuminanceAdjustmentMagenta: 0
- LuminanceAdjustmentOrange: 0
- LuminanceAdjustmentPurple: 0
- LuminanceAdjustmentRed: 0
- LuminanceAdjustmentYellow: 0
- LuminanceNoiseReductionContrast: 0
- LuminanceNoiseReductionDetail: 50
- LuminanceSmoothing: 20
- PaintCorrectionActive: true
- PaintCorrectionAmount: 1.000000
- PaintCorrectionBrightness: 0.000000
- PaintCorrectionClarity: 0.000000
- PaintCorrectionContrast: 0.000000
- PaintCorrectionExposure: 0.122000
- PaintCorrectionHue: 0.000000
- PaintCorrectionMaskCenterWeight: 0.000000
- PaintCorrectionMaskFlow: 1.000000
- PaintCorrectionMaskRadius: 0.028940
- PaintCorrectionMaskValue: 1.000000
- PaintCorrectionMaskWhat: Mask/Paint
- PaintCorrectionSaturation: 0.000000
- PaintCorrectionSharpness: 0.000000
- PaintCorrectionWhat: Correction
- ParametricDarks: 0
- ParametricHighlightSplit: 75
- ParametricHighlights: 0
- ParametricLights: 0
- ParametricMidtoneSplit: 50
- ParametricShadowSplit: 25
- ParametricShadows: 0
- PerspectiveHorizontal: 0
- PerspectiveRotate: 0.0
- PerspectiveScale: 100
- PerspectiveVertical: 0
- PostCropVignetteAmount: -17
- PostCropVignetteFeather: 50
- PostCropVignetteHighlightContrast: 0
- PostCropVignetteMidpoint: 50
- PostCropVignetteRoundness: 0
- PostCropVignetteStyle: 1
- ProcessVersion: 5.7
- RedHue: 0
- RedSaturation: 0
- Saturation: -3
- SaturationAdjustmentAqua: 0
- SaturationAdjustmentBlue: 0
- SaturationAdjustmentGreen: 0
- SaturationAdjustmentMagenta: 0
- SaturationAdjustmentOrange: 0
- SaturationAdjustmentPurple: 0
- SaturationAdjustmentRed: 0
- SaturationAdjustmentYellow: 0
- ShadowTint: 0
- Shadows: 13
- SharpenDetail: 25
- SharpenEdgeMasking: 0
- SharpenRadius: +1.0
- Sharpness: 25
- SplitToningBalance: 0
- SplitToningHighlightHue: 0
- SplitToningHighlightSaturation: 0
- SplitToningShadowHue: 0
- SplitToningShadowSaturation: 0
- Temperature: 4874
- Tint: -22
- ToneCurve: 0, 0, 32, 22, 64, 56, 128, 128, 192, 196, 255, 255
- ToneCurveName: Medium Contrast
- Version: 6.1
- Vibrance: +36
- VignetteAmount: 0
- WhiteBalance: Custom
- XMP-dc
- Creator: tamianni
- Format: image/jpeg
- Rights: laverov.com
- XMP-exif
- DateTimeDigitized: 2011:10:01 15:02:28.00+03:00
- DateTimeOriginal: 2011:10:01 15:02:28.00+03:00
- FlashFired: False
- FlashFunction: False
- FlashMode: Unknown
- FlashRedEyeMode: False
- FlashReturn: No return detection
- XMP-tiff
- ImageHeight: 1826
- ImageWidth: 2720
- XMP-x
- XMP-xmp
- CreateDate: 2011:10:01 15:02:28.00+03:00
- Label: Yellow
- ModifyDate: 2011:10:01 22:58:04+03:00
- XMP-xmpMM
- XMP-xmpRights
- Просмотров: 970
- Рейтинг: голосов еще нет
- Отзывов: 0