- Раздел: Пейзаж
- Дата съёмки: 15.10.2011 13:27
- Дата загрузки фото: 16.10.2011 19:34
- Оригинальная фотография: 1024 x 680 (515 Кб)
- Технические характеристики:
- Фотоаппарат: Nikon D90
- Выдержка: 1/320
- Гиперфокальное расстояние: inf m
- Диафрагма: 6,3
- Светочувствительность: 200
- Фокусное расстояние: 18,0 mm (35 mm equivalent: 18,0 mm)
- Полный EXIF
- Adobe
- ColorTransform: YCbCr
- Composite
- Aperture: 6,3
- CircleOfConfusion: 0,020 mm
- DOF: inf (0,00 m - inf)
- FOV: 90,0 deg
- FocalLength35efl: 18,0 mm (35 mm equivalent: 18,0 mm)
- HyperfocalDistance: inf m
- ScaleFactor35efl: 1,5
- ShutterSpeed: 1/320
- ExifIFD
- ApertureValue: 6,3
- CFAPattern: [Green,Blue][Red,Green]
- Contrast: Normal
- CreateDate: 2011:10:15 13:27:18
- CustomRendered: Normal
- DateTimeOriginal: 2011:10:15 13:27:18
- DigitalZoomRatio: 1
- ExposureCompensation: 0
- ExposureMode: Auto
- ExposureProgram: Aperture-priority AE
- ExposureTime: 1/320
- FNumber: 6,3
- Flash: No Flash
- FocalLength: 18,0 mm
- FocalLengthIn35mmFormat: 27 mm
- GainControl: None
- ISO: 200
- LensInfo: 18-105mm f/3.5-5.6
- LensModel: 18.0-105.0 mm f/3.5-5.6
- LightSource: Unknown
- MaxApertureValue: 3,5
- MeteringMode: Center-weighted average
- Saturation: Normal
- SceneCaptureType: Standard
- SceneType: Directly photographed
- SensingMethod: One-chip color area
- SensitivityType: Unknown
- SerialNumber: 6639313
- Sharpness: Normal
- ShutterSpeedValue: 1/320
- SubjectDistance: 2,82 m
- SubjectDistanceRange: Unknown
- UserComment: Aleksandr A. sanechek05@mail.ru
- WhiteBalance: Auto
- ICC-header
- ICC-meas
- ICC-view
- IFD0
- Make: NIKON CORPORATION
- Model: NIKON D90
- ModifyDate: 2011:10:16 19:33:35
- Software: Nikon Transfer 1.1 W
- IFD1
- System
- XMP-aux
- ApproximateFocusDistance: 2,82
- ImageNumber: 11524
- Lens: 18.0-105.0 mm f/3.5-5.6
- LensID: 158
- XMP-crs
- AlreadyApplied: True
- BlueHue: 0
- BlueSaturation: 0
- Brightness: +50
- CameraProfile: ACR 4.6
- ChromaticAberrationB: 0
- ChromaticAberrationR: 0
- Clarity: 0
- ColorNoiseReduction: 25
- ColorNoiseReductionDetail: 50
- Contrast: +37
- ConvertToGrayscale: False
- CropAngle: 0.517436
- CropBottom: 1
- CropConstrainToWarp: 0
- CropHeight: 680
- CropLeft: 0.009666
- CropRight: 0.990334
- CropTop: 0
- CropUnit: pixels
- CropWidth: 1024
- Defringe: 0
- Exposure: +0.26
- FillLight: 30
- GradientBasedCorrActive: true
- GradientBasedCorrAmount: 1.000000
- GradientBasedCorrBrightness: 0.000000
- GradientBasedCorrClarity: 0.000000
- GradientBasedCorrContrast: 0.000000
- GradientBasedCorrExposure: -0.057000
- GradientBasedCorrHue: 0.000000
- GradientBasedCorrMaskFullX: 0.346634
- GradientBasedCorrMaskFullY: 0.701700
- GradientBasedCorrMaskValue: 1.000000
- GradientBasedCorrMaskWhat: Mask/Gradient
- GradientBasedCorrMaskZeroX: 0.356907
- GradientBasedCorrMaskZeroY: 0.626216
- GradientBasedCorrSaturation: 0.000000
- GradientBasedCorrSharpness: 0.000000
- GradientBasedCorrWhat: Correction
- GrainAmount: 0
- GreenHue: 0
- GreenSaturation: 0
- HasCrop: True
- HasSettings: True
- HighlightRecovery: 89
- HueAdjustmentAqua: 0
- HueAdjustmentBlue: 0
- HueAdjustmentGreen: 0
- HueAdjustmentMagenta: 0
- HueAdjustmentOrange: 0
- HueAdjustmentPurple: 0
- HueAdjustmentRed: 0
- HueAdjustmentYellow: 0
- LensManualDistortionAmount: 0
- LensProfileEnable: 0
- LensProfileSetup: LensDefaults
- LuminanceAdjustmentAqua: 0
- LuminanceAdjustmentBlue: 0
- LuminanceAdjustmentGreen: 0
- LuminanceAdjustmentMagenta: 0
- LuminanceAdjustmentOrange: 0
- LuminanceAdjustmentPurple: 0
- LuminanceAdjustmentRed: 0
- LuminanceAdjustmentYellow: 0
- LuminanceNoiseReductionContrast: 0
- LuminanceNoiseReductionDetail: 50
- LuminanceSmoothing: 18
- ParametricDarks: -61
- ParametricHighlightSplit: 75
- ParametricHighlights: +84
- ParametricLights: +37
- ParametricMidtoneSplit: 50
- ParametricShadowSplit: 25
- ParametricShadows: -100
- PerspectiveHorizontal: 0
- PerspectiveRotate: 0.0
- PerspectiveScale: 100
- PerspectiveVertical: 0
- PostCropVignetteAmount: 0
- ProcessVersion: 5.7
- RedHue: 0
- RedSaturation: 0
- Saturation: -7
- SaturationAdjustmentAqua: 0
- SaturationAdjustmentBlue: 0
- SaturationAdjustmentGreen: 0
- SaturationAdjustmentMagenta: 0
- SaturationAdjustmentOrange: 0
- SaturationAdjustmentPurple: 0
- SaturationAdjustmentRed: 0
- SaturationAdjustmentYellow: 0
- ShadowTint: 0
- Shadows: 3
- SharpenDetail: 25
- SharpenEdgeMasking: 0
- SharpenRadius: +1.0
- Sharpness: 53
- SplitToningBalance: 0
- SplitToningHighlightHue: 48
- SplitToningHighlightSaturation: 19
- SplitToningShadowHue: 100
- SplitToningShadowSaturation: 8
- Temperature: 5832
- Tint: -4
- ToneCurve: 0, 0, 32, 22, 64, 56, 128, 128, 192, 196, 255, 255
- ToneCurveName: Medium Contrast
- Version: 6.3
- Vibrance: +21
- VignetteAmount: 0
- WhiteBalance: Custom
- XMP-exif
- DateTimeDigitized: 2011:10:15 13:27:18.00+04:00
- DateTimeOriginal: 2011:10:15 13:27:18.00+04:00
- ExifImageHeight: 680
- ExifImageWidth: 1024
- FlashFired: False
- FlashFunction: False
- FlashMode: Unknown
- FlashRedEyeMode: False
- FlashReturn: No return detection
- XMP-microsoft
- XMP-tiff
- ImageHeight: 680
- ImageWidth: 1024
- XMP-xmp
- CreateDate: 2011:10:15 13:27:18.00+04:00
- ModifyDate: 2011:10:16 19:33:35+04:00
- Rating: 5
- Просмотров: 159
- Рейтинг: голосов еще нет
- Отзывов: 0