- Раздел: Портрет
- Дата съёмки: 19.10.2011 12:42
- Дата загрузки фото: 19.10.2011 23:47
- Оригинальная фотография: 1640 x 2623 (3,3 Мб)
- Технические характеристики:
- Фотоаппарат: Nikon D40
- Выдержка: 1/160
- Гиперфокальное расстояние: inf m
- Диафрагма: 4,0
- Светочувствительность: 200
- Фокусное расстояние: 18,0 mm (35 mm equivalent: 18,0 mm)
- Полный EXIF
- Adobe
- ColorTransform: YCbCr
- Composite
- Aperture: 4,0
- CircleOfConfusion: 0,020 mm
- FOV: 90,0 deg
- FocalLength35efl: 18,0 mm (35 mm equivalent: 18,0 mm)
- HyperfocalDistance: inf m
- ScaleFactor35efl: 1,5
- ShutterSpeed: 1/160
- ExifIFD
- ApertureValue: 4,0
- CFAPattern: [Blue,Green][Green,Red]
- Contrast: Normal
- CreateDate: 2011:10:19 12:42:37
- CustomRendered: Normal
- DateTimeOriginal: 2011:10:19 12:42:37
- DigitalZoomRatio: 1
- ExposureCompensation: 0
- ExposureMode: Auto
- ExposureProgram: Aperture-priority AE
- ExposureTime: 1/160
- FNumber: 4,0
- Flash: No Flash
- FocalLength: 18,0 mm
- FocalLengthIn35mmFormat: 27 mm
- GainControl: None
- ISO: 200
- LightSource: Unknown
- MaxApertureValue: 3,5
- MeteringMode: Multi-segment
- Saturation: Normal
- SceneCaptureType: Standard
- SceneType: Directly photographed
- SensingMethod: One-chip color area
- Sharpness: Normal
- ShutterSpeedValue: 1/160
- SubjectDistance: 0,84 m
- SubjectDistanceRange: Unknown
- WhiteBalance: Auto
- ICC-header
- ICC-meas
- ICC-view
- IFD0
- Copyright: laverov.com
- Make: NIKON CORPORATION
- Model: NIKON D40
- ModifyDate: 2011:10:19 16:29:54
- Software: Ver.1.11
- IFD1
- IPTC
- By-line: tamianni
- CopyrightNotice: laverov.com
- System
- XMP-aux
- ImageNumber: 32026
- Lens: 18.0-55.0 mm f/3.5-5.6
- LensID: 148
- LensInfo: 18-55mm f/3.5-5.6
- SerialNumber: 2359933
- XMP-crs
- AlreadyApplied: True
- BlueHue: 0
- BlueSaturation: 0
- Brightness: +57
- ChromaticAberrationB: 0
- ChromaticAberrationR: 0
- Clarity: 0
- ColorNoiseReduction: 25
- ColorNoiseReductionDetail: 50
- Contrast: +64
- ConvertToGrayscale: True
- CropAngle: 0
- CropBottom: 0.819808
- CropConstrainToWarp: 0
- CropHeight: 1640
- CropLeft: 0.127864
- CropRight: 1
- CropTop: 0
- CropUnit: pixels
- CropWidth: 2623
- Defringe: 0
- Exposure: 0.00
- FillLight: 0
- GrainAmount: 0
- GrayMixerAqua: -10
- GrayMixerBlue: +20
- GrayMixerGreen: -19
- GrayMixerMagenta: +28
- GrayMixerOrange: +4
- GrayMixerPurple: +25
- GrayMixerRed: +29
- GrayMixerYellow: -13
- GreenHue: 0
- GreenSaturation: 0
- HasCrop: True
- HasSettings: True
- HighlightRecovery: 8
- LensManualDistortionAmount: 0
- LensProfileEnable: 0
- LensProfileSetup: LensDefaults
- LuminanceNoiseReductionContrast: 0
- LuminanceNoiseReductionDetail: 50
- LuminanceSmoothing: 23
- ParametricDarks: -7
- ParametricHighlightSplit: 75
- ParametricHighlights: 0
- ParametricLights: +28
- ParametricMidtoneSplit: 50
- ParametricShadowSplit: 25
- ParametricShadows: 0
- PerspectiveHorizontal: 0
- PerspectiveRotate: 0.0
- PerspectiveScale: 100
- PerspectiveVertical: 0
- PostCropVignetteAmount: 0
- ProcessVersion: 5.7
- RedHue: 0
- RedSaturation: 0
- ShadowTint: 0
- Shadows: 4
- SharpenDetail: 25
- SharpenEdgeMasking: 0
- SharpenRadius: +1.0
- Sharpness: 25
- SplitToningBalance: 0
- SplitToningHighlightHue: 52
- SplitToningHighlightSaturation: 64
- SplitToningShadowHue: 37
- SplitToningShadowSaturation: 22
- Temperature: 5550
- Tint: -4
- ToneCurve: 0, 0, 32, 22, 64, 56, 128, 128, 192, 196, 255, 255
- ToneCurveName: Medium Contrast
- Version: 6.1
- VignetteAmount: 0
- WhiteBalance: Custom
- XMP-dc
- Creator: tamianni
- Rights: laverov.com
- XMP-exif
- DateTimeDigitized: 2011:10:19 12:42:37.40+03:00
- DateTimeOriginal: 2011:10:19 12:42:37.40+03:00
- ExifImageHeight: 2623
- ExifImageWidth: 1640
- FlashFired: False
- FlashFunction: False
- FlashMode: Unknown
- FlashRedEyeMode: False
- FlashReturn: No return detection
- XMP-tiff
- ImageHeight: 2623
- ImageWidth: 1640
- XMP-xmp
- CreateDate: 2011:10:19 12:42:37.40+03:00
- ModifyDate: 2011:10:19 16:29:54+03:00
- XMP-xmpRights
- Просмотров: 889
- Рейтинг: голосов еще нет
- Отзывов: 0