Уважаемые друзья и участники проекта iXBT.photo! К сожалению, 1 марта 2026 года проект iXBT.photo прекратит свою работу и будет закрыт. Мы высоко ценим ваше участие и тот вклад, который вы внесли в развитие нашего сообщества. Пожалуйста, не забудьте сохранить ваши фотографии до этой даты.
С уважением, команда iXBT.com
| Притаилась |
Притаилась
- Раздел: Другое, разное
- Дата съёмки: 08.07.2011 16:42
- Дата загрузки фото: 04.11.2011 12:52
- Оригинальная фотография: 3890 x 2431 (3,7 Мб)
- Технические характеристики:
- Фотоаппарат: Canon EOS 1000D
- Выдержка: 1/1000
- Гиперфокальное расстояние: inf m
- Диафрагма: 2,8
- Светочувствительность: 400
- Фокусное расстояние: 50,0 mm (35 mm equivalent: 50,0 mm)
- Полный EXIF
- Adobe
- ColorTransform: YCbCr
- Composite
- Aperture: 2,8
- CircleOfConfusion: 0,018 mm
- FOV: 39,0 deg
- FocalLength35efl: 50,0 mm (35 mm equivalent: 50,0 mm)
- HyperfocalDistance: inf m
- ScaleFactor35efl: 1,6
- ShutterSpeed: 1/1000
- ExifIFD
- ApertureValue: 2,8
- ColorSpace: Uncalibrated
- CreateDate: 2011:07:08 16:42:25
- CustomRendered: Normal
- DateTimeOriginal: 2011:07:08 16:42:25
- ExifImageHeight: 2431
- ExifImageWidth: 3890
- ExposureCompensation: 0
- ExposureMode: Manual
- ExposureProgram: Manual
- ExposureTime: 1/1000
- FNumber: 2,8
- Flash: Off, Did not fire
- FocalLength: 50,0 mm
- ISO: 400
- LensInfo: 50mm f/?
- LensModel: EF50mm f/1.8 II
- MaxApertureValue: 1,8
- MeteringMode: Partial
- SceneCaptureType: Standard
- SerialNumber: 3450607133
- ShutterSpeedValue: 1/1000
- WhiteBalance: Auto
- IFD0
- BitsPerSample: 8 8 8
- ImageHeight: 2592
- ImageWidth: 3888
- Make: Canon
- Model: Canon EOS 1000D
- ModifyDate: 2011:07:13 19:56:39
- Orientation: Horizontal (normal)
- PhotometricInterpretation: RGB
- SamplesPerPixel: 3
- IFD1
- IPTC
- DateCreated: 2011:07:08
- System
- XMP-aux
- Firmware: 1.0.7
- FlashCompensation: 0
- ImageNumber: 0
- Lens: EF50mm f/1.8 II
- LensID: 29
- XMP-crs
- AlreadyApplied: True
- BlueHue: +29
- BlueSaturation: +18
- Brightness: +46
- ChromaticAberrationB: 0
- ChromaticAberrationR: 0
- Clarity: +7
- ColorNoiseReduction: 64
- ColorNoiseReductionDetail: 0
- Contrast: +40
- ConvertToGrayscale: False
- Defringe: 0
- Exposure: +0.19
- FillLight: 14
- GrainAmount: 0
- GreenHue: +42
- GreenSaturation: 0
- HasCrop: False
- HasSettings: True
- HighlightRecovery: 57
- HueAdjustmentAqua: 0
- HueAdjustmentBlue: 0
- HueAdjustmentGreen: 0
- HueAdjustmentMagenta: 0
- HueAdjustmentOrange: 0
- HueAdjustmentPurple: 0
- HueAdjustmentRed: 0
- HueAdjustmentYellow: 0
- LensManualDistortionAmount: 0
- LensProfileEnable: 0
- LensProfileSetup: LensDefaults
- LuminanceAdjustmentAqua: 0
- LuminanceAdjustmentBlue: 0
- LuminanceAdjustmentGreen: 0
- LuminanceAdjustmentMagenta: 0
- LuminanceAdjustmentOrange: 0
- LuminanceAdjustmentPurple: 0
- LuminanceAdjustmentRed: 0
- LuminanceAdjustmentYellow: 0
- LuminanceNoiseReductionContrast: 8
- LuminanceNoiseReductionDetail: 34
- LuminanceSmoothing: 64
- ParametricDarks: -7
- ParametricHighlightSplit: 75
- ParametricHighlights: +54
- ParametricLights: +6
- ParametricMidtoneSplit: 50
- ParametricShadowSplit: 25
- ParametricShadows: +42
- PerspectiveHorizontal: 0
- PerspectiveRotate: 0.0
- PerspectiveScale: 100
- PerspectiveVertical: 0
- PostCropVignetteAmount: 0
- ProcessVersion: 5.7
- RedHue: +4
- RedSaturation: +9
- Saturation: +7
- SaturationAdjustmentAqua: 0
- SaturationAdjustmentBlue: 0
- SaturationAdjustmentGreen: 0
- SaturationAdjustmentMagenta: 0
- SaturationAdjustmentOrange: 0
- SaturationAdjustmentPurple: 0
- SaturationAdjustmentRed: 0
- SaturationAdjustmentYellow: 0
- ShadowTint: -22
- Shadows: 11
- SharpenDetail: 91
- SharpenEdgeMasking: 54
- SharpenRadius: +2.6
- Sharpness: 50
- SplitToningBalance: -76
- SplitToningHighlightHue: 0
- SplitToningHighlightSaturation: 12
- SplitToningShadowHue: 0
- SplitToningShadowSaturation: 14
- Temperature: 5738
- Tint: +32
- ToneCurve: 0, 0, 32, 22, 64, 56, 128, 128, 192, 196, 255, 255
- ToneCurveName: Medium Contrast
- Version: 6.4.1
- Vibrance: +50
- VignetteAmount: -69
- VignetteMidpoint: 28
- WhiteBalance: Custom
- XMP-dc
- XMP-xmp
- CreateDate: 2011:07:08 16:42:25.02
- ModifyDate: 2011:07:13 19:56:39+04:00
- XMP-xmpMM
- Просмотров: 429
- Рейтинг: голосов еще нет
- Отзывов: 0
Получить код для блога
| Вставка фотографии в текущем разрешении |
Вставка миниатюры |
HTML (для вставки в блог):
BBCode (для вставки в форум):
Ссылка на фото:
Ссылка на миниатюру:
- Послать ссылку другу
| Комментарии к фотографии |