Уважаемые друзья и участники проекта iXBT.photo! К сожалению, 1 марта 2026 года проект iXBT.photo прекратит свою работу и будет закрыт. Мы высоко ценим ваше участие и тот вклад, который вы внесли в развитие нашего сообщества. Пожалуйста, не забудьте сохранить ваши фотографии до этой даты.
С уважением, команда iXBT.com
| Лесная красавица |
Лесная красавица
- Раздел: Другое, разное
- Дата съёмки: 09.07.2011 12:05
- Дата загрузки фото: 04.11.2011 12:53
- Оригинальная фотография: 3884 x 2428 (3,7 Мб)
- Технические характеристики:
- Фотоаппарат: Canon EOS 1000D
- Выдержка: 1/60
- Гиперфокальное расстояние: inf m
- Диафрагма: 2,8
- Светочувствительность: 200
- Фокусное расстояние: 50,0 mm (35 mm equivalent: 50,0 mm)
- Полный EXIF
- Adobe
- ColorTransform: YCbCr
- Composite
- Aperture: 2,8
- CircleOfConfusion: 0,018 mm
- FOV: 39,0 deg
- FocalLength35efl: 50,0 mm (35 mm equivalent: 50,0 mm)
- HyperfocalDistance: inf m
- ScaleFactor35efl: 1,7
- ShutterSpeed: 1/60
- ExifIFD
- ApertureValue: 2,8
- ColorSpace: Uncalibrated
- CreateDate: 2011:07:09 12:05:34
- CustomRendered: Normal
- DateTimeOriginal: 2011:07:09 12:05:34
- ExifImageHeight: 2428
- ExifImageWidth: 3884
- ExposureCompensation: 0
- ExposureMode: Manual
- ExposureProgram: Manual
- ExposureTime: 1/60
- FNumber: 2,8
- Flash: Off, Did not fire
- FocalLength: 50,0 mm
- ISO: 200
- LensInfo: 50mm f/?
- LensModel: EF50mm f/1.8 II
- MaxApertureValue: 1,8
- MeteringMode: Partial
- SceneCaptureType: Standard
- SerialNumber: 3450607133
- ShutterSpeedValue: 1/60
- WhiteBalance: Manual
- IFD0
- BitsPerSample: 8 8 8
- ImageHeight: 2592
- ImageWidth: 3888
- Make: Canon
- Model: Canon EOS 1000D
- ModifyDate: 2011:07:13 19:55:08
- Orientation: Horizontal (normal)
- PhotometricInterpretation: RGB
- SamplesPerPixel: 3
- IFD1
- IPTC
- DateCreated: 2011:07:09
- System
- XMP-aux
- Firmware: 1.0.7
- FlashCompensation: 0
- ImageNumber: 0
- Lens: EF50mm f/1.8 II
- LensID: 29
- XMP-crs
- AlreadyApplied: True
- BlueHue: +36
- BlueSaturation: -22
- Brightness: +52
- ChromaticAberrationB: 0
- ChromaticAberrationR: 0
- Clarity: +55
- ColorNoiseReduction: 0
- Contrast: +34
- ConvertToGrayscale: False
- Defringe: 0
- Exposure: 0.00
- FillLight: 18
- GrainAmount: 0
- GreenHue: +42
- GreenSaturation: +58
- HasCrop: False
- HasSettings: True
- HighlightRecovery: 14
- HueAdjustmentAqua: 0
- HueAdjustmentBlue: 0
- HueAdjustmentGreen: 0
- HueAdjustmentMagenta: 0
- HueAdjustmentOrange: 0
- HueAdjustmentPurple: 0
- HueAdjustmentRed: 0
- HueAdjustmentYellow: 0
- LensManualDistortionAmount: -7
- LensProfileEnable: 0
- LensProfileSetup: LensDefaults
- LuminanceAdjustmentAqua: 0
- LuminanceAdjustmentBlue: 0
- LuminanceAdjustmentGreen: 0
- LuminanceAdjustmentMagenta: 0
- LuminanceAdjustmentOrange: 0
- LuminanceAdjustmentPurple: 0
- LuminanceAdjustmentRed: 0
- LuminanceAdjustmentYellow: 0
- LuminanceNoiseReductionContrast: 0
- LuminanceNoiseReductionDetail: 73
- LuminanceSmoothing: 83
- ParametricDarks: 0
- ParametricHighlightSplit: 75
- ParametricHighlights: 0
- ParametricLights: 0
- ParametricMidtoneSplit: 50
- ParametricShadowSplit: 25
- ParametricShadows: 0
- PerspectiveHorizontal: 0
- PerspectiveRotate: 0.0
- PerspectiveScale: 100
- PerspectiveVertical: 0
- PostCropVignetteAmount: -9
- PostCropVignetteFeather: 88
- PostCropVignetteHighlightContrast: 0
- PostCropVignetteMidpoint: 54
- PostCropVignetteRoundness: -78
- PostCropVignetteStyle: 2
- ProcessVersion: 5.7
- RedHue: -4
- RedSaturation: +9
- Saturation: -7
- SaturationAdjustmentAqua: 0
- SaturationAdjustmentBlue: 0
- SaturationAdjustmentGreen: 0
- SaturationAdjustmentMagenta: 0
- SaturationAdjustmentOrange: 0
- SaturationAdjustmentPurple: 0
- SaturationAdjustmentRed: 0
- SaturationAdjustmentYellow: 0
- ShadowTint: -29
- Shadows: 13
- SharpenDetail: 57
- SharpenEdgeMasking: 26
- SharpenRadius: +2.8
- Sharpness: 42
- SplitToningBalance: -36
- SplitToningHighlightHue: 36
- SplitToningHighlightSaturation: 0
- SplitToningShadowHue: 0
- SplitToningShadowSaturation: 12
- Temperature: 5832
- Tint: +80
- ToneCurve: 0, 0, 32, 22, 64, 56, 128, 128, 192, 196, 255, 255
- ToneCurveName: Medium Contrast
- Version: 6.4.1
- Vibrance: +44
- VignetteAmount: -100
- VignetteMidpoint: 44
- WhiteBalance: Custom
- XMP-dc
- XMP-xmp
- CreateDate: 2011:07:09 12:05:34.35
- ModifyDate: 2011:07:13 19:55:08+04:00
- XMP-xmpMM
- Просмотров: 391
- Рейтинг: голосов еще нет
- Отзывов: 0
Получить код для блога
| Вставка фотографии в текущем разрешении |
Вставка миниатюры |
HTML (для вставки в блог):
BBCode (для вставки в форум):
Ссылка на фото:
Ссылка на миниатюру:
- Послать ссылку другу
| Комментарии к фотографии |