- Раздел: Другое, разное
- Дата съёмки: 08.10.2011 17:31
- Дата загрузки фото: 07.11.2011 18:00
- Оригинальная фотография: 1920 x 1080 (560 Кб)
- Технические характеристики:
- Фотоаппарат: Panasonic DMC-GH2
- Выдержка: 1/400
- Светочувствительность: 160
- Полный EXIF
- Adobe
- ColorTransform: YCbCr
- Composite
- ShutterSpeed: 1/400
- ExifIFD
- ColorSpace: sRGB
- Contrast: Normal
- CreateDate: 2011:10:08 17:31:07
- CustomRendered: Normal
- DateTimeOriginal: 2011:10:08 17:31:07
- DigitalZoomRatio: 0
- ExifImageHeight: 1080
- ExifImageWidth: 1920
- ExposureCompensation: 0
- ExposureMode: Auto
- ExposureProgram: Program AE
- ExposureTime: 1/400
- Flash: Off, Did not fire
- GainControl: Low gain up
- ISO: 160
- LightSource: Unknown
- MaxApertureValue: 1,0
- MeteringMode: Multi-segment
- Saturation: Normal
- SceneCaptureType: Standard
- SceneType: Directly photographed
- SensingMethod: One-chip color area
- Sharpness: Normal
- ShutterSpeedValue: 1/400
- WhiteBalance: Auto
- ICC-header
- ICC-meas
- ICC-view
- IFD0
- Make: Panasonic
- Model: DMC-GH2
- ModifyDate: 2011:10:09 09:22:51
- Orientation: Horizontal (normal)
- IFD1
- IPTC
- DateCreated: 2011:10:08
- System
- XMP-crs
- AlreadyApplied: True
- BlueHue: 0
- BlueSaturation: 0
- Brightness: +50
- ChromaticAberrationB: 0
- ChromaticAberrationR: 0
- Clarity: 0
- ColorNoiseReduction: 25
- ColorNoiseReductionDetail: 50
- Contrast: +84
- ConvertToGrayscale: False
- Defringe: 0
- Exposure: 0.00
- FillLight: 42
- GrainAmount: 0
- GreenHue: 0
- GreenSaturation: 0
- HasCrop: False
- HasSettings: True
- HighlightRecovery: 0
- HueAdjustmentAqua: 0
- HueAdjustmentBlue: 0
- HueAdjustmentGreen: 0
- HueAdjustmentMagenta: 0
- HueAdjustmentOrange: 0
- HueAdjustmentPurple: 0
- HueAdjustmentRed: 0
- HueAdjustmentYellow: 0
- LensManualDistortionAmount: 0
- LensProfileEnable: 0
- LensProfileSetup: LensDefaults
- LuminanceAdjustmentAqua: 0
- LuminanceAdjustmentBlue: 0
- LuminanceAdjustmentGreen: 0
- LuminanceAdjustmentMagenta: 0
- LuminanceAdjustmentOrange: 0
- LuminanceAdjustmentPurple: 0
- LuminanceAdjustmentRed: 0
- LuminanceAdjustmentYellow: 0
- LuminanceNoiseReductionContrast: 95
- LuminanceNoiseReductionDetail: 96
- LuminanceSmoothing: 15
- ParametricDarks: 0
- ParametricHighlightSplit: 75
- ParametricHighlights: 0
- ParametricLights: 0
- ParametricMidtoneSplit: 50
- ParametricShadowSplit: 25
- ParametricShadows: 0
- PerspectiveHorizontal: 0
- PerspectiveRotate: 0.0
- PerspectiveScale: 100
- PerspectiveVertical: 0
- PostCropVignetteAmount: 0
- ProcessVersion: 5.7
- RawFileName: P1050899.dng
- RedHue: 0
- RedSaturation: 0
- Saturation: -16
- SaturationAdjustmentAqua: 0
- SaturationAdjustmentBlue: 0
- SaturationAdjustmentGreen: 0
- SaturationAdjustmentMagenta: 0
- SaturationAdjustmentOrange: 0
- SaturationAdjustmentPurple: 0
- SaturationAdjustmentRed: 0
- SaturationAdjustmentYellow: 0
- ShadowTint: 0
- Shadows: 5
- SharpenDetail: 25
- SharpenEdgeMasking: 0
- SharpenRadius: +1.0
- Sharpness: 25
- SplitToningBalance: 0
- SplitToningHighlightHue: 0
- SplitToningHighlightSaturation: 0
- SplitToningShadowHue: 0
- SplitToningShadowSaturation: 0
- Temperature: 6500
- Tint: +30
- ToneCurve: 0, 0, 32, 22, 64, 56, 128, 128, 192, 196, 255, 255
- ToneCurveName: Medium Contrast
- Version: 6.4
- Vibrance: 0
- VignetteAmount: 0
- XMP-dc
- XMP-xmp
- ModifyDate: 2011:10:09 09:22:51+04:00
- Rating: 0
- XMP-xmpMM
- Просмотров: 195
- Рейтинг: голосов еще нет
- Отзывов: отключены