- Раздел: Путешествия
- Дата съёмки: 06.11.2011 00:48
- Дата загрузки фото: 13.11.2011 18:27
- Оригинальная фотография: 2409 x 1600 (2,2 Мб)
- Технические характеристики:
- Фотоаппарат: FujiFilm FinePix X100
- Выдержка: 0,6
- Гиперфокальное расстояние: inf m
- Диафрагма: 2,0
- Светочувствительность: 200
- Фокусное расстояние: 23,0 mm (35 mm equivalent: 23,0 mm)
- Экспокоррекция: -1,33
- Полный EXIF
- Adobe
- ColorTransform: YCbCr
- Composite
- Aperture: 2,0
- CircleOfConfusion: 0,022 mm
- FOV: 76,0 deg
- FocalLength35efl: 23,0 mm (35 mm equivalent: 23,0 mm)
- HyperfocalDistance: inf m
- ScaleFactor35efl: 1,4
- ShutterSpeed: 0,6
- ExifIFD
- ApertureValue: 2,0
- BrightnessValue: -3,69
- CreateDate: 2011:11:06 00:48:58
- CustomRendered: Normal
- DateTimeOriginal: 2011:11:06 00:48:58
- ExposureCompensation: -1,33
- ExposureMode: Auto
- ExposureProgram: Aperture-priority AE
- ExposureTime: 0,6
- FNumber: 2,0
- Flash: Off, Did not fire
- FocalLength: 23,0 mm
- ISO: 200
- LightSource: Unknown
- MaxApertureValue: 2,0
- MeteringMode: Multi-segment
- SceneCaptureType: Standard
- SceneType: Directly photographed
- SensingMethod: One-chip color area
- SensitivityType: Standard Output Sensitivity
- Sharpness: Normal
- ShutterSpeedValue: 0,6
- SubjectDistanceRange: Unknown
- WhiteBalance: Auto
- ICC-header
- ICC-meas
- ICC-view
- IFD0
- Make: FUJIFILM
- Model: FinePix X100
- ModifyDate: 2011:11:11 00:52:53
- IFD1
- IPTC
- DateCreated: 2011:11:06
- System
- XMP-crs
- AlreadyApplied: True
- BlueHue: 0
- BlueSaturation: 0
- Brightness: +50
- ChromaticAberrationB: 0
- ChromaticAberrationR: 0
- Clarity: 0
- ColorNoiseReduction: 25
- ColorNoiseReductionDetail: 50
- Contrast: +25
- ConvertToGrayscale: False
- CropAngle: 0
- CropBottom: 0.972581
- CropConstrainToWarp: 0
- CropHeight: 1600
- CropLeft: 0.069606
- CropRight: 0.993813
- CropTop: 0.048373
- CropUnit: pixels
- CropWidth: 2409
- Defringe: 2
- Exposure: 0.00
- FillLight: 13
- GrainAmount: 0
- GreenHue: 0
- GreenSaturation: 0
- HasCrop: True
- HasSettings: True
- HighlightRecovery: 91
- HueAdjustmentAqua: 0
- HueAdjustmentBlue: 0
- HueAdjustmentGreen: 0
- HueAdjustmentMagenta: 0
- HueAdjustmentOrange: 0
- HueAdjustmentPurple: 0
- HueAdjustmentRed: 0
- HueAdjustmentYellow: 0
- LensManualDistortionAmount: 0
- LensProfileChromaticAberrationScale: 100
- LensProfileDistortionScale: 100
- LensProfileEnable: 1
- LensProfileFilename: Fujifilm FinePix X100.lcp
- LensProfileSetup: LensDefaults
- LensProfileVignettingScale: 100
- LuminanceAdjustmentAqua: 0
- LuminanceAdjustmentBlue: 0
- LuminanceAdjustmentGreen: 0
- LuminanceAdjustmentMagenta: 0
- LuminanceAdjustmentOrange: 0
- LuminanceAdjustmentPurple: 0
- LuminanceAdjustmentRed: 0
- LuminanceAdjustmentYellow: 0
- LuminanceNoiseReductionContrast: 0
- LuminanceNoiseReductionDetail: 50
- LuminanceSmoothing: 20
- ParametricDarks: 0
- ParametricHighlightSplit: 75
- ParametricHighlights: 0
- ParametricLights: 0
- ParametricMidtoneSplit: 50
- ParametricShadowSplit: 25
- ParametricShadows: 0
- PerspectiveHorizontal: 0
- PerspectiveRotate: +1.0
- PerspectiveScale: 100
- PerspectiveVertical: 0
- PostCropVignetteAmount: 0
- ProcessVersion: 5.7
- RedHue: 0
- RedSaturation: 0
- Saturation: 0
- SaturationAdjustmentAqua: 0
- SaturationAdjustmentBlue: 0
- SaturationAdjustmentGreen: 0
- SaturationAdjustmentMagenta: 0
- SaturationAdjustmentOrange: 0
- SaturationAdjustmentPurple: 0
- SaturationAdjustmentRed: 0
- SaturationAdjustmentYellow: 0
- ShadowTint: 0
- Shadows: 5
- SharpenDetail: 40
- SharpenEdgeMasking: 0
- SharpenRadius: +0.5
- Sharpness: 59
- SplitToningBalance: 0
- SplitToningHighlightHue: 0
- SplitToningHighlightSaturation: 0
- SplitToningShadowHue: 0
- SplitToningShadowSaturation: 0
- Temperature: 3400
- Tint: +57
- ToneCurve: 0, 0, 32, 22, 64, 56, 128, 128, 192, 196, 255, 255
- ToneCurveName: Medium Contrast
- Version: 6.4.1
- Vibrance: 0
- VignetteAmount: 0
- WhiteBalance: As Shot
- XMP-xmp
- ModifyDate: 2011:11:11 00:52:53+04:00
- Просмотров: 167
- Рейтинг: голосов еще нет
- Отзывов: 0