- Раздел: Другое, разное
- Дата съёмки: 03.12.2011 13:58
- Дата загрузки фото: 03.12.2011 22:37
- Оригинальная фотография: 2230 x 3000 (4,4 Мб)
- Технические характеристики:
- Фотоаппарат: Sony SLT-A55V
- Выдержка: 1/500
- Гиперфокальное расстояние: inf m
- Диафрагма: 1,7
- Светочувствительность: 400
- Фокусное расстояние: 50,0 mm (35 mm equivalent: 50,0 mm)
- Экспокоррекция: +1
- Полный EXIF
- Adobe
- ColorTransform: YCbCr
- Composite
- Aperture: 1,7
- CircleOfConfusion: 0,020 mm
- FOV: 39,0 deg
- FocalLength35efl: 50,0 mm (35 mm equivalent: 50,0 mm)
- GPSAltitude: 28,6 m Above Sea Level
- GPSDateTime: 2011:12:03 09:58:44Z
- GPSLatitude: 60 deg 23' 26,00" N
- GPSLatitudeRef: North
- GPSLongitude: 29 deg 33' 32,00" E
- GPSLongitudeRef: East
- GPSPosition: 60 deg 23' 26,00" N, 29 deg 33' 32,00" E
- HyperfocalDistance: inf m
- ScaleFactor35efl: 1,5
- ShutterSpeed: 1/500
- ExifIFD
- ApertureValue: 1,7
- BrightnessValue: 4,62
- Contrast: Normal
- CreateDate: 2011:12:03 13:58:46
- CustomRendered: Normal
- DateTimeOriginal: 2011:12:03 13:58:46
- ExposureCompensation: +1
- ExposureMode: Auto
- ExposureProgram: Aperture-priority AE
- ExposureTime: 1/500
- FNumber: 1,7
- Flash: Off, Did not fire
- FocalLength: 50,0 mm
- FocalLengthIn35mmFormat: 75 mm
- ISO: 400
- LensInfo: 50mm f/1.7
- LensModel: 50mm F1.7
- LightSource: Unknown
- MaxApertureValue: 1,7
- MeteringMode: Multi-segment
- RecommendedExposureIndex: 400
- Saturation: High
- SceneCaptureType: Standard
- SceneType: Directly photographed
- SensitivityType: Recommended Exposure Index
- Sharpness: Hard
- ShutterSpeedValue: 1/500
- WhiteBalance: Auto
- GPS
- GPSAltitude: 28,6 m
- GPSAltitudeRef: Above Sea Level
- GPSDateStamp: 2011:12:03
- GPSDifferential: No Correction
- GPSLatitude: 60 deg 23' 26,00"
- GPSLongitude: 29 deg 33' 32,00"
- GPSMapDatum: WGS-84
- GPSMeasureMode: 3-Dimensional Measurement
- GPSSpeed: 0,5
- GPSSpeedRef: km/h
- GPSStatus: Measurement Active
- GPSTimeStamp: 09:58:44
- GPSTrack: 180,08
- GPSTrackRef: True North
- GPSVersionID: 2.3.0.0
- ICC-header
- ICC-meas
- ICC-view
- IFD0
- ImageDescription: SONY DSC
- Make: SONY
- Model: SLT-A55V
- ModifyDate: 2011:12:03 21:04:27
- Software: SLT-A55V v2.00
- IFD1
- IPTC
- Caption-Abstract: SONY DSC
- System
- XMP-aux
- Lens: 50mm F1.7
- LensID: 25501
- XMP-crs
- AlreadyApplied: True
- BlueHue: 0
- BlueSaturation: 0
- Brightness: +50
- ChromaticAberrationB: 0
- ChromaticAberrationR: 0
- Clarity: 0
- ColorNoiseReduction: 25
- ColorNoiseReductionDetail: 50
- Contrast: +25
- ConvertToGrayscale: False
- CropAngle: 0
- CropBottom: 0.968254
- CropConstrainToWarp: 0
- CropHeight: 2230
- CropLeft: 0
- CropRight: 0.837349
- CropTop: 0.031746
- CropUnit: pixels
- CropWidth: 3000
- Defringe: 0
- Exposure: -0.33
- FillLight: 0
- GrainAmount: 0
- GreenHue: 0
- GreenSaturation: 0
- HasCrop: True
- HasSettings: True
- HighlightRecovery: 0
- HueAdjustmentAqua: 0
- HueAdjustmentBlue: 0
- HueAdjustmentGreen: 0
- HueAdjustmentMagenta: 0
- HueAdjustmentOrange: 0
- HueAdjustmentPurple: 0
- HueAdjustmentRed: 0
- HueAdjustmentYellow: 0
- LensManualDistortionAmount: 0
- LensProfileEnable: 0
- LensProfileSetup: LensDefaults
- LuminanceAdjustmentAqua: 0
- LuminanceAdjustmentBlue: 0
- LuminanceAdjustmentGreen: 0
- LuminanceAdjustmentMagenta: 0
- LuminanceAdjustmentOrange: 0
- LuminanceAdjustmentPurple: 0
- LuminanceAdjustmentRed: 0
- LuminanceAdjustmentYellow: 0
- LuminanceNoiseReductionContrast: 0
- LuminanceNoiseReductionDetail: 50
- LuminanceSmoothing: 10
- ParametricDarks: 0
- ParametricHighlightSplit: 75
- ParametricHighlights: 0
- ParametricLights: 0
- ParametricMidtoneSplit: 50
- ParametricShadowSplit: 25
- ParametricShadows: 0
- PerspectiveHorizontal: 0
- PerspectiveRotate: 0.0
- PerspectiveScale: 100
- PerspectiveVertical: 0
- PostCropVignetteAmount: 0
- ProcessVersion: 5.7
- RedHue: 0
- RedSaturation: 0
- Saturation: +67
- SaturationAdjustmentAqua: 0
- SaturationAdjustmentBlue: 0
- SaturationAdjustmentGreen: 0
- SaturationAdjustmentMagenta: 0
- SaturationAdjustmentOrange: 0
- SaturationAdjustmentPurple: 0
- SaturationAdjustmentRed: 0
- SaturationAdjustmentYellow: 0
- ShadowTint: 0
- Shadows: 5
- SharpenDetail: 3
- SharpenEdgeMasking: 0
- SharpenRadius: +1.0
- Sharpness: 66
- SplitToningBalance: 0
- SplitToningHighlightHue: 0
- SplitToningHighlightSaturation: 0
- SplitToningShadowHue: 0
- SplitToningShadowSaturation: 0
- Temperature: 5167
- Tint: +3
- ToneCurve: 0, 0, 32, 22, 64, 56, 128, 128, 192, 196, 255, 255
- ToneCurveName: Medium Contrast
- Version: 6.3
- Vibrance: +29
- VignetteAmount: 0
- WhiteBalance: Custom
- XMP-dc
- XMP-exif
- DateTimeDigitized: 2011:12:03 13:58:46+03:00
- DateTimeOriginal: 2011:12:03 13:58:46+03:00
- ExifImageHeight: 3000
- ExifImageWidth: 2230
- FlashFired: False
- FlashFunction: False
- FlashMode: Off
- FlashRedEyeMode: False
- FlashReturn: No return detection
- GPSLatitude: 60 deg 23' 26,71" N
- GPSLongitude: 29 deg 33' 32,30" E
- GPSMeasureMode: 3-Dimensional
- SensitivityType: 2
- XMP-tiff
- ImageHeight: 3000
- ImageWidth: 2230
- XMP-xmp
- CreateDate: 2011:12:03 13:58:46+03:00
- ModifyDate: 2011:12:03 21:04:27+03:00
- Просмотров: 464
- Рейтинг: голосов еще нет
- Отзывов: 0