| » Участники » sergeevna » Животные » В ожидании Нового года |
Уважаемые друзья и участники проекта iXBT.photo! К сожалению, 1 марта 2026 года проект iXBT.photo прекратит свою работу и будет закрыт. Мы высоко ценим ваше участие и тот вклад, который вы внесли в развитие нашего сообщества. Пожалуйста, не забудьте сохранить ваши фотографии до этой даты.
С уважением, команда iXBT.com
| В ожидании Нового года |
В ожидании Нового года
- Раздел: Животные
- Дата съёмки: неизвестно
- Дата загрузки фото: 09.12.2011 01:19
- Оригинальная фотография: 2748 x 2061 (949 Кб)
- Технические характеристики:
- Фотоаппарат: Canon PowerShot S3 IS
- Выдержка: 1/320
- Гиперфокальное расстояние: inf m
- Диафрагма: 4,0
- Светочувствительность: 75
- Фокусное расстояние: 6,0 mm (35 mm equivalent: 36,0 mm)
- Полный EXIF
- Adobe
- ColorTransform: YCbCr
- Composite
- Aperture: 4,0
- CircleOfConfusion: 0,005 mm
- DOF: inf (0,00 m - inf)
- FOV: 53,0 deg
- FocalLength35efl: 6,0 mm (35 mm equivalent: 36,0 mm)
- HyperfocalDistance: inf m
- ScaleFactor35efl: 6,2
- ShutterSpeed: 1/320
- ExifIFD
- ApertureValue: 4,0
- CreateDate: 1980:01:01 00:01:07
- CustomRendered: Normal
- DateTimeOriginal: 1980:01:01 00:01:07
- DigitalZoomRatio: 1
- ExposureCompensation: 0
- ExposureMode: Auto
- ExposureTime: 1/320
- FNumber: 4,0
- Flash: Off, Red-eye reduction
- FocalLength: 6,0 mm
- ISO: 75
- LensInfo: 6-72mm f/?
- LensModel: 6.0-72.0 mm
- MaxApertureValue: 2,7
- MeteringMode: Multi-segment
- SceneCaptureType: Standard
- SensingMethod: One-chip color area
- ShutterSpeedValue: 1/320
- SubjectDistance: 1,45 m
- WhiteBalance: Auto
- ICC-header
- ICC-meas
- ICC-view
- IFD0
- Make: Canon
- Model: Canon PowerShot S3 IS
- ModifyDate: 2011:11:07 21:06:00
- IFD1
- IPTC
- DateCreated: 1980:01:01
- System
- XMP-aux
- ApproximateFocusDistance: 1,45
- Firmware: 1.00
- FlashCompensation: 0
- Lens: 6.0-72.0 mm
- XMP-crs
- AlreadyApplied: True
- BlueHue: 0
- BlueSaturation: 0
- Brightness: +9
- CameraProfile: Embedded
- ChromaticAberrationB: 0
- ChromaticAberrationR: 0
- Clarity: 0
- ColorNoiseReduction: 98
- ColorNoiseReductionDetail: 100
- Contrast: +22
- ConvertToGrayscale: False
- CropAngle: -1.071
- CropBottom: 0.97568
- CropConstrainToWarp: 0
- CropHeight: 2061
- CropLeft: 0.00532
- CropRight: 0.99468
- CropTop: 0.02432
- CropUnit: pixels
- CropWidth: 2748
- Defringe: 0
- Exposure: 0.00
- FillLight: 6
- GrainAmount: 0
- GreenHue: 0
- GreenSaturation: 0
- HasCrop: True
- HasSettings: True
- HighlightRecovery: 0
- HueAdjustmentAqua: 0
- HueAdjustmentBlue: 0
- HueAdjustmentGreen: 0
- HueAdjustmentMagenta: 0
- HueAdjustmentOrange: 0
- HueAdjustmentPurple: 0
- HueAdjustmentRed: 0
- HueAdjustmentYellow: 0
- IncrementalTemperature: +3
- IncrementalTint: +3
- LensManualDistortionAmount: 0
- LensProfileEnable: 0
- LensProfileSetup: LensDefaults
- LuminanceAdjustmentAqua: -25
- LuminanceAdjustmentBlue: -64
- LuminanceAdjustmentGreen: -100
- LuminanceAdjustmentMagenta: +100
- LuminanceAdjustmentOrange: -32
- LuminanceAdjustmentPurple: +100
- LuminanceAdjustmentRed: -25
- LuminanceAdjustmentYellow: -39
- LuminanceNoiseReductionContrast: 93
- LuminanceNoiseReductionDetail: 76
- LuminanceSmoothing: 32
- ParametricDarks: 0
- ParametricHighlightSplit: 75
- ParametricHighlights: 0
- ParametricLights: 0
- ParametricMidtoneSplit: 50
- ParametricShadowSplit: 25
- ParametricShadows: 0
- PerspectiveHorizontal: 0
- PerspectiveRotate: 0.0
- PerspectiveScale: 100
- PerspectiveVertical: 0
- PostCropVignetteAmount: 0
- ProcessVersion: 5.7
- RedHue: 0
- RedSaturation: 0
- Saturation: 0
- SaturationAdjustmentAqua: 0
- SaturationAdjustmentBlue: 0
- SaturationAdjustmentGreen: 0
- SaturationAdjustmentMagenta: 0
- SaturationAdjustmentOrange: 0
- SaturationAdjustmentPurple: 0
- SaturationAdjustmentRed: 0
- SaturationAdjustmentYellow: 0
- ShadowTint: 0
- Shadows: 5
- SharpenDetail: 25
- SharpenEdgeMasking: 0
- SharpenRadius: +1.0
- Sharpness: 0
- SplitToningBalance: 0
- SplitToningHighlightHue: 0
- SplitToningHighlightSaturation: 0
- SplitToningShadowHue: 0
- SplitToningShadowSaturation: 0
- ToneCurve: 0, 0, 255, 255
- ToneCurveName: Linear
- Version: 6.4
- Vibrance: 0
- VignetteAmount: 0
- WhiteBalance: Custom
- XMP-xmp
- ModifyDate: 2011:11:07 21:06:00+02:00
Получить код для блога
| Вставка фотографии в текущем разрешении |
Вставка миниатюры |
HTML (для вставки в блог):
BBCode (для вставки в форум):
Ссылка на фото:
Ссылка на миниатюру:
- Послать ссылку другу
| Комментарии к фотографии |