Уважаемые друзья и участники проекта iXBT.photo! К сожалению, 1 марта 2026 года проект iXBT.photo прекратит свою работу и будет закрыт. Мы высоко ценим ваше участие и тот вклад, который вы внесли в развитие нашего сообщества. Пожалуйста, не забудьте сохранить ваши фотографии до этой даты.
С уважением, команда iXBT.com
| ... |
...
- Раздел: Путешествия
- Дата съёмки: 04.01.2012 13:42
- Дата загрузки фото: 13.01.2012 11:18
- Оригинальная фотография: 1920 x 1285 (2,0 Мб)
- Технические характеристики:
- Фотоаппарат: Canon EOS 60D
- Выдержка: 1/80
- Гиперфокальное расстояние: inf m
- Диафрагма: 5,0
- Светочувствительность: 200
- Фокусное расстояние: 24,0 mm (35 mm equivalent: 96,0 mm)
- Полный EXIF
- Adobe
- ColorTransform: YCbCr
- Composite
- Aperture: 5,0
- CircleOfConfusion: 0,007 mm
- DOF: inf (0,00 m - inf)
- FOV: 21,0 deg
- FocalLength35efl: 24,0 mm (35 mm equivalent: 96,0 mm)
- HyperfocalDistance: inf m
- ScaleFactor35efl: 4,2
- ShutterSpeed: 1/80
- ExifIFD
- ApertureValue: 5,0
- ColorSpace: sRGB
- CreateDate: 2012:01:04 13:42:33
- CustomRendered: Normal
- DateTimeOriginal: 2012:01:04 13:42:33
- ExifImageHeight: 1285
- ExifImageWidth: 1920
- ExposureCompensation: 0
- ExposureMode: Auto
- ExposureProgram: Aperture-priority AE
- ExposureTime: 1/80
- FNumber: 5,0
- Flash: Off, Did not fire
- FocalLength: 24,0 mm
- ISO: 200
- LensInfo: 24-105mm f/?
- LensModel: EF24-105mm f/4L IS USM
- LensSerialNumber: 00001a0bd7
- MaxApertureValue: 4,0
- MeteringMode: Multi-segment
- RecommendedExposureIndex: 200
- SceneCaptureType: Standard
- SensitivityType: Recommended Exposure Index
- SerialNumber: 0780425294
- ShutterSpeedValue: 1/80
- SubjectDistance: 4294967295 m
- WhiteBalance: Auto
- ICC-header
- ICC-meas
- ICC-view
- IFD0
- Artist: Aliko
- BitsPerSample: 8 8 8
- Copyright: aliko(c)ins
- ImageHeight: 1606
- ImageWidth: 2400
- Make: Canon
- Model: Canon EOS 60D
- ModifyDate: 2012:01:13 07:18:20
- Orientation: Horizontal (normal)
- PhotometricInterpretation: RGB
- SamplesPerPixel: 3
- IFD1
- IPTC
- By-line: Aliko
- CopyrightNotice: aliko(c)ins
- DateCreated: 2012:01:04
- System
- XMP-aux
- ApproximateFocusDistance: 4294967295
- Firmware: 1.1.0
- FlashCompensation: 0
- ImageNumber: 0
- Lens: EF24-105mm f/4L IS USM
- LensID: 237
- XMP-crs
- AlreadyApplied: True
- BlueHue: 0
- BlueSaturation: 0
- Brightness: +63
- ChromaticAberrationB: 0
- ChromaticAberrationR: 0
- Clarity: +31
- ColorNoiseReduction: 25
- ColorNoiseReductionDetail: 50
- Contrast: +43
- ConvertToGrayscale: False
- CropAngle: 0
- CropBottom: 0.978323
- CropConstrainToWarp: 1
- CropLeft: 0.013
- CropRight: 0.986797
- CropTop: 0.001315
- Defringe: 0
- Exposure: 0.00
- FillLight: 5
- GrainAmount: 0
- GreenHue: 0
- GreenSaturation: 0
- HasCrop: True
- HasSettings: True
- HighlightRecovery: 0
- HueAdjustmentAqua: 0
- HueAdjustmentBlue: 0
- HueAdjustmentGreen: 0
- HueAdjustmentMagenta: 0
- HueAdjustmentOrange: 0
- HueAdjustmentPurple: 0
- HueAdjustmentRed: 0
- HueAdjustmentYellow: 0
- LensManualDistortionAmount: 0
- LensProfileChromaticAberrationScale: 100
- LensProfileDistortionScale: 100
- LensProfileEnable: 1
- LensProfileFilename: Canon EOS-1Ds Mark III (Canon EF 24-105mm f4 L IS USM) - RAW.lcp
- LensProfileSetup: Custom
- LensProfileVignettingScale: 120
- LuminanceAdjustmentAqua: 0
- LuminanceAdjustmentBlue: 0
- LuminanceAdjustmentGreen: 0
- LuminanceAdjustmentMagenta: 0
- LuminanceAdjustmentOrange: 0
- LuminanceAdjustmentPurple: 0
- LuminanceAdjustmentRed: 0
- LuminanceAdjustmentYellow: 0
- LuminanceSmoothing: 0
- PaintCorrectionActive: true
- PaintCorrectionAmount: 1.000000
- PaintCorrectionBrightness: -0.055000
- PaintCorrectionClarity: 0.000000
- PaintCorrectionContrast: 0.000000
- PaintCorrectionExposure: -0.100000
- PaintCorrectionHue: 0.000000
- PaintCorrectionMaskCenterWeight: 0.000000
- PaintCorrectionMaskFlow: 0.888889
- PaintCorrectionMaskRadius: 0.113110
- PaintCorrectionMaskValue: 1.000000
- PaintCorrectionMaskWhat: Mask/Paint
- PaintCorrectionSaturation: 0.000000
- PaintCorrectionSharpness: 0.000000
- PaintCorrectionWhat: Correction
- ParametricDarks: +9
- ParametricHighlightSplit: 75
- ParametricHighlights: -3
- ParametricLights: 0
- ParametricMidtoneSplit: 50
- ParametricShadowSplit: 25
- ParametricShadows: +8
- PerspectiveHorizontal: 0
- PerspectiveRotate: 0.0
- PerspectiveScale: 100
- PerspectiveVertical: -16
- PostCropVignetteAmount: 0
- ProcessVersion: 5.7
- RawFileName: IMG_5723.CR2
- RedHue: 0
- RedSaturation: 0
- Saturation: 0
- SaturationAdjustmentAqua: 0
- SaturationAdjustmentBlue: 0
- SaturationAdjustmentGreen: 0
- SaturationAdjustmentMagenta: 0
- SaturationAdjustmentOrange: 0
- SaturationAdjustmentPurple: 0
- SaturationAdjustmentRed: 0
- SaturationAdjustmentYellow: 0
- ShadowTint: 0
- Shadows: 5
- SharpenDetail: 25
- SharpenEdgeMasking: 0
- SharpenRadius: +1.0
- Sharpness: 25
- SplitToningBalance: 0
- SplitToningHighlightHue: 0
- SplitToningHighlightSaturation: 0
- SplitToningShadowHue: 0
- SplitToningShadowSaturation: 0
- Temperature: 5900
- Tint: +9
- ToneCurve: 0, 0, 32, 22, 64, 56, 128, 128, 192, 196, 255, 255
- ToneCurveName: Medium Contrast
- Version: 6.6
- Vibrance: +16
- VignetteAmount: 0
- WhiteBalance: As Shot
- XMP-dc
- Creator: Aliko
- Format: image/jpeg
- Rights: aliko(c)ins
- XMP-xmp
- CreateDate: 2012:01:04 13:42:33.00
- ModifyDate: 2012:01:13 07:18:20Z
- Rating: 0
- XMP-xmpMM
Получить код для блога
| Вставка фотографии в текущем разрешении |
Вставка миниатюры |
HTML (для вставки в блог):
BBCode (для вставки в форум):
Ссылка на фото:
Ссылка на миниатюру:
- Послать ссылку другу
| Комментарии к фотографии |