- Раздел: Другое, разное
- Дата съёмки: 15.01.2012 11:46
- Дата загрузки фото: 16.01.2012 20:21
- Оригинальная фотография: 1024 x 680 (790 Кб)
- Технические характеристики:
- Фотоаппарат: Nikon D90
- Выдержка: 1/1000
- Гиперфокальное расстояние: inf m
- Диафрагма: 5,6
- Светочувствительность: 200
- Фокусное расстояние: 70,0 mm (35 mm equivalent: 70,0 mm)
- Полный EXIF
- Adobe
- ColorTransform: YCbCr
- Composite
- Aperture: 5,6
- CircleOfConfusion: 0,020 mm
- DOF: inf (0,00 m - inf)
- FOV: 28,0 deg
- FocalLength35efl: 70,0 mm (35 mm equivalent: 70,0 mm)
- HyperfocalDistance: inf m
- ScaleFactor35efl: 1,5
- ShutterSpeed: 1/1000
- ExifIFD
- ApertureValue: 5,6
- CFAPattern: [Green,Blue][Red,Green]
- Contrast: Normal
- CreateDate: 2012:01:15 11:46:00
- CustomRendered: Normal
- DateTimeOriginal: 2012:01:15 11:46:00
- DigitalZoomRatio: 1
- ExposureCompensation: 0
- ExposureMode: Auto
- ExposureProgram: Aperture-priority AE
- ExposureTime: 1/1000
- FNumber: 5,6
- Flash: On, Return not detected
- FocalLength: 70,0 mm
- FocalLengthIn35mmFormat: 105 mm
- GainControl: None
- ISO: 200
- LensInfo: 70-300mm f/4.5-5.6
- LensModel: 70.0-300.0 mm f/4.5-5.6
- LightSource: Unknown
- MaxApertureValue: 4,4
- MeteringMode: Multi-segment
- Saturation: Normal
- SceneCaptureType: Standard
- SceneType: Directly photographed
- SensingMethod: One-chip color area
- SensitivityType: Unknown
- SerialNumber: 6639313
- Sharpness: Normal
- ShutterSpeedValue: 1/1000
- SubjectDistance: 17,8 m
- SubjectDistanceRange: Unknown
- UserComment: Aleksandr A. sanechek05@mail.ru
- WhiteBalance: Auto
- ICC-header
- ICC-meas
- ICC-view
- IFD0
- Make: NIKON CORPORATION
- Model: NIKON D90
- ModifyDate: 2012:01:16 19:13:39
- Software: Nikon Transfer 1.1 W
- IFD1
- System
- XMP-aux
- ApproximateFocusDistance: 17,8
- ImageNumber: 13155
- Lens: 70.0-300.0 mm f/4.5-5.6
- LensID: 141
- XMP-crs
- AlreadyApplied: True
- BlueHue: 0
- BlueSaturation: 0
- Brightness: +50
- CameraProfile: ACR 4.6
- ChromaticAberrationB: 0
- ChromaticAberrationR: 0
- Clarity: 0
- ColorNoiseReduction: 25
- ColorNoiseReductionDetail: 50
- Contrast: +25
- ConvertToGrayscale: False
- CropAngle: 0
- CropBottom: 0.530899
- CropConstrainToWarp: 0
- CropHeight: 680
- CropLeft: 0.21496
- CropRight: 0.74586
- CropTop: 0
- CropUnit: pixels
- CropWidth: 1024
- Defringe: 0
- Exposure: -0.04
- FillLight: 21
- GrainAmount: 0
- GreenHue: 0
- GreenSaturation: 0
- HasCrop: True
- HasSettings: True
- HighlightRecovery: 100
- HueAdjustmentAqua: 0
- HueAdjustmentBlue: 0
- HueAdjustmentGreen: 0
- HueAdjustmentMagenta: 0
- HueAdjustmentOrange: 0
- HueAdjustmentPurple: 0
- HueAdjustmentRed: 0
- HueAdjustmentYellow: 0
- LensManualDistortionAmount: 0
- LensProfileEnable: 0
- LensProfileSetup: LensDefaults
- LuminanceAdjustmentAqua: 0
- LuminanceAdjustmentBlue: 0
- LuminanceAdjustmentGreen: 0
- LuminanceAdjustmentMagenta: 0
- LuminanceAdjustmentOrange: 0
- LuminanceAdjustmentPurple: 0
- LuminanceAdjustmentRed: 0
- LuminanceAdjustmentYellow: 0
- LuminanceSmoothing: 0
- ParametricDarks: -7
- ParametricHighlightSplit: 75
- ParametricHighlights: +37
- ParametricLights: +27
- ParametricMidtoneSplit: 50
- ParametricShadowSplit: 25
- ParametricShadows: -13
- PerspectiveHorizontal: 0
- PerspectiveRotate: 0.0
- PerspectiveScale: 100
- PerspectiveVertical: 0
- PostCropVignetteAmount: 0
- ProcessVersion: 5.7
- RedHue: 0
- RedSaturation: 0
- Saturation: +16
- SaturationAdjustmentAqua: 0
- SaturationAdjustmentBlue: 0
- SaturationAdjustmentGreen: 0
- SaturationAdjustmentMagenta: 0
- SaturationAdjustmentOrange: 0
- SaturationAdjustmentPurple: 0
- SaturationAdjustmentRed: 0
- SaturationAdjustmentYellow: 0
- ShadowTint: 0
- Shadows: 5
- SharpenDetail: 25
- SharpenEdgeMasking: 0
- SharpenRadius: +1.0
- Sharpness: 25
- SplitToningBalance: 0
- SplitToningHighlightHue: 0
- SplitToningHighlightSaturation: 0
- SplitToningShadowHue: 0
- SplitToningShadowSaturation: 0
- Temperature: 4900
- Tint: -2
- ToneCurve: 0, 0, 32, 22, 64, 56, 128, 128, 192, 196, 255, 255
- ToneCurveName: Medium Contrast
- Version: 6.3
- Vibrance: -23
- VignetteAmount: 0
- WhiteBalance: As Shot
- XMP-exif
- DateTimeDigitized: 2012:01:15 11:46:00.00+04:00
- DateTimeOriginal: 2012:01:15 11:46:00.00+04:00
- ExifImageHeight: 680
- ExifImageWidth: 1024
- FlashFired: True
- FlashFunction: False
- FlashMode: On
- FlashRedEyeMode: False
- FlashReturn: Return not detected
- XMP-microsoft
- XMP-tiff
- ImageHeight: 680
- ImageWidth: 1024
- XMP-xmp
- CreateDate: 2012:01:15 11:46:00.00+04:00
- ModifyDate: 2012:01:16 19:13:39+04:00
- Просмотров: 103
- Рейтинг: голосов еще нет
- Отзывов: 0