- Раздел: Портрет
- Дата съёмки: 05.11.2011 15:52
- Дата загрузки фото: 24.01.2012 23:36
- Оригинальная фотография: 853 x 1280 (766 Кб)
- Технические характеристики:
- Фотоаппарат: Canon EOS 50D
- Выдержка: 1/400
- Гиперфокальное расстояние: inf m
- Диафрагма: 2,2
- Светочувствительность: 200
- Фокусное расстояние: 135,0 mm (35 mm equivalent: 675,0 mm)
- Полный EXIF
- Adobe
- ColorTransform: YCbCr
- Composite
- Aperture: 2,2
- CircleOfConfusion: 0,005 mm
- FOV: 3,0 deg
- FocalLength35efl: 135,0 mm (35 mm equivalent: 675,0 mm)
- HyperfocalDistance: inf m
- ScaleFactor35efl: 5,9
- ShutterSpeed: 1/400
- ExifIFD
- ApertureValue: 2,2
- ColorSpace: sRGB
- CreateDate: 2011:11:05 15:52:55
- CustomRendered: Normal
- DateTimeOriginal: 2011:11:05 15:52:55
- ExifImageHeight: 1280
- ExifImageWidth: 853
- ExposureCompensation: 0
- ExposureMode: Auto
- ExposureTime: 1/400
- FNumber: 2,2
- Flash: Off, Did not fire
- FocalLength: 135,0 mm
- ISO: 200
- SceneCaptureType: Standard
- ShutterSpeedValue: 1/400
- WhiteBalance: Manual
- GPS
- ICC-header
- ICC-meas
- ICC-view
- IFD0
- Copyright: LunarCat
- Make: Canon
- Model: Canon EOS 50D
- ModifyDate: 2012:01:23 03:02:19
- Orientation: Horizontal (normal)
- IFD1
- IPTC
- CopyrightNotice: LunarCat
- DateCreated: 2011:11:05
- System
- XMP-crs
- AlreadyApplied: True
- BlueHue: 0
- BlueSaturation: 0
- Brightness: +7
- CameraProfile: Embedded
- ChromaticAberrationB: 0
- ChromaticAberrationR: 0
- Clarity: +8
- ColorNoiseReduction: 0
- Contrast: +3
- ConvertToGrayscale: True
- Defringe: 0
- Exposure: 0.00
- FillLight: 0
- GradientBasedCorrActive: true
- GradientBasedCorrAmount: 1.000000
- GradientBasedCorrBrightness: 0.000000
- GradientBasedCorrClarity: -0.655172
- GradientBasedCorrContrast: 0.000000
- GradientBasedCorrExposure: 0.000000
- GradientBasedCorrHue: 240.000000
- GradientBasedCorrMaskFullX: -0.002169
- GradientBasedCorrMaskFullY: 0.812856
- GradientBasedCorrMaskValue: 1.000000
- GradientBasedCorrMaskWhat: Mask/Gradient
- GradientBasedCorrMaskZeroX: 0.067787
- GradientBasedCorrMaskZeroY: 0.799837
- GradientBasedCorrSaturation: 0.000000
- GradientBasedCorrSharpness: -1.000000
- GradientBasedCorrWhat: Correction
- GrainAmount: 0
- GrayMixerAqua: +83
- GrayMixerBlue: +46
- GrayMixerGreen: +37
- GrayMixerMagenta: +63
- GrayMixerOrange: 0
- GrayMixerPurple: 0
- GrayMixerRed: +17
- GrayMixerYellow: +54
- GreenHue: 0
- GreenSaturation: 0
- HasCrop: False
- HasSettings: True
- HighlightRecovery: 0
- IncrementalTemperature: +5
- IncrementalTint: -83
- LensManualDistortionAmount: 0
- LensProfileEnable: 0
- LensProfileSetup: LensDefaults
- LuminanceNoiseReductionContrast: 0
- LuminanceNoiseReductionDetail: 50
- LuminanceSmoothing: 100
- ParametricDarks: -9
- ParametricHighlightSplit: 75
- ParametricHighlights: +30
- ParametricLights: -15
- ParametricMidtoneSplit: 39
- ParametricShadowSplit: 10
- ParametricShadows: +26
- PerspectiveHorizontal: 0
- PerspectiveRotate: 0.0
- PerspectiveScale: 100
- PerspectiveVertical: 0
- PostCropVignetteAmount: 0
- ProcessVersion: 5.7
- RedHue: 0
- RedSaturation: 0
- ShadowTint: 0
- Shadows: 57
- SharpenDetail: 25
- SharpenEdgeMasking: 0
- SharpenRadius: +1.0
- Sharpness: 65
- SplitToningBalance: +85
- SplitToningHighlightHue: 0
- SplitToningHighlightSaturation: 0
- SplitToningShadowHue: 234
- SplitToningShadowSaturation: 73
- ToneCurve: 0, 0, 255, 255
- ToneCurveName: Linear
- Version: 6.4
- VignetteAmount: -100
- VignetteMidpoint: 0
- WhiteBalance: Custom
- XMP-dc
- Format: image/jpeg
- Rights: LunarCat
- XMP-exif
- DateTimeDigitized: 2011:11:05 15:52:55+02:00
- DateTimeOriginal: 2011:11:05 15:52:55+02:00
- FlashFired: False
- FlashFunction: False
- FlashMode: Off
- FlashRedEyeMode: False
- FlashReturn: No return detection
- GPSVersionID: 2.2.0.0
- XMP-tiff
- XMP-xmp
- CreateDate: 2011:11:05 15:52:55+02:00
- ModifyDate: 2012:01:23 03:02:19+02:00
- XMP-xmpMM
- Просмотров: 4043
- Рейтинг: голосов еще нет
- Отзывов: 1