- Раздел: Пейзаж
- Дата съёмки: 07.08.2011 12:04
- Дата загрузки фото: 09.02.2012 21:43
- Оригинальная фотография: 4256 x 2832 (1,5 Мб)
- Технические характеристики:
- Фотоаппарат: Nikon D700
- Выдержка: 1/400
- Гиперфокальное расстояние: inf m
- Диафрагма: 8,0
- Светочувствительность: 200
- Фокусное расстояние: 35,0 mm (35 mm equivalent: 35,0 mm)
- Полный EXIF
- Adobe
- ColorTransform: YCbCr
- Composite
- Aperture: 8,0
- CircleOfConfusion: 0,030 mm
- FOV: 54,0 deg
- FocalLength35efl: 35,0 mm (35 mm equivalent: 35,0 mm)
- HyperfocalDistance: inf m
- ScaleFactor35efl: 1,0
- ShutterSpeed: 1/400
- ExifIFD
- ApertureValue: 8,0
- CFAPattern: [Red,Green][Green,Blue]
- ColorSpace: Uncalibrated
- Contrast: Normal
- CreateDate: 2011:08:07 12:04:27
- CustomRendered: Normal
- DateTimeOriginal: 2011:08:07 12:04:27
- DigitalZoomRatio: 1
- ExifImageHeight: 2832
- ExifImageWidth: 4256
- ExposureCompensation: 0
- ExposureMode: Auto
- ExposureProgram: Aperture-priority AE
- ExposureTime: 1/400
- FNumber: 8,0
- Flash: No Flash
- FocalLength: 35,0 mm
- FocalLengthIn35mmFormat: 35 mm
- GainControl: None
- ISO: 200
- LensInfo: 35mm f/2
- LensModel: Zeiss Distagon T* 2/35 ZF.2
- LightSource: Unknown
- MaxApertureValue: 2,0
- MeteringMode: Multi-segment
- Saturation: Normal
- SceneCaptureType: Standard
- SceneType: Directly photographed
- SensingMethod: One-chip color area
- SerialNumber: 2273997
- Sharpness: Normal
- ShutterSpeedValue: 1/400
- SubjectDistanceRange: Unknown
- WhiteBalance: Auto
- ICC-header
- IFD0
- Artist: Shipilov Nikolay
- Copyright: Shipilov Nikolay
- Make: NIKON CORPORATION
- Model: NIKON D700
- ModifyDate: 2012:02:05 20:05:44
- Orientation: Horizontal (normal)
- IFD1
- IPTC
- By-line: Shipilov Nikolay
- CopyrightNotice: Shipilov Nikolay
- DateCreated: 2011:08:07
- System
- XMP-aux
- ImageNumber: 3098
- Lens: Zeiss Distagon T* 2/35 ZF.2
- XMP-crs
- AlreadyApplied: True
- BlueHue: 0
- BlueSaturation: 0
- Brightness: 0
- ChromaticAberrationB: 0
- ChromaticAberrationR: 0
- Clarity: +16
- ColorNoiseReduction: 25
- ColorNoiseReductionDetail: 50
- Contrast: +26
- ConvertToGrayscale: False
- Defringe: 0
- Exposure: -0.05
- FillLight: 9
- GrainAmount: 0
- GreenHue: 0
- GreenSaturation: 0
- HasCrop: False
- HasSettings: True
- HighlightRecovery: 36
- HueAdjustmentAqua: 0
- HueAdjustmentBlue: 0
- HueAdjustmentGreen: 0
- HueAdjustmentMagenta: 0
- HueAdjustmentOrange: 0
- HueAdjustmentPurple: 0
- HueAdjustmentRed: 0
- HueAdjustmentYellow: 0
- LensManualDistortionAmount: 0
- LensProfileEnable: 0
- LensProfileSetup: LensDefaults
- LuminanceAdjustmentAqua: -1
- LuminanceAdjustmentBlue: -14
- LuminanceAdjustmentGreen: 0
- LuminanceAdjustmentMagenta: 0
- LuminanceAdjustmentOrange: 0
- LuminanceAdjustmentPurple: 0
- LuminanceAdjustmentRed: 0
- LuminanceAdjustmentYellow: 0
- LuminanceSmoothing: 0
- ParametricDarks: 0
- ParametricHighlightSplit: 75
- ParametricHighlights: 0
- ParametricLights: 0
- ParametricMidtoneSplit: 50
- ParametricShadowSplit: 25
- ParametricShadows: 0
- PerspectiveHorizontal: 0
- PerspectiveRotate: 0.0
- PerspectiveScale: 100
- PerspectiveVertical: 0
- PostCropVignetteAmount: 0
- ProcessVersion: 5.7
- RawFileName: _DSC2808.NEF
- RedHue: 0
- RedSaturation: 0
- Saturation: -8
- SaturationAdjustmentAqua: +5
- SaturationAdjustmentBlue: +40
- SaturationAdjustmentGreen: 0
- SaturationAdjustmentMagenta: 0
- SaturationAdjustmentOrange: 0
- SaturationAdjustmentPurple: 0
- SaturationAdjustmentRed: 0
- SaturationAdjustmentYellow: 0
- ShadowTint: 0
- Shadows: 5
- SharpenDetail: 25
- SharpenEdgeMasking: 0
- SharpenRadius: +1.0
- Sharpness: 25
- SplitToningBalance: 0
- SplitToningHighlightHue: 0
- SplitToningHighlightSaturation: 0
- SplitToningShadowHue: 0
- SplitToningShadowSaturation: 0
- Temperature: 5800
- Tint: +3
- ToneCurve: 0, 0, 32, 22, 64, 56, 128, 128, 192, 196, 255, 255
- ToneCurveName: Medium Contrast
- Version: 6.6
- Vibrance: +10
- VignetteAmount: 0
- WhiteBalance: As Shot
- XMP-dc
- Creator: Shipilov Nikolay, Шипилов Николай
- Format: image/jpeg
- Rights: Shipilov Nikolay
- XMP-iptcCore
- CreatorCity: Санкт-Петербург
- CreatorCountry: Р РѕСЃСЃРёСЏ
- CreatorWorkEmail: mazur6@gmail.com
- XMP-xmp
- CreateDate: 2011:08:07 12:04:27.08
- CreatorTool: Ver.1.02
- ModifyDate: 2012:02:05 20:05:44+04:00
- Rating: 0
- XMP-xmpMM
- XMP-xmpRights